Workbook

Sheet 시험지 출력
A2: 제 13회 몽골 전국 한국어 경시대회
A3: № | B3: s_school | C3: Нийт | D3: 초급부 | E3: 초등부 | F3: 중등부 | G3: 고등부 | H3: 유학 중등부 | I3: 유학 고등부
A4: 1 | B4: 18-р сургууль | C4: =SUM(D4:I4) -> 69 | D4: =IF(COUNTIFS(t_user_room_list!$E:$E,'시험지 출력'!$B4,t_user_room_list!$C:$C,'시험지 출력'!D$3)=0,"",COUNTIFS(t_user_room_list!$E:$E,'시험지 출력'!$B4,t_user_room_list!$C:$C,'시험지 출력'!D$3)) -> 9 | E4: =IF(COUNTIFS(t_user_room_list!$E:$E,'시험지 출력'!$B4,t_user_room_list!$C:$C,'시험지 출력'!E$3)=0,"",COUNTIFS(t_user_room_list!$E:$E,'시험지 출력'!$B4,t_user_room_list!$C:$C,'시험지 출력'!E$3)) -> 16 | F4: =IF(COUNTIFS(t_user_room_list!$E:$E,'시험지 출력'!$B4,t_user_room_list!$C:$C,'시험지 출력'!F$3)=0,"",COUNTIFS(t_user_room_list!$E:$E,'시험지 출력'!$B4,t_user_room_list!$C:$C,'시험지 출력'!F$3)) -> 15 | G4: =IF(COUNTIFS(t_user_room_list!$E:$E,'시험지 출력'!$B4,t_user_room_list!$C:$C,'시험지 출력'!G$3)=0,"",COUNTIFS(t_user_room_list!$E:$E,'시험지 출력'!$B4,t_user_room_list!$C:$C,'시험지 출력'!G$3)) -> 13 | H4: =IF(COUNTIFS(t_user_room_list!$E:$E,'시험지 출력'!$B4,t_user_room_list!$C:$C,'시험지 출력'!H$3)=0,"",COUNTIFS(t_user_room_list!$E:$E,'시험지 출력'!$B4,t_user_room_list!$C:$C,'시험지 출력'!H$3)) -> 10 | I4: =IF(COUNTIFS(t_user_room_list!$E:$E,'시험지 출력'!$B4,t_user_room_list!$C:$C,'시험지 출력'!I$3)=0,"",COUNTIFS(t_user_room_list!$E:$E,'시험지 출력'!$B4,t_user_room_list!$C:$C,'시험지 출력'!I$3)) -> 6
A5: 2 | B5: 1-р сургууль | C5: =SUM(D5:I5) -> 1 | D5: =IF(COUNTIFS(t_user_room_list!$E:$E,'시험지 출력'!$B5,t_user_room_list!$C:$C,'시험지 출력'!D$3)=0,"",COUNTIFS(t_user_room_list!$E:$E,'시험지 출력'!$B5,t_user_room_list!$C:$C,'시험지 출력'!D$3)) | E5: =IF(COUNTIFS(t_user_room_list!$E:$E,'시험지 출력'!$B5,t_user_room_list!$C:$C,'시험지 출력'!E$3)=0,"",COUNTIFS(t_user_room_list!$E:$E,'시험지 출력'!$B5,t_user_room_list!$C:$C,'시험지 출력'!E$3)) | F5: =IF(COUNTIFS(t_user_room_list!$E:$E,'시험지 출력'!$B5,t_user_room_list!$C:$C,'시험지 출력'!F$3)=0,"",COUNTIFS(t_user_room_list!$E:$E,'시험지 출력'!$B5,t_user_room_list!$C:$C,'시험지 출력'!F$3)) | G5: =IF(COUNTIFS(t_user_room_list!$E:$E,'시험지 출력'!$B5,t_user_room_list!$C:$C,'시험지 출력'!G$3)=0,"",COUNTIFS(t_user_room_list!$E:$E,'시험지 출력'!$B5,t_user_room_list!$C:$C,'시험지 출력'!G$3)) | H5: =IF(COUNTIFS(t_user_room_list!$E:$E,'시험지 출력'!$B5,t_user_room_list!$C:$C,'시험지 출력'!H$3)=0,"",COUNTIFS(t_user_room_list!$E:$E,'시험지 출력'!$B5,t_user_room_list!$C:$C,'시험지 출력'!H$3)) -> 1 | I5: =IF(COUNTIFS(t_user_room_list!$E:$E,'시험지 출력'!$B5,t_user_room_list!$C:$C,'시험지 출력'!I$3)=0,"",COUNTIFS(t_user_room_list!$E:$E,'시험지 출력'!$B5,t_user_room_list!$C:$C,'시험지 출력'!I$3))
A6: 3 | B6: 23-р сургууль | C6: =SUM(D6:I6) -> 156 | D6: =IF(COUNTIFS(t_user_room_list!$E:$E,'시험지 출력'!$B6,t_user_room_list!$C:$C,'시험지 출력'!D$3)=0,"",COUNTIFS(t_user_room_list!$E:$E,'시험지 출력'!$B6,t_user_room_list!$C:$C,'시험지 출력'!D$3)) -> 26 | E6: =IF(COUNTIFS(t_user_room_list!$E:$E,'시험지 출력'!$B6,t_user_room_list!$C:$C,'시험지 출력'!E$3)=0,"",COUNTIFS(t_user_room_list!$E:$E,'시험지 출력'!$B6,t_user_room_list!$C:$C,'시험지 출력'!E$3)) -> 13 | F6: =IF(COUNTIFS(t_user_room_list!$E:$E,'시험지 출력'!$B6,t_user_room_list!$C:$C,'시험지 출력'!F$3)=0,"",COUNTIFS(t_user_room_list!$E:$E,'시험지 출력'!$B6,t_user_room_list!$C:$C,'시험지 출력'!F$3)) -> 31 | G6: =IF(COUNTIFS(t_user_room_list!$E:$E,'시험지 출력'!$B6,t_user_room_list!$C:$C,'시험지 출력'!G$3)=0,"",COUNTIFS(t_user_room_list!$E:$E,'시험지 출력'!$B6,t_user_room_list!$C:$C,'시험지 출력'!G$3)) -> 52 | H6: =IF(COUNTIFS(t_user_room_list!$E:$E,'시험지 출력'!$B6,t_user_room_list!$C:$C,'시험지 출력'!H$3)=0,"",COUNTIFS(t_user_room_list!$E:$E,'시험지 출력'!$B6,t_user_room_list!$C:$C,'시험지 출력'!H$3)) -> 16 | I6: =IF(COUNTIFS(t_user_room_list!$E:$E,'시험지 출력'!$B6,t_user_room_list!$C:$C,'시험지 출력'!I$3)=0,"",COUNTIFS(t_user_room_list!$E:$E,'시험지 출력'!$B6,t_user_room_list!$C:$C,'시험지 출력'!I$3)) -> 18
A7: 4 | B7: 34-сургууль | C7: =SUM(D7:I7) -> 1 | D7: =IF(COUNTIFS(t_user_room_list!$E:$E,'시험지 출력'!$B7,t_user_room_list!$C:$C,'시험지 출력'!D$3)=0,"",COUNTIFS(t_user_room_list!$E:$E,'시험지 출력'!$B7,t_user_room_list!$C:$C,'시험지 출력'!D$3)) | E7: =IF(COUNTIFS(t_user_room_list!$E:$E,'시험지 출력'!$B7,t_user_room_list!$C:$C,'시험지 출력'!E$3)=0,"",COUNTIFS(t_user_room_list!$E:$E,'시험지 출력'!$B7,t_user_room_list!$C:$C,'시험지 출력'!E$3)) | F7: =IF(COUNTIFS(t_user_room_list!$E:$E,'시험지 출력'!$B7,t_user_room_list!$C:$C,'시험지 출력'!F$3)=0,"",COUNTIFS(t_user_room_list!$E:$E,'시험지 출력'!$B7,t_user_room_list!$C:$C,'시험지 출력'!F$3)) | G7: =IF(COUNTIFS(t_user_room_list!$E:$E,'시험지 출력'!$B7,t_user_room_list!$C:$C,'시험지 출력'!G$3)=0,"",COUNTIFS(t_user_room_list!$E:$E,'시험지 출력'!$B7,t_user_room_list!$C:$C,'시험지 출력'!G$3)) -> 1 | H7: =IF(COUNTIFS(t_user_room_list!$E:$E,'시험지 출력'!$B7,t_user_room_list!$C:$C,'시험지 출력'!H$3)=0,"",COUNTIFS(t_user_room_list!$E:$E,'시험지 출력'!$B7,t_user_room_list!$C:$C,'시험지 출력'!H$3)) | I7: =IF(COUNTIFS(t_user_room_list!$E:$E,'시험지 출력'!$B7,t_user_room_list!$C:$C,'시험지 출력'!I$3)=0,"",COUNTIFS(t_user_room_list!$E:$E,'시험지 출력'!$B7,t_user_room_list!$C:$C,'시험지 출력'!I$3))
A8: 5 | B8: 39-р сургууль | C8: =SUM(D8:I8) -> 4 | D8: =IF(COUNTIFS(t_user_room_list!$E:$E,'시험지 출력'!$B8,t_user_room_list!$C:$C,'시험지 출력'!D$3)=0,"",COUNTIFS(t_user_room_list!$E:$E,'시험지 출력'!$B8,t_user_room_list!$C:$C,'시험지 출력'!D$3)) -> 4 | E8: =IF(COUNTIFS(t_user_room_list!$E:$E,'시험지 출력'!$B8,t_user_room_list!$C:$C,'시험지 출력'!E$3)=0,"",COUNTIFS(t_user_room_list!$E:$E,'시험지 출력'!$B8,t_user_room_list!$C:$C,'시험지 출력'!E$3)) | F8: =IF(COUNTIFS(t_user_room_list!$E:$E,'시험지 출력'!$B8,t_user_room_list!$C:$C,'시험지 출력'!F$3)=0,"",COUNTIFS(t_user_room_list!$E:$E,'시험지 출력'!$B8,t_user_room_list!$C:$C,'시험지 출력'!F$3)) | G8: =IF(COUNTIFS(t_user_room_list!$E:$E,'시험지 출력'!$B8,t_user_room_list!$C:$C,'시험지 출력'!G$3)=0,"",COUNTIFS(t_user_room_list!$E:$E,'시험지 출력'!$B8,t_user_room_list!$C:$C,'시험지 출력'!G$3)) | H8: =IF(COUNTIFS(t_user_room_list!$E:$E,'시험지 출력'!$B8,t_user_room_list!$C:$C,'시험지 출력'!H$3)=0,"",COUNTIFS(t_user_room_list!$E:$E,'시험지 출력'!$B8,t_user_room_list!$C:$C,'시험지 출력'!H$3)) | I8: =IF(COUNTIFS(t_user_room_list!$E:$E,'시험지 출력'!$B8,t_user_room_list!$C:$C,'시험지 출력'!I$3)=0,"",COUNTIFS(t_user_room_list!$E:$E,'시험지 출력'!$B8,t_user_room_list!$C:$C,'시험지 출력'!I$3))
A9: 6 | B9: 52-р сургууль | C9: =SUM(D9:I9) -> 8 | D9: =IF(COUNTIFS(t_user_room_list!$E:$E,'시험지 출력'!$B9,t_user_room_list!$C:$C,'시험지 출력'!D$3)=0,"",COUNTIFS(t_user_room_list!$E:$E,'시험지 출력'!$B9,t_user_room_list!$C:$C,'시험지 출력'!D$3)) -> 7 | E9: =IF(COUNTIFS(t_user_room_list!$E:$E,'시험지 출력'!$B9,t_user_room_list!$C:$C,'시험지 출력'!E$3)=0,"",COUNTIFS(t_user_room_list!$E:$E,'시험지 출력'!$B9,t_user_room_list!$C:$C,'시험지 출력'!E$3)) | F9: =IF(COUNTIFS(t_user_room_list!$E:$E,'시험지 출력'!$B9,t_user_room_list!$C:$C,'시험지 출력'!F$3)=0,"",COUNTIFS(t_user_room_list!$E:$E,'시험지 출력'!$B9,t_user_room_list!$C:$C,'시험지 출력'!F$3)) | G9: =IF(COUNTIFS(t_user_room_list!$E:$E,'시험지 출력'!$B9,t_user_room_list!$C:$C,'시험지 출력'!G$3)=0,"",COUNTIFS(t_user_room_list!$E:$E,'시험지 출력'!$B9,t_user_room_list!$C:$C,'시험지 출력'!G$3)) | H9: =IF(COUNTIFS(t_user_room_list!$E:$E,'시험지 출력'!$B9,t_user_room_list!$C:$C,'시험지 출력'!H$3)=0,"",COUNTIFS(t_user_room_list!$E:$E,'시험지 출력'!$B9,t_user_room_list!$C:$C,'시험지 출력'!H$3)) -> 1 | I9: =IF(COUNTIFS(t_user_room_list!$E:$E,'시험지 출력'!$B9,t_user_room_list!$C:$C,'시험지 출력'!I$3)=0,"",COUNTIFS(t_user_room_list!$E:$E,'시험지 출력'!$B9,t_user_room_list!$C:$C,'시험지 출력'!I$3))
A10: 7 | B10: 77-р сургууль | C10: =SUM(D10:I10) -> 1 | D10: =IF(COUNTIFS(t_user_room_list!$E:$E,'시험지 출력'!$B10,t_user_room_list!$C:$C,'시험지 출력'!D$3)=0,"",COUNTIFS(t_user_room_list!$E:$E,'시험지 출력'!$B10,t_user_room_list!$C:$C,'시험지 출력'!D$3)) | E10: =IF(COUNTIFS(t_user_room_list!$E:$E,'시험지 출력'!$B10,t_user_room_list!$C:$C,'시험지 출력'!E$3)=0,"",COUNTIFS(t_user_room_list!$E:$E,'시험지 출력'!$B10,t_user_room_list!$C:$C,'시험지 출력'!E$3)) | F10: =IF(COUNTIFS(t_user_room_list!$E:$E,'시험지 출력'!$B10,t_user_room_list!$C:$C,'시험지 출력'!F$3)=0,"",COUNTIFS(t_user_room_list!$E:$E,'시험지 출력'!$B10,t_user_room_list!$C:$C,'시험지 출력'!F$3)) | G10: =IF(COUNTIFS(t_user_room_list!$E:$E,'시험지 출력'!$B10,t_user_room_list!$C:$C,'시험지 출력'!G$3)=0,"",COUNTIFS(t_user_room_list!$E:$E,'시험지 출력'!$B10,t_user_room_list!$C:$C,'시험지 출력'!G$3)) | H10: =IF(COUNTIFS(t_user_room_list!$E:$E,'시험지 출력'!$B10,t_user_room_list!$C:$C,'시험지 출력'!H$3)=0,"",COUNTIFS(t_user_room_list!$E:$E,'시험지 출력'!$B10,t_user_room_list!$C:$C,'시험지 출력'!H$3)) | I10: =IF(COUNTIFS(t_user_room_list!$E:$E,'시험지 출력'!$B10,t_user_room_list!$C:$C,'시험지 출력'!I$3)=0,"",COUNTIFS(t_user_room_list!$E:$E,'시험지 출력'!$B10,t_user_room_list!$C:$C,'시험지 출력'!I$3)) -> 1
A11: 8 | B11: буянт-ухаа цогцолбор сургууль | C11: =SUM(D11:I11) -> 29 | D11: =IF(COUNTIFS(t_user_room_list!$E:$E,'시험지 출력'!$B11,t_user_room_list!$C:$C,'시험지 출력'!D$3)=0,"",COUNTIFS(t_user_room_list!$E:$E,'시험지 출력'!$B11,t_user_room_list!$C:$C,'시험지 출력'!D$3)) -> 6 | E11: =IF(COUNTIFS(t_user_room_list!$E:$E,'시험지 출력'!$B11,t_user_room_list!$C:$C,'시험지 출력'!E$3)=0,"",COUNTIFS(t_user_room_list!$E:$E,'시험지 출력'!$B11,t_user_room_list!$C:$C,'시험지 출력'!E$3)) | F11: =IF(COUNTIFS(t_user_room_list!$E:$E,'시험지 출력'!$B11,t_user_room_list!$C:$C,'시험지 출력'!F$3)=0,"",COUNTIFS(t_user_room_list!$E:$E,'시험지 출력'!$B11,t_user_room_list!$C:$C,'시험지 출력'!F$3)) -> 16 | G11: =IF(COUNTIFS(t_user_room_list!$E:$E,'시험지 출력'!$B11,t_user_room_list!$C:$C,'시험지 출력'!G$3)=0,"",COUNTIFS(t_user_room_list!$E:$E,'시험지 출력'!$B11,t_user_room_list!$C:$C,'시험지 출력'!G$3)) -> 7 | H11: =IF(COUNTIFS(t_user_room_list!$E:$E,'시험지 출력'!$B11,t_user_room_list!$C:$C,'시험지 출력'!H$3)=0,"",COUNTIFS(t_user_room_list!$E:$E,'시험지 출력'!$B11,t_user_room_list!$C:$C,'시험지 출력'!H$3)) | I11: =IF(COUNTIFS(t_user_room_list!$E:$E,'시험지 출력'!$B11,t_user_room_list!$C:$C,'시험지 출력'!I$3)=0,"",COUNTIFS(t_user_room_list!$E:$E,'시험지 출력'!$B11,t_user_room_list!$C:$C,'시험지 출력'!I$3))
A12: 9 | B12: Гэрэлт Ирээдүй бүрэн дунд сургууль | C12: =SUM(D12:I12) -> 30 | D12: =IF(COUNTIFS(t_user_room_list!$E:$E,'시험지 출력'!$B12,t_user_room_list!$C:$C,'시험지 출력'!D$3)=0,"",COUNTIFS(t_user_room_list!$E:$E,'시험지 출력'!$B12,t_user_room_list!$C:$C,'시험지 출력'!D$3)) -> 1 | E12: =IF(COUNTIFS(t_user_room_list!$E:$E,'시험지 출력'!$B12,t_user_room_list!$C:$C,'시험지 출력'!E$3)=0,"",COUNTIFS(t_user_room_list!$E:$E,'시험지 출력'!$B12,t_user_room_list!$C:$C,'시험지 출력'!E$3)) -> 7 | F12: =IF(COUNTIFS(t_user_room_list!$E:$E,'시험지 출력'!$B12,t_user_room_list!$C:$C,'시험지 출력'!F$3)=0,"",COUNTIFS(t_user_room_list!$E:$E,'시험지 출력'!$B12,t_user_room_list!$C:$C,'시험지 출력'!F$3)) -> 8 | G12: =IF(COUNTIFS(t_user_room_list!$E:$E,'시험지 출력'!$B12,t_user_room_list!$C:$C,'시험지 출력'!G$3)=0,"",COUNTIFS(t_user_room_list!$E:$E,'시험지 출력'!$B12,t_user_room_list!$C:$C,'시험지 출력'!G$3)) -> 10 | H12: =IF(COUNTIFS(t_user_room_list!$E:$E,'시험지 출력'!$B12,t_user_room_list!$C:$C,'시험지 출력'!H$3)=0,"",COUNTIFS(t_user_room_list!$E:$E,'시험지 출력'!$B12,t_user_room_list!$C:$C,'시험지 출력'!H$3)) -> 3 | I12: =IF(COUNTIFS(t_user_room_list!$E:$E,'시험지 출력'!$B12,t_user_room_list!$C:$C,'시험지 출력'!I$3)=0,"",COUNTIFS(t_user_room_list!$E:$E,'시험지 출력'!$B12,t_user_room_list!$C:$C,'시험지 출력'!I$3)) -> 1
A13: 10 | B13: Монгени Цогцолбор сургууль | C13: =SUM(D13:I13) -> 17 | D13: =IF(COUNTIFS(t_user_room_list!$E:$E,'시험지 출력'!$B13,t_user_room_list!$C:$C,'시험지 출력'!D$3)=0,"",COUNTIFS(t_user_room_list!$E:$E,'시험지 출력'!$B13,t_user_room_list!$C:$C,'시험지 출력'!D$3)) | E13: =IF(COUNTIFS(t_user_room_list!$E:$E,'시험지 출력'!$B13,t_user_room_list!$C:$C,'시험지 출력'!E$3)=0,"",COUNTIFS(t_user_room_list!$E:$E,'시험지 출력'!$B13,t_user_room_list!$C:$C,'시험지 출력'!E$3)) -> 2 | F13: =IF(COUNTIFS(t_user_room_list!$E:$E,'시험지 출력'!$B13,t_user_room_list!$C:$C,'시험지 출력'!F$3)=0,"",COUNTIFS(t_user_room_list!$E:$E,'시험지 출력'!$B13,t_user_room_list!$C:$C,'시험지 출력'!F$3)) -> 4 | G13: =IF(COUNTIFS(t_user_room_list!$E:$E,'시험지 출력'!$B13,t_user_room_list!$C:$C,'시험지 출력'!G$3)=0,"",COUNTIFS(t_user_room_list!$E:$E,'시험지 출력'!$B13,t_user_room_list!$C:$C,'시험지 출력'!G$3)) -> 3 | H13: =IF(COUNTIFS(t_user_room_list!$E:$E,'시험지 출력'!$B13,t_user_room_list!$C:$C,'시험지 출력'!H$3)=0,"",COUNTIFS(t_user_room_list!$E:$E,'시험지 출력'!$B13,t_user_room_list!$C:$C,'시험지 출력'!H$3)) -> 4 | I13: =IF(COUNTIFS(t_user_room_list!$E:$E,'시험지 출력'!$B13,t_user_room_list!$C:$C,'시험지 출력'!I$3)=0,"",COUNTIFS(t_user_room_list!$E:$E,'시험지 출력'!$B13,t_user_room_list!$C:$C,'시험지 출력'!I$3)) -> 4
A14: 11 | B14: Монгол оюу сургууль | C14: =SUM(D14:I14) -> 8 | D14: =IF(COUNTIFS(t_user_room_list!$E:$E,'시험지 출력'!$B14,t_user_room_list!$C:$C,'시험지 출력'!D$3)=0,"",COUNTIFS(t_user_room_list!$E:$E,'시험지 출력'!$B14,t_user_room_list!$C:$C,'시험지 출력'!D$3)) -> 8 | E14: =IF(COUNTIFS(t_user_room_list!$E:$E,'시험지 출력'!$B14,t_user_room_list!$C:$C,'시험지 출력'!E$3)=0,"",COUNTIFS(t_user_room_list!$E:$E,'시험지 출력'!$B14,t_user_room_list!$C:$C,'시험지 출력'!E$3)) | F14: =IF(COUNTIFS(t_user_room_list!$E:$E,'시험지 출력'!$B14,t_user_room_list!$C:$C,'시험지 출력'!F$3)=0,"",COUNTIFS(t_user_room_list!$E:$E,'시험지 출력'!$B14,t_user_room_list!$C:$C,'시험지 출력'!F$3)) | G14: =IF(COUNTIFS(t_user_room_list!$E:$E,'시험지 출력'!$B14,t_user_room_list!$C:$C,'시험지 출력'!G$3)=0,"",COUNTIFS(t_user_room_list!$E:$E,'시험지 출력'!$B14,t_user_room_list!$C:$C,'시험지 출력'!G$3)) | H14: =IF(COUNTIFS(t_user_room_list!$E:$E,'시험지 출력'!$B14,t_user_room_list!$C:$C,'시험지 출력'!H$3)=0,"",COUNTIFS(t_user_room_list!$E:$E,'시험지 출력'!$B14,t_user_room_list!$C:$C,'시험지 출력'!H$3)) | I14: =IF(COUNTIFS(t_user_room_list!$E:$E,'시험지 출력'!$B14,t_user_room_list!$C:$C,'시험지 출력'!I$3)=0,"",COUNTIFS(t_user_room_list!$E:$E,'시험지 출력'!$B14,t_user_room_list!$C:$C,'시험지 출력'!I$3))
A15: 12 | B15: НЕБ Улаанбаатар сургууль | C15: =SUM(D15:I15) -> 78 | D15: =IF(COUNTIFS(t_user_room_list!$E:$E,'시험지 출력'!$B15,t_user_room_list!$C:$C,'시험지 출력'!D$3)=0,"",COUNTIFS(t_user_room_list!$E:$E,'시험지 출력'!$B15,t_user_room_list!$C:$C,'시험지 출력'!D$3)) | E15: =IF(COUNTIFS(t_user_room_list!$E:$E,'시험지 출력'!$B15,t_user_room_list!$C:$C,'시험지 출력'!E$3)=0,"",COUNTIFS(t_user_room_list!$E:$E,'시험지 출력'!$B15,t_user_room_list!$C:$C,'시험지 출력'!E$3)) -> 37 | F15: =IF(COUNTIFS(t_user_room_list!$E:$E,'시험지 출력'!$B15,t_user_room_list!$C:$C,'시험지 출력'!F$3)=0,"",COUNTIFS(t_user_room_list!$E:$E,'시험지 출력'!$B15,t_user_room_list!$C:$C,'시험지 출력'!F$3)) -> 8 | G15: =IF(COUNTIFS(t_user_room_list!$E:$E,'시험지 출력'!$B15,t_user_room_list!$C:$C,'시험지 출력'!G$3)=0,"",COUNTIFS(t_user_room_list!$E:$E,'시험지 출력'!$B15,t_user_room_list!$C:$C,'시험지 출력'!G$3)) -> 11 | H15: =IF(COUNTIFS(t_user_room_list!$E:$E,'시험지 출력'!$B15,t_user_room_list!$C:$C,'시험지 출력'!H$3)=0,"",COUNTIFS(t_user_room_list!$E:$E,'시험지 출력'!$B15,t_user_room_list!$C:$C,'시험지 출력'!H$3)) -> 10 | I15: =IF(COUNTIFS(t_user_room_list!$E:$E,'시험지 출력'!$B15,t_user_room_list!$C:$C,'시험지 출력'!I$3)=0,"",COUNTIFS(t_user_room_list!$E:$E,'시험지 출력'!$B15,t_user_room_list!$C:$C,'시험지 출력'!I$3)) -> 12
... A19: 16 | B19: Хүрээ тулга | C19: =SUM(D19:I19) -> 33 | D19: =IF(COUNTIFS(t_user_room_list!$E:$E,'시험지 출력'!$B19,t_user_room_list!$C:$C,'시험지 출력'!D$3)=0,"",COUNTIFS(t_user_room_list!$E:$E,'시험지 출력'!$B19,t_user_room_list!$C:$C,'시험지 출력'!D$3)) -> 9 | E19: =IF(COUNTIFS(t_user_room_list!$E:$E,'시험지 출력'!$B19,t_user_room_list!$C:$C,'시험지 출력'!E$3)=0,"",COUNTIFS(t_user_room_list!$E:$E,'시험지 출력'!$B19,t_user_room_list!$C:$C,'시험지 출력'!E$3)) | F19: =IF(COUNTIFS(t_user_room_list!$E:$E,'시험지 출력'!$B19,t_user_room_list!$C:$C,'시험지 출력'!F$3)=0,"",COUNTIFS(t_user_room_list!$E:$E,'시험지 출력'!$B19,t_user_room_list!$C:$C,'시험지 출력'!F$3)) -> 5 | G19: =IF(COUNTIFS(t_user_room_list!$E:$E,'시험지 출력'!$B19,t_user_room_list!$C:$C,'시험지 출력'!G$3)=0,"",COUNTIFS(t_user_room_list!$E:$E,'시험지 출력'!$B19,t_user_room_list!$C:$C,'시험지 출력'!G$3)) -> 8 | H19: =IF(COUNTIFS(t_user_room_list!$E:$E,'시험지 출력'!$B19,t_user_room_list!$C:$C,'시험지 출력'!H$3)=0,"",COUNTIFS(t_user_room_list!$E:$E,'시험지 출력'!$B19,t_user_room_list!$C:$C,'시험지 출력'!H$3)) -> 5 | I19: =IF(COUNTIFS(t_user_room_list!$E:$E,'시험지 출력'!$B19,t_user_room_list!$C:$C,'시험지 출력'!I$3)=0,"",COUNTIFS(t_user_room_list!$E:$E,'시험지 출력'!$B19,t_user_room_list!$C:$C,'시험지 출력'!I$3)) -> 6
A20: НИЙТ | C20: =SUM(C4:C19) -> 451 | D20: =SUM(D4:D19) -> 76 | E20: =SUM(E4:E19) -> 75 | F20: =SUM(F4:F19) -> 95 | G20: =SUM(G4:G19) -> 105 | H20: =SUM(H4:H19) -> 50 | I20: =SUM(I4:I19) -> 50
J21: 초급부 | K21: 초급부 | L21: 초등부 | M21: 초등부 | N21: 중등부 | O21: 중등부 | P21: 고등부 | Q21: 고등부 | R21: 유학 중등부 | S21: 유학 중등부 | T21: 유학 고등부 | U21: 유학 고등부
A22: № | B22: s_room | C22: Нийт | D22: 초급부 | E22: 초등부 | F22: 중등부 | G22: 고등부 | H22: 유학 중등부 | I22: 유학 고등부 | J22: A | K22: B | L22: A | M22: B | N22: A | O22: B | P22: A | Q22: B | R22: A | S22: B | T22: A | U22: B
A23: 1 | B23: 106 | C23: =SUM(D23:I23) -> 19 | D23: =IFERROR(IF(COUNTIFS(t_user_room_list!$I:$I,'시험지 출력'!$B23,t_user_room_list!$C:$C,'시험지 출력'!D$22)=0,"",COUNTIFS(t_user_room_list!$I:$I,'시험지 출력'!$B23,t_user_room_list!$C:$C,'시험지 출력'!D$22)),"") | E23: =IFERROR(IF(COUNTIFS(t_user_room_list!$I:$I,'시험지 출력'!$B23,t_user_room_list!$C:$C,'시험지 출력'!E$22)=0,"",COUNTIFS(t_user_room_list!$I:$I,'시험지 출력'!$B23,t_user_room_list!$C:$C,'시험지 출력'!E$22)),"") | F23: =IFERROR(IF(COUNTIFS(t_user_room_list!$I:$I,'시험지 출력'!$B23,t_user_room_list!$C:$C,'시험지 출력'!F$22)=0,"",COUNTIFS(t_user_room_list!$I:$I,'시험지 출력'!$B23,t_user_room_list!$C:$C,'시험지 출력'!F$22)),"") | G23: =IFERROR(IF(COUNTIFS(t_user_room_list!$I:$I,'시험지 출력'!$B23,t_user_room_list!$C:$C,'시험지 출력'!G$22)=0,"",COUNTIFS(t_user_room_list!$I:$I,'시험지 출력'!$B23,t_user_room_list!$C:$C,'시험지 출력'!G$22)),"") | H23: =IFERROR(IF(COUNTIFS(t_user_room_list!$I:$I,'시험지 출력'!$B23,t_user_room_list!$C:$C,'시험지 출력'!H$22)=0,"",COUNTIFS(t_user_room_list!$I:$I,'시험지 출력'!$B23,t_user_room_list!$C:$C,'시험지 출력'!H$22)),"") -> 19 | I23: =IFERROR(IF(COUNTIFS(t_user_room_list!$I:$I,'시험지 출력'!$B23,t_user_room_list!$C:$C,'시험지 출력'!I$22)=0,"",COUNTIFS(t_user_room_list!$I:$I,'시험지 출력'!$B23,t_user_room_list!$C:$C,'시험지 출력'!I$22)),"") | R23: 11 | S23: 10
A24: 2 | B24: 107 | C24: =SUM(D24:I24) -> 19 | D24: =IFERROR(IF(COUNTIFS(t_user_room_list!$I:$I,'시험지 출력'!$B24,t_user_room_list!$C:$C,'시험지 출력'!D$22)=0,"",COUNTIFS(t_user_room_list!$I:$I,'시험지 출력'!$B24,t_user_room_list!$C:$C,'시험지 출력'!D$22)),"") | E24: =IFERROR(IF(COUNTIFS(t_user_room_list!$I:$I,'시험지 출력'!$B24,t_user_room_list!$C:$C,'시험지 출력'!E$22)=0,"",COUNTIFS(t_user_room_list!$I:$I,'시험지 출력'!$B24,t_user_room_list!$C:$C,'시험지 출력'!E$22)),"") | F24: =IFERROR(IF(COUNTIFS(t_user_room_list!$I:$I,'시험지 출력'!$B24,t_user_room_list!$C:$C,'시험지 출력'!F$22)=0,"",COUNTIFS(t_user_room_list!$I:$I,'시험지 출력'!$B24,t_user_room_list!$C:$C,'시험지 출력'!F$22)),"") | G24: =IFERROR(IF(COUNTIFS(t_user_room_list!$I:$I,'시험지 출력'!$B24,t_user_room_list!$C:$C,'시험지 출력'!G$22)=0,"",COUNTIFS(t_user_room_list!$I:$I,'시험지 출력'!$B24,t_user_room_list!$C:$C,'시험지 출력'!G$22)),"") | H24: =IFERROR(IF(COUNTIFS(t_user_room_list!$I:$I,'시험지 출력'!$B24,t_user_room_list!$C:$C,'시험지 출력'!H$22)=0,"",COUNTIFS(t_user_room_list!$I:$I,'시험지 출력'!$B24,t_user_room_list!$C:$C,'시험지 출력'!H$22)),"") -> 19 | I24: =IFERROR(IF(COUNTIFS(t_user_room_list!$I:$I,'시험지 출력'!$B24,t_user_room_list!$C:$C,'시험지 출력'!I$22)=0,"",COUNTIFS(t_user_room_list!$I:$I,'시험지 출력'!$B24,t_user_room_list!$C:$C,'시험지 출력'!I$22)),"") | R24: 11 | S24: 10
A25: 3 | B25: 201 | C25: =SUM(D25:I25) -> 20 | D25: =IFERROR(IF(COUNTIFS(t_user_room_list!$I:$I,'시험지 출력'!$B25,t_user_room_list!$C:$C,'시험지 출력'!D$22)=0,"",COUNTIFS(t_user_room_list!$I:$I,'시험지 출력'!$B25,t_user_room_list!$C:$C,'시험지 출력'!D$22)),"") -> 20 | E25: =IFERROR(IF(COUNTIFS(t_user_room_list!$I:$I,'시험지 출력'!$B25,t_user_room_list!$C:$C,'시험지 출력'!E$22)=0,"",COUNTIFS(t_user_room_list!$I:$I,'시험지 출력'!$B25,t_user_room_list!$C:$C,'시험지 출력'!E$22)),"") | F25: =IFERROR(IF(COUNTIFS(t_user_room_list!$I:$I,'시험지 출력'!$B25,t_user_room_list!$C:$C,'시험지 출력'!F$22)=0,"",COUNTIFS(t_user_room_list!$I:$I,'시험지 출력'!$B25,t_user_room_list!$C:$C,'시험지 출력'!F$22)),"") | G25: =IFERROR(IF(COUNTIFS(t_user_room_list!$I:$I,'시험지 출력'!$B25,t_user_room_list!$C:$C,'시험지 출력'!G$22)=0,"",COUNTIFS(t_user_room_list!$I:$I,'시험지 출력'!$B25,t_user_room_list!$C:$C,'시험지 출력'!G$22)),"") | H25: =IFERROR(IF(COUNTIFS(t_user_room_list!$I:$I,'시험지 출력'!$B25,t_user_room_list!$C:$C,'시험지 출력'!H$22)=0,"",COUNTIFS(t_user_room_list!$I:$I,'시험지 출력'!$B25,t_user_room_list!$C:$C,'시험지 출력'!H$22)),"") | I25: =IFERROR(IF(COUNTIFS(t_user_room_list!$I:$I,'시험지 출력'!$B25,t_user_room_list!$C:$C,'시험지 출력'!I$22)=0,"",COUNTIFS(t_user_room_list!$I:$I,'시험지 출력'!$B25,t_user_room_list!$C:$C,'시험지 출력'!I$22)),"") | J25: 11 | K25: 11
A26: 4 | B26: 202 | C26: =SUM(D26:I26) -> 20 | D26: =IFERROR(IF(COUNTIFS(t_user_room_list!$I:$I,'시험지 출력'!$B26,t_user_room_list!$C:$C,'시험지 출력'!D$22)=0,"",COUNTIFS(t_user_room_list!$I:$I,'시험지 출력'!$B26,t_user_room_list!$C:$C,'시험지 출력'!D$22)),"") -> 20 | E26: =IFERROR(IF(COUNTIFS(t_user_room_list!$I:$I,'시험지 출력'!$B26,t_user_room_list!$C:$C,'시험지 출력'!E$22)=0,"",COUNTIFS(t_user_room_list!$I:$I,'시험지 출력'!$B26,t_user_room_list!$C:$C,'시험지 출력'!E$22)),"") | F26: =IFERROR(IF(COUNTIFS(t_user_room_list!$I:$I,'시험지 출력'!$B26,t_user_room_list!$C:$C,'시험지 출력'!F$22)=0,"",COUNTIFS(t_user_room_list!$I:$I,'시험지 출력'!$B26,t_user_room_list!$C:$C,'시험지 출력'!F$22)),"") | G26: =IFERROR(IF(COUNTIFS(t_user_room_list!$I:$I,'시험지 출력'!$B26,t_user_room_list!$C:$C,'시험지 출력'!G$22)=0,"",COUNTIFS(t_user_room_list!$I:$I,'시험지 출력'!$B26,t_user_room_list!$C:$C,'시험지 출력'!G$22)),"") | H26: =IFERROR(IF(COUNTIFS(t_user_room_list!$I:$I,'시험지 출력'!$B26,t_user_room_list!$C:$C,'시험지 출력'!H$22)=0,"",COUNTIFS(t_user_room_list!$I:$I,'시험지 출력'!$B26,t_user_room_list!$C:$C,'시험지 출력'!H$22)),"") | I26: =IFERROR(IF(COUNTIFS(t_user_room_list!$I:$I,'시험지 출력'!$B26,t_user_room_list!$C:$C,'시험지 출력'!I$22)=0,"",COUNTIFS(t_user_room_list!$I:$I,'시험지 출력'!$B26,t_user_room_list!$C:$C,'시험지 출력'!I$22)),"") | J26: 11 | K26: 11
A27: 5 | B27: 203 | C27: =SUM(D27:I27) -> 20 | D27: =IFERROR(IF(COUNTIFS(t_user_room_list!$I:$I,'시험지 출력'!$B27,t_user_room_list!$C:$C,'시험지 출력'!D$22)=0,"",COUNTIFS(t_user_room_list!$I:$I,'시험지 출력'!$B27,t_user_room_list!$C:$C,'시험지 출력'!D$22)),"") -> 20 | E27: =IFERROR(IF(COUNTIFS(t_user_room_list!$I:$I,'시험지 출력'!$B27,t_user_room_list!$C:$C,'시험지 출력'!E$22)=0,"",COUNTIFS(t_user_room_list!$I:$I,'시험지 출력'!$B27,t_user_room_list!$C:$C,'시험지 출력'!E$22)),"") | F27: =IFERROR(IF(COUNTIFS(t_user_room_list!$I:$I,'시험지 출력'!$B27,t_user_room_list!$C:$C,'시험지 출력'!F$22)=0,"",COUNTIFS(t_user_room_list!$I:$I,'시험지 출력'!$B27,t_user_room_list!$C:$C,'시험지 출력'!F$22)),"") | G27: =IFERROR(IF(COUNTIFS(t_user_room_list!$I:$I,'시험지 출력'!$B27,t_user_room_list!$C:$C,'시험지 출력'!G$22)=0,"",COUNTIFS(t_user_room_list!$I:$I,'시험지 출력'!$B27,t_user_room_list!$C:$C,'시험지 출력'!G$22)),"") | H27: =IFERROR(IF(COUNTIFS(t_user_room_list!$I:$I,'시험지 출력'!$B27,t_user_room_list!$C:$C,'시험지 출력'!H$22)=0,"",COUNTIFS(t_user_room_list!$I:$I,'시험지 출력'!$B27,t_user_room_list!$C:$C,'시험지 출력'!H$22)),"") | I27: =IFERROR(IF(COUNTIFS(t_user_room_list!$I:$I,'시험지 출력'!$B27,t_user_room_list!$C:$C,'시험지 출력'!I$22)=0,"",COUNTIFS(t_user_room_list!$I:$I,'시험지 출력'!$B27,t_user_room_list!$C:$C,'시험지 출력'!I$22)),"") | J27: 11 | K27: 11
A28: 6 | B28: 204 | C28: =SUM(D28:I28) -> 16 | D28: =IFERROR(IF(COUNTIFS(t_user_room_list!$I:$I,'시험지 출력'!$B28,t_user_room_list!$C:$C,'시험지 출력'!D$22)=0,"",COUNTIFS(t_user_room_list!$I:$I,'시험지 출력'!$B28,t_user_room_list!$C:$C,'시험지 출력'!D$22)),"") -> 16 | E28: =IFERROR(IF(COUNTIFS(t_user_room_list!$I:$I,'시험지 출력'!$B28,t_user_room_list!$C:$C,'시험지 출력'!E$22)=0,"",COUNTIFS(t_user_room_list!$I:$I,'시험지 출력'!$B28,t_user_room_list!$C:$C,'시험지 출력'!E$22)),"") | F28: =IFERROR(IF(COUNTIFS(t_user_room_list!$I:$I,'시험지 출력'!$B28,t_user_room_list!$C:$C,'시험지 출력'!F$22)=0,"",COUNTIFS(t_user_room_list!$I:$I,'시험지 출력'!$B28,t_user_room_list!$C:$C,'시험지 출력'!F$22)),"") | G28: =IFERROR(IF(COUNTIFS(t_user_room_list!$I:$I,'시험지 출력'!$B28,t_user_room_list!$C:$C,'시험지 출력'!G$22)=0,"",COUNTIFS(t_user_room_list!$I:$I,'시험지 출력'!$B28,t_user_room_list!$C:$C,'시험지 출력'!G$22)),"") | H28: =IFERROR(IF(COUNTIFS(t_user_room_list!$I:$I,'시험지 출력'!$B28,t_user_room_list!$C:$C,'시험지 출력'!H$22)=0,"",COUNTIFS(t_user_room_list!$I:$I,'시험지 출력'!$B28,t_user_room_list!$C:$C,'시험지 출력'!H$22)),"") | I28: =IFERROR(IF(COUNTIFS(t_user_room_list!$I:$I,'시험지 출력'!$B28,t_user_room_list!$C:$C,'시험지 출력'!I$22)=0,"",COUNTIFS(t_user_room_list!$I:$I,'시험지 출력'!$B28,t_user_room_list!$C:$C,'시험지 출력'!I$22)),"") | J28: 9 | K28: 9
A29: 7 | B29: 205 | C29: =SUM(D29:I29) -> 25 | D29: =IFERROR(IF(COUNTIFS(t_user_room_list!$I:$I,'시험지 출력'!$B29,t_user_room_list!$C:$C,'시험지 출력'!D$22)=0,"",COUNTIFS(t_user_room_list!$I:$I,'시험지 출력'!$B29,t_user_room_list!$C:$C,'시험지 출력'!D$22)),"") | E29: =IFERROR(IF(COUNTIFS(t_user_room_list!$I:$I,'시험지 출력'!$B29,t_user_room_list!$C:$C,'시험지 출력'!E$22)=0,"",COUNTIFS(t_user_room_list!$I:$I,'시험지 출력'!$B29,t_user_room_list!$C:$C,'시험지 출력'!E$22)),"") -> 25 | F29: =IFERROR(IF(COUNTIFS(t_user_room_list!$I:$I,'시험지 출력'!$B29,t_user_room_list!$C:$C,'시험지 출력'!F$22)=0,"",COUNTIFS(t_user_room_list!$I:$I,'시험지 출력'!$B29,t_user_room_list!$C:$C,'시험지 출력'!F$22)),"") | G29: =IFERROR(IF(COUNTIFS(t_user_room_list!$I:$I,'시험지 출력'!$B29,t_user_room_list!$C:$C,'시험지 출력'!G$22)=0,"",COUNTIFS(t_user_room_list!$I:$I,'시험지 출력'!$B29,t_user_room_list!$C:$C,'시험지 출력'!G$22)),"") | H29: =IFERROR(IF(COUNTIFS(t_user_room_list!$I:$I,'시험지 출력'!$B29,t_user_room_list!$C:$C,'시험지 출력'!H$22)=0,"",COUNTIFS(t_user_room_list!$I:$I,'시험지 출력'!$B29,t_user_room_list!$C:$C,'시험지 출력'!H$22)),"") | I29: =IFERROR(IF(COUNTIFS(t_user_room_list!$I:$I,'시험지 출력'!$B29,t_user_room_list!$C:$C,'시험지 출력'!I$22)=0,"",COUNTIFS(t_user_room_list!$I:$I,'시험지 출력'!$B29,t_user_room_list!$C:$C,'시험지 출력'!I$22)),"") | L29: 13 | M29: 14
A30: 8 | B30: 206 | C30: =SUM(D30:I30) -> 25 | D30: =IFERROR(IF(COUNTIFS(t_user_room_list!$I:$I,'시험지 출력'!$B30,t_user_room_list!$C:$C,'시험지 출력'!D$22)=0,"",COUNTIFS(t_user_room_list!$I:$I,'시험지 출력'!$B30,t_user_room_list!$C:$C,'시험지 출력'!D$22)),"") | E30: =IFERROR(IF(COUNTIFS(t_user_room_list!$I:$I,'시험지 출력'!$B30,t_user_room_list!$C:$C,'시험지 출력'!E$22)=0,"",COUNTIFS(t_user_room_list!$I:$I,'시험지 출력'!$B30,t_user_room_list!$C:$C,'시험지 출력'!E$22)),"") -> 25 | F30: =IFERROR(IF(COUNTIFS(t_user_room_list!$I:$I,'시험지 출력'!$B30,t_user_room_list!$C:$C,'시험지 출력'!F$22)=0,"",COUNTIFS(t_user_room_list!$I:$I,'시험지 출력'!$B30,t_user_room_list!$C:$C,'시험지 출력'!F$22)),"") | G30: =IFERROR(IF(COUNTIFS(t_user_room_list!$I:$I,'시험지 출력'!$B30,t_user_room_list!$C:$C,'시험지 출력'!G$22)=0,"",COUNTIFS(t_user_room_list!$I:$I,'시험지 출력'!$B30,t_user_room_list!$C:$C,'시험지 출력'!G$22)),"") | H30: =IFERROR(IF(COUNTIFS(t_user_room_list!$I:$I,'시험지 출력'!$B30,t_user_room_list!$C:$C,'시험지 출력'!H$22)=0,"",COUNTIFS(t_user_room_list!$I:$I,'시험지 출력'!$B30,t_user_room_list!$C:$C,'시험지 출력'!H$22)),"") | I30: =IFERROR(IF(COUNTIFS(t_user_room_list!$I:$I,'시험지 출력'!$B30,t_user_room_list!$C:$C,'시험지 출력'!I$22)=0,"",COUNTIFS(t_user_room_list!$I:$I,'시험지 출력'!$B30,t_user_room_list!$C:$C,'시험지 출력'!I$22)),"") | L30: 13 | M30: 14
A31: 9 | B31: 207 | C31: =SUM(D31:I31) -> 25 | D31: =IFERROR(IF(COUNTIFS(t_user_room_list!$I:$I,'시험지 출력'!$B31,t_user_room_list!$C:$C,'시험지 출력'!D$22)=0,"",COUNTIFS(t_user_room_list!$I:$I,'시험지 출력'!$B31,t_user_room_list!$C:$C,'시험지 출력'!D$22)),"") | E31: =IFERROR(IF(COUNTIFS(t_user_room_list!$I:$I,'시험지 출력'!$B31,t_user_room_list!$C:$C,'시험지 출력'!E$22)=0,"",COUNTIFS(t_user_room_list!$I:$I,'시험지 출력'!$B31,t_user_room_list!$C:$C,'시험지 출력'!E$22)),"") -> 25 | F31: =IFERROR(IF(COUNTIFS(t_user_room_list!$I:$I,'시험지 출력'!$B31,t_user_room_list!$C:$C,'시험지 출력'!F$22)=0,"",COUNTIFS(t_user_room_list!$I:$I,'시험지 출력'!$B31,t_user_room_list!$C:$C,'시험지 출력'!F$22)),"") | G31: =IFERROR(IF(COUNTIFS(t_user_room_list!$I:$I,'시험지 출력'!$B31,t_user_room_list!$C:$C,'시험지 출력'!G$22)=0,"",COUNTIFS(t_user_room_list!$I:$I,'시험지 출력'!$B31,t_user_room_list!$C:$C,'시험지 출력'!G$22)),"") | H31: =IFERROR(IF(COUNTIFS(t_user_room_list!$I:$I,'시험지 출력'!$B31,t_user_room_list!$C:$C,'시험지 출력'!H$22)=0,"",COUNTIFS(t_user_room_list!$I:$I,'시험지 출력'!$B31,t_user_room_list!$C:$C,'시험지 출력'!H$22)),"") | I31: =IFERROR(IF(COUNTIFS(t_user_room_list!$I:$I,'시험지 출력'!$B31,t_user_room_list!$C:$C,'시험지 출력'!I$22)=0,"",COUNTIFS(t_user_room_list!$I:$I,'시험지 출력'!$B31,t_user_room_list!$C:$C,'시험지 출력'!I$22)),"") | L31: 13 | M31: 14
A32: 10 | B32: 301 | C32: =SUM(D32:I32) -> 22 | D32: =IFERROR(IF(COUNTIFS(t_user_room_list!$I:$I,'시험지 출력'!$B32,t_user_room_list!$C:$C,'시험지 출력'!D$22)=0,"",COUNTIFS(t_user_room_list!$I:$I,'시험지 출력'!$B32,t_user_room_list!$C:$C,'시험지 출력'!D$22)),"") | E32: =IFERROR(IF(COUNTIFS(t_user_room_list!$I:$I,'시험지 출력'!$B32,t_user_room_list!$C:$C,'시험지 출력'!E$22)=0,"",COUNTIFS(t_user_room_list!$I:$I,'시험지 출력'!$B32,t_user_room_list!$C:$C,'시험지 출력'!E$22)),"") | F32: =IFERROR(IF(COUNTIFS(t_user_room_list!$I:$I,'시험지 출력'!$B32,t_user_room_list!$C:$C,'시험지 출력'!F$22)=0,"",COUNTIFS(t_user_room_list!$I:$I,'시험지 출력'!$B32,t_user_room_list!$C:$C,'시험지 출력'!F$22)),"") | G32: =IFERROR(IF(COUNTIFS(t_user_room_list!$I:$I,'시험지 출력'!$B32,t_user_room_list!$C:$C,'시험지 출력'!G$22)=0,"",COUNTIFS(t_user_room_list!$I:$I,'시험지 출력'!$B32,t_user_room_list!$C:$C,'시험지 출력'!G$22)),"") -> 22 | H32: =IFERROR(IF(COUNTIFS(t_user_room_list!$I:$I,'시험지 출력'!$B32,t_user_room_list!$C:$C,'시험지 출력'!H$22)=0,"",COUNTIFS(t_user_room_list!$I:$I,'시험지 출력'!$B32,t_user_room_list!$C:$C,'시험지 출력'!H$22)),"") | I32: =IFERROR(IF(COUNTIFS(t_user_room_list!$I:$I,'시험지 출력'!$B32,t_user_room_list!$C:$C,'시험지 출력'!I$22)=0,"",COUNTIFS(t_user_room_list!$I:$I,'시험지 출력'!$B32,t_user_room_list!$C:$C,'시험지 출력'!I$22)),"") | P32: 12 | Q32: 12
A33: 11 | B33: 302 | C33: =SUM(D33:I33) -> 23 | D33: =IFERROR(IF(COUNTIFS(t_user_room_list!$I:$I,'시험지 출력'!$B33,t_user_room_list!$C:$C,'시험지 출력'!D$22)=0,"",COUNTIFS(t_user_room_list!$I:$I,'시험지 출력'!$B33,t_user_room_list!$C:$C,'시험지 출력'!D$22)),"") | E33: =IFERROR(IF(COUNTIFS(t_user_room_list!$I:$I,'시험지 출력'!$B33,t_user_room_list!$C:$C,'시험지 출력'!E$22)=0,"",COUNTIFS(t_user_room_list!$I:$I,'시험지 출력'!$B33,t_user_room_list!$C:$C,'시험지 출력'!E$22)),"") | F33: =IFERROR(IF(COUNTIFS(t_user_room_list!$I:$I,'시험지 출력'!$B33,t_user_room_list!$C:$C,'시험지 출력'!F$22)=0,"",COUNTIFS(t_user_room_list!$I:$I,'시험지 출력'!$B33,t_user_room_list!$C:$C,'시험지 출력'!F$22)),"") | G33: =IFERROR(IF(COUNTIFS(t_user_room_list!$I:$I,'시험지 출력'!$B33,t_user_room_list!$C:$C,'시험지 출력'!G$22)=0,"",COUNTIFS(t_user_room_list!$I:$I,'시험지 출력'!$B33,t_user_room_list!$C:$C,'시험지 출력'!G$22)),"") -> 23 | H33: =IFERROR(IF(COUNTIFS(t_user_room_list!$I:$I,'시험지 출력'!$B33,t_user_room_list!$C:$C,'시험지 출력'!H$22)=0,"",COUNTIFS(t_user_room_list!$I:$I,'시험지 출력'!$B33,t_user_room_list!$C:$C,'시험지 출력'!H$22)),"") | I33: =IFERROR(IF(COUNTIFS(t_user_room_list!$I:$I,'시험지 출력'!$B33,t_user_room_list!$C:$C,'시험지 출력'!I$22)=0,"",COUNTIFS(t_user_room_list!$I:$I,'시험지 출력'!$B33,t_user_room_list!$C:$C,'시험지 출력'!I$22)),"") | P33: 12 | Q33: 13
A34: 12 | B34: 303 | C34: =SUM(D34:I34) -> 18 | D34: =IFERROR(IF(COUNTIFS(t_user_room_list!$I:$I,'시험지 출력'!$B34,t_user_room_list!$C:$C,'시험지 출력'!D$22)=0,"",COUNTIFS(t_user_room_list!$I:$I,'시험지 출력'!$B34,t_user_room_list!$C:$C,'시험지 출력'!D$22)),"") | E34: =IFERROR(IF(COUNTIFS(t_user_room_list!$I:$I,'시험지 출력'!$B34,t_user_room_list!$C:$C,'시험지 출력'!E$22)=0,"",COUNTIFS(t_user_room_list!$I:$I,'시험지 출력'!$B34,t_user_room_list!$C:$C,'시험지 출력'!E$22)),"") | F34: =IFERROR(IF(COUNTIFS(t_user_room_list!$I:$I,'시험지 출력'!$B34,t_user_room_list!$C:$C,'시험지 출력'!F$22)=0,"",COUNTIFS(t_user_room_list!$I:$I,'시험지 출력'!$B34,t_user_room_list!$C:$C,'시험지 출력'!F$22)),"") -> 18 | G34: =IFERROR(IF(COUNTIFS(t_user_room_list!$I:$I,'시험지 출력'!$B34,t_user_room_list!$C:$C,'시험지 출력'!G$22)=0,"",COUNTIFS(t_user_room_list!$I:$I,'시험지 출력'!$B34,t_user_room_list!$C:$C,'시험지 출력'!G$22)),"") | H34: =IFERROR(IF(COUNTIFS(t_user_room_list!$I:$I,'시험지 출력'!$B34,t_user_room_list!$C:$C,'시험지 출력'!H$22)=0,"",COUNTIFS(t_user_room_list!$I:$I,'시험지 출력'!$B34,t_user_room_list!$C:$C,'시험지 출력'!H$22)),"") | I34: =IFERROR(IF(COUNTIFS(t_user_room_list!$I:$I,'시험지 출력'!$B34,t_user_room_list!$C:$C,'시험지 출력'!I$22)=0,"",COUNTIFS(t_user_room_list!$I:$I,'시험지 출력'!$B34,t_user_room_list!$C:$C,'시험지 출력'!I$22)),"") | N34: 10 | O34: 10
A35: 13 | B35: 304 | C35: =SUM(D35:I35) -> 19 | D35: =IFERROR(IF(COUNTIFS(t_user_room_list!$I:$I,'시험지 출력'!$B35,t_user_room_list!$C:$C,'시험지 출력'!D$22)=0,"",COUNTIFS(t_user_room_list!$I:$I,'시험지 출력'!$B35,t_user_room_list!$C:$C,'시험지 출력'!D$22)),"") | E35: =IFERROR(IF(COUNTIFS(t_user_room_list!$I:$I,'시험지 출력'!$B35,t_user_room_list!$C:$C,'시험지 출력'!E$22)=0,"",COUNTIFS(t_user_room_list!$I:$I,'시험지 출력'!$B35,t_user_room_list!$C:$C,'시험지 출력'!E$22)),"") | F35: =IFERROR(IF(COUNTIFS(t_user_room_list!$I:$I,'시험지 출력'!$B35,t_user_room_list!$C:$C,'시험지 출력'!F$22)=0,"",COUNTIFS(t_user_room_list!$I:$I,'시험지 출력'!$B35,t_user_room_list!$C:$C,'시험지 출력'!F$22)),"") -> 19 | G35: =IFERROR(IF(COUNTIFS(t_user_room_list!$I:$I,'시험지 출력'!$B35,t_user_room_list!$C:$C,'시험지 출력'!G$22)=0,"",COUNTIFS(t_user_room_list!$I:$I,'시험지 출력'!$B35,t_user_room_list!$C:$C,'시험지 출력'!G$22)),"") | H35: =IFERROR(IF(COUNTIFS(t_user_room_list!$I:$I,'시험지 출력'!$B35,t_user_room_list!$C:$C,'시험지 출력'!H$22)=0,"",COUNTIFS(t_user_room_list!$I:$I,'시험지 출력'!$B35,t_user_room_list!$C:$C,'시험지 출력'!H$22)),"") | I35: =IFERROR(IF(COUNTIFS(t_user_room_list!$I:$I,'시험지 출력'!$B35,t_user_room_list!$C:$C,'시험지 출력'!I$22)=0,"",COUNTIFS(t_user_room_list!$I:$I,'시험지 출력'!$B35,t_user_room_list!$C:$C,'시험지 출력'!I$22)),"") | N35: 11 | O35: 10
A36: 14 | B36: 305 | C36: =SUM(D36:I36) -> 18 | D36: =IFERROR(IF(COUNTIFS(t_user_room_list!$I:$I,'시험지 출력'!$B36,t_user_room_list!$C:$C,'시험지 출력'!D$22)=0,"",COUNTIFS(t_user_room_list!$I:$I,'시험지 출력'!$B36,t_user_room_list!$C:$C,'시험지 출력'!D$22)),"") | E36: =IFERROR(IF(COUNTIFS(t_user_room_list!$I:$I,'시험지 출력'!$B36,t_user_room_list!$C:$C,'시험지 출력'!E$22)=0,"",COUNTIFS(t_user_room_list!$I:$I,'시험지 출력'!$B36,t_user_room_list!$C:$C,'시험지 출력'!E$22)),"") | F36: =IFERROR(IF(COUNTIFS(t_user_room_list!$I:$I,'시험지 출력'!$B36,t_user_room_list!$C:$C,'시험지 출력'!F$22)=0,"",COUNTIFS(t_user_room_list!$I:$I,'시험지 출력'!$B36,t_user_room_list!$C:$C,'시험지 출력'!F$22)),"") -> 18 | G36: =IFERROR(IF(COUNTIFS(t_user_room_list!$I:$I,'시험지 출력'!$B36,t_user_room_list!$C:$C,'시험지 출력'!G$22)=0,"",COUNTIFS(t_user_room_list!$I:$I,'시험지 출력'!$B36,t_user_room_list!$C:$C,'시험지 출력'!G$22)),"") | H36: =IFERROR(IF(COUNTIFS(t_user_room_list!$I:$I,'시험지 출력'!$B36,t_user_room_list!$C:$C,'시험지 출력'!H$22)=0,"",COUNTIFS(t_user_room_list!$I:$I,'시험지 출력'!$B36,t_user_room_list!$C:$C,'시험지 출력'!H$22)),"") | I36: =IFERROR(IF(COUNTIFS(t_user_room_list!$I:$I,'시험지 출력'!$B36,t_user_room_list!$C:$C,'시험지 출력'!I$22)=0,"",COUNTIFS(t_user_room_list!$I:$I,'시험지 출력'!$B36,t_user_room_list!$C:$C,'시험지 출력'!I$22)),"") | N36: 10 | O36: 10
A37: 15 | B37: 306 | C37: =SUM(D37:I37) -> 20 | D37: =IFERROR(IF(COUNTIFS(t_user_room_list!$I:$I,'시험지 출력'!$B37,t_user_room_list!$C:$C,'시험지 출력'!D$22)=0,"",COUNTIFS(t_user_room_list!$I:$I,'시험지 출력'!$B37,t_user_room_list!$C:$C,'시험지 출력'!D$22)),"") | E37: =IFERROR(IF(COUNTIFS(t_user_room_list!$I:$I,'시험지 출력'!$B37,t_user_room_list!$C:$C,'시험지 출력'!E$22)=0,"",COUNTIFS(t_user_room_list!$I:$I,'시험지 출력'!$B37,t_user_room_list!$C:$C,'시험지 출력'!E$22)),"") | F37: =IFERROR(IF(COUNTIFS(t_user_room_list!$I:$I,'시험지 출력'!$B37,t_user_room_list!$C:$C,'시험지 출력'!F$22)=0,"",COUNTIFS(t_user_room_list!$I:$I,'시험지 출력'!$B37,t_user_room_list!$C:$C,'시험지 출력'!F$22)),"") -> 20 | G37: =IFERROR(IF(COUNTIFS(t_user_room_list!$I:$I,'시험지 출력'!$B37,t_user_room_list!$C:$C,'시험지 출력'!G$22)=0,"",COUNTIFS(t_user_room_list!$I:$I,'시험지 출력'!$B37,t_user_room_list!$C:$C,'시험지 출력'!G$22)),"") | H37: =IFERROR(IF(COUNTIFS(t_user_room_list!$I:$I,'시험지 출력'!$B37,t_user_room_list!$C:$C,'시험지 출력'!H$22)=0,"",COUNTIFS(t_user_room_list!$I:$I,'시험지 출력'!$B37,t_user_room_list!$C:$C,'시험지 출력'!H$22)),"") | I37: =IFERROR(IF(COUNTIFS(t_user_room_list!$I:$I,'시험지 출력'!$B37,t_user_room_list!$C:$C,'시험지 출력'!I$22)=0,"",COUNTIFS(t_user_room_list!$I:$I,'시험지 출력'!$B37,t_user_room_list!$C:$C,'시험지 출력'!I$22)),"") | N37: 11 | O37: 11
A38: 16 | B38: 307 | C38: =SUM(D38:I38) -> 20 | D38: =IFERROR(IF(COUNTIFS(t_user_room_list!$I:$I,'시험지 출력'!$B38,t_user_room_list!$C:$C,'시험지 출력'!D$22)=0,"",COUNTIFS(t_user_room_list!$I:$I,'시험지 출력'!$B38,t_user_room_list!$C:$C,'시험지 출력'!D$22)),"") | E38: =IFERROR(IF(COUNTIFS(t_user_room_list!$I:$I,'시험지 출력'!$B38,t_user_room_list!$C:$C,'시험지 출력'!E$22)=0,"",COUNTIFS(t_user_room_list!$I:$I,'시험지 출력'!$B38,t_user_room_list!$C:$C,'시험지 출력'!E$22)),"") | F38: =IFERROR(IF(COUNTIFS(t_user_room_list!$I:$I,'시험지 출력'!$B38,t_user_room_list!$C:$C,'시험지 출력'!F$22)=0,"",COUNTIFS(t_user_room_list!$I:$I,'시험지 출력'!$B38,t_user_room_list!$C:$C,'시험지 출력'!F$22)),"") -> 20 | G38: =IFERROR(IF(COUNTIFS(t_user_room_list!$I:$I,'시험지 출력'!$B38,t_user_room_list!$C:$C,'시험지 출력'!G$22)=0,"",COUNTIFS(t_user_room_list!$I:$I,'시험지 출력'!$B38,t_user_room_list!$C:$C,'시험지 출력'!G$22)),"") | H38: =IFERROR(IF(COUNTIFS(t_user_room_list!$I:$I,'시험지 출력'!$B38,t_user_room_list!$C:$C,'시험지 출력'!H$22)=0,"",COUNTIFS(t_user_room_list!$I:$I,'시험지 출력'!$B38,t_user_room_list!$C:$C,'시험지 출력'!H$22)),"") | I38: =IFERROR(IF(COUNTIFS(t_user_room_list!$I:$I,'시험지 출력'!$B38,t_user_room_list!$C:$C,'시험지 출력'!I$22)=0,"",COUNTIFS(t_user_room_list!$I:$I,'시험지 출력'!$B38,t_user_room_list!$C:$C,'시험지 출력'!I$22)),"") | N38: 11 | O38: 11
A39: 17 | B39: 309 | C39: =SUM(D39:I39) -> 12 | D39: =IFERROR(IF(COUNTIFS(t_user_room_list!$I:$I,'시험지 출력'!$B39,t_user_room_list!$C:$C,'시험지 출력'!D$22)=0,"",COUNTIFS(t_user_room_list!$I:$I,'시험지 출력'!$B39,t_user_room_list!$C:$C,'시험지 출력'!D$22)),"") | E39: =IFERROR(IF(COUNTIFS(t_user_room_list!$I:$I,'시험지 출력'!$B39,t_user_room_list!$C:$C,'시험지 출력'!E$22)=0,"",COUNTIFS(t_user_room_list!$I:$I,'시험지 출력'!$B39,t_user_room_list!$C:$C,'시험지 출력'!E$22)),"") | F39: =IFERROR(IF(COUNTIFS(t_user_room_list!$I:$I,'시험지 출력'!$B39,t_user_room_list!$C:$C,'시험지 출력'!F$22)=0,"",COUNTIFS(t_user_room_list!$I:$I,'시험지 출력'!$B39,t_user_room_list!$C:$C,'시험지 출력'!F$22)),"") | G39: =IFERROR(IF(COUNTIFS(t_user_room_list!$I:$I,'시험지 출력'!$B39,t_user_room_list!$C:$C,'시험지 출력'!G$22)=0,"",COUNTIFS(t_user_room_list!$I:$I,'시험지 출력'!$B39,t_user_room_list!$C:$C,'시험지 출력'!G$22)),"") | H39: =IFERROR(IF(COUNTIFS(t_user_room_list!$I:$I,'시험지 출력'!$B39,t_user_room_list!$C:$C,'시험지 출력'!H$22)=0,"",COUNTIFS(t_user_room_list!$I:$I,'시험지 출력'!$B39,t_user_room_list!$C:$C,'시험지 출력'!H$22)),"") -> 12 | I39: =IFERROR(IF(COUNTIFS(t_user_room_list!$I:$I,'시험지 출력'!$B39,t_user_room_list!$C:$C,'시험지 출력'!I$22)=0,"",COUNTIFS(t_user_room_list!$I:$I,'시험지 출력'!$B39,t_user_room_list!$C:$C,'시험지 출력'!I$22)),"") | R39: 7 | S39: 7
A40: 18 | B40: 402 | C40: =SUM(D40:I40) -> 20 | D40: =IFERROR(IF(COUNTIFS(t_user_room_list!$I:$I,'시험지 출력'!$B40,t_user_room_list!$C:$C,'시험지 출력'!D$22)=0,"",COUNTIFS(t_user_room_list!$I:$I,'시험지 출력'!$B40,t_user_room_list!$C:$C,'시험지 출력'!D$22)),"") | E40: =IFERROR(IF(COUNTIFS(t_user_room_list!$I:$I,'시험지 출력'!$B40,t_user_room_list!$C:$C,'시험지 출력'!E$22)=0,"",COUNTIFS(t_user_room_list!$I:$I,'시험지 출력'!$B40,t_user_room_list!$C:$C,'시험지 출력'!E$22)),"") | F40: =IFERROR(IF(COUNTIFS(t_user_room_list!$I:$I,'시험지 출력'!$B40,t_user_room_list!$C:$C,'시험지 출력'!F$22)=0,"",COUNTIFS(t_user_room_list!$I:$I,'시험지 출력'!$B40,t_user_room_list!$C:$C,'시험지 출력'!F$22)),"") | G40: =IFERROR(IF(COUNTIFS(t_user_room_list!$I:$I,'시험지 출력'!$B40,t_user_room_list!$C:$C,'시험지 출력'!G$22)=0,"",COUNTIFS(t_user_room_list!$I:$I,'시험지 출력'!$B40,t_user_room_list!$C:$C,'시험지 출력'!G$22)),"") -> 20 | H40: =IFERROR(IF(COUNTIFS(t_user_room_list!$I:$I,'시험지 출력'!$B40,t_user_room_list!$C:$C,'시험지 출력'!H$22)=0,"",COUNTIFS(t_user_room_list!$I:$I,'시험지 출력'!$B40,t_user_room_list!$C:$C,'시험지 출력'!H$22)),"") | I40: =IFERROR(IF(COUNTIFS(t_user_room_list!$I:$I,'시험지 출력'!$B40,t_user_room_list!$C:$C,'시험지 출력'!I$22)=0,"",COUNTIFS(t_user_room_list!$I:$I,'시험지 출력'!$B40,t_user_room_list!$C:$C,'시험지 출력'!I$22)),"") | P40: 11 | Q40: 11
A41: 19 | B41: 403 | C41: =SUM(D41:I41) -> 20 | D41: =IFERROR(IF(COUNTIFS(t_user_room_list!$I:$I,'시험지 출력'!$B41,t_user_room_list!$C:$C,'시험지 출력'!D$22)=0,"",COUNTIFS(t_user_room_list!$I:$I,'시험지 출력'!$B41,t_user_room_list!$C:$C,'시험지 출력'!D$22)),"") | E41: =IFERROR(IF(COUNTIFS(t_user_room_list!$I:$I,'시험지 출력'!$B41,t_user_room_list!$C:$C,'시험지 출력'!E$22)=0,"",COUNTIFS(t_user_room_list!$I:$I,'시험지 출력'!$B41,t_user_room_list!$C:$C,'시험지 출력'!E$22)),"") | F41: =IFERROR(IF(COUNTIFS(t_user_room_list!$I:$I,'시험지 출력'!$B41,t_user_room_list!$C:$C,'시험지 출력'!F$22)=0,"",COUNTIFS(t_user_room_list!$I:$I,'시험지 출력'!$B41,t_user_room_list!$C:$C,'시험지 출력'!F$22)),"") | G41: =IFERROR(IF(COUNTIFS(t_user_room_list!$I:$I,'시험지 출력'!$B41,t_user_room_list!$C:$C,'시험지 출력'!G$22)=0,"",COUNTIFS(t_user_room_list!$I:$I,'시험지 출력'!$B41,t_user_room_list!$C:$C,'시험지 출력'!G$22)),"") -> 20 | H41: =IFERROR(IF(COUNTIFS(t_user_room_list!$I:$I,'시험지 출력'!$B41,t_user_room_list!$C:$C,'시험지 출력'!H$22)=0,"",COUNTIFS(t_user_room_list!$I:$I,'시험지 출력'!$B41,t_user_room_list!$C:$C,'시험지 출력'!H$22)),"") | I41: =IFERROR(IF(COUNTIFS(t_user_room_list!$I:$I,'시험지 출력'!$B41,t_user_room_list!$C:$C,'시험지 출력'!I$22)=0,"",COUNTIFS(t_user_room_list!$I:$I,'시험지 출력'!$B41,t_user_room_list!$C:$C,'시험지 출력'!I$22)),"") | P41: 11 | Q41: 11
A42: 20 | B42: 404 | C42: =SUM(D42:I42) -> 20 | D42: =IFERROR(IF(COUNTIFS(t_user_room_list!$I:$I,'시험지 출력'!$B42,t_user_room_list!$C:$C,'시험지 출력'!D$22)=0,"",COUNTIFS(t_user_room_list!$I:$I,'시험지 출력'!$B42,t_user_room_list!$C:$C,'시험지 출력'!D$22)),"") | E42: =IFERROR(IF(COUNTIFS(t_user_room_list!$I:$I,'시험지 출력'!$B42,t_user_room_list!$C:$C,'시험지 출력'!E$22)=0,"",COUNTIFS(t_user_room_list!$I:$I,'시험지 출력'!$B42,t_user_room_list!$C:$C,'시험지 출력'!E$22)),"") | F42: =IFERROR(IF(COUNTIFS(t_user_room_list!$I:$I,'시험지 출력'!$B42,t_user_room_list!$C:$C,'시험지 출력'!F$22)=0,"",COUNTIFS(t_user_room_list!$I:$I,'시험지 출력'!$B42,t_user_room_list!$C:$C,'시험지 출력'!F$22)),"") | G42: =IFERROR(IF(COUNTIFS(t_user_room_list!$I:$I,'시험지 출력'!$B42,t_user_room_list!$C:$C,'시험지 출력'!G$22)=0,"",COUNTIFS(t_user_room_list!$I:$I,'시험지 출력'!$B42,t_user_room_list!$C:$C,'시험지 출력'!G$22)),"") -> 20 | H42: =IFERROR(IF(COUNTIFS(t_user_room_list!$I:$I,'시험지 출력'!$B42,t_user_room_list!$C:$C,'시험지 출력'!H$22)=0,"",COUNTIFS(t_user_room_list!$I:$I,'시험지 출력'!$B42,t_user_room_list!$C:$C,'시험지 출력'!H$22)),"") | I42: =IFERROR(IF(COUNTIFS(t_user_room_list!$I:$I,'시험지 출력'!$B42,t_user_room_list!$C:$C,'시험지 출력'!I$22)=0,"",COUNTIFS(t_user_room_list!$I:$I,'시험지 출력'!$B42,t_user_room_list!$C:$C,'시험지 출력'!I$22)),"") | P42: 11 | Q42: 11
A43: 21 | B43: 407 | C43: =SUM(D43:I43) -> 25 | D43: =IFERROR(IF(COUNTIFS(t_user_room_list!$I:$I,'시험지 출력'!$B43,t_user_room_list!$C:$C,'시험지 출력'!D$22)=0,"",COUNTIFS(t_user_room_list!$I:$I,'시험지 출력'!$B43,t_user_room_list!$C:$C,'시험지 출력'!D$22)),"") | E43: =IFERROR(IF(COUNTIFS(t_user_room_list!$I:$I,'시험지 출력'!$B43,t_user_room_list!$C:$C,'시험지 출력'!E$22)=0,"",COUNTIFS(t_user_room_list!$I:$I,'시험지 출력'!$B43,t_user_room_list!$C:$C,'시험지 출력'!E$22)),"") | F43: =IFERROR(IF(COUNTIFS(t_user_room_list!$I:$I,'시험지 출력'!$B43,t_user_room_list!$C:$C,'시험지 출력'!F$22)=0,"",COUNTIFS(t_user_room_list!$I:$I,'시험지 출력'!$B43,t_user_room_list!$C:$C,'시험지 출력'!F$22)),"") | G43: =IFERROR(IF(COUNTIFS(t_user_room_list!$I:$I,'시험지 출력'!$B43,t_user_room_list!$C:$C,'시험지 출력'!G$22)=0,"",COUNTIFS(t_user_room_list!$I:$I,'시험지 출력'!$B43,t_user_room_list!$C:$C,'시험지 출력'!G$22)),"") | H43: =IFERROR(IF(COUNTIFS(t_user_room_list!$I:$I,'시험지 출력'!$B43,t_user_room_list!$C:$C,'시험지 출력'!H$22)=0,"",COUNTIFS(t_user_room_list!$I:$I,'시험지 출력'!$B43,t_user_room_list!$C:$C,'시험지 출력'!H$22)),"") | I43: =IFERROR(IF(COUNTIFS(t_user_room_list!$I:$I,'시험지 출력'!$B43,t_user_room_list!$C:$C,'시험지 출력'!I$22)=0,"",COUNTIFS(t_user_room_list!$I:$I,'시험지 출력'!$B43,t_user_room_list!$C:$C,'시험지 출력'!I$22)),"") -> 25 | T43: 13 | U43: 14
A44: 22 | B44: 408 | C44: =SUM(D44:I44) -> 25 | D44: =IFERROR(IF(COUNTIFS(t_user_room_list!$I:$I,'시험지 출력'!$B44,t_user_room_list!$C:$C,'시험지 출력'!D$22)=0,"",COUNTIFS(t_user_room_list!$I:$I,'시험지 출력'!$B44,t_user_room_list!$C:$C,'시험지 출력'!D$22)),"") | E44: =IFERROR(IF(COUNTIFS(t_user_room_list!$I:$I,'시험지 출력'!$B44,t_user_room_list!$C:$C,'시험지 출력'!E$22)=0,"",COUNTIFS(t_user_room_list!$I:$I,'시험지 출력'!$B44,t_user_room_list!$C:$C,'시험지 출력'!E$22)),"") | F44: =IFERROR(IF(COUNTIFS(t_user_room_list!$I:$I,'시험지 출력'!$B44,t_user_room_list!$C:$C,'시험지 출력'!F$22)=0,"",COUNTIFS(t_user_room_list!$I:$I,'시험지 출력'!$B44,t_user_room_list!$C:$C,'시험지 출력'!F$22)),"") | G44: =IFERROR(IF(COUNTIFS(t_user_room_list!$I:$I,'시험지 출력'!$B44,t_user_room_list!$C:$C,'시험지 출력'!G$22)=0,"",COUNTIFS(t_user_room_list!$I:$I,'시험지 출력'!$B44,t_user_room_list!$C:$C,'시험지 출력'!G$22)),"") | H44: =IFERROR(IF(COUNTIFS(t_user_room_list!$I:$I,'시험지 출력'!$B44,t_user_room_list!$C:$C,'시험지 출력'!H$22)=0,"",COUNTIFS(t_user_room_list!$I:$I,'시험지 출력'!$B44,t_user_room_list!$C:$C,'시험지 출력'!H$22)),"") | I44: =IFERROR(IF(COUNTIFS(t_user_room_list!$I:$I,'시험지 출력'!$B44,t_user_room_list!$C:$C,'시험지 출력'!I$22)=0,"",COUNTIFS(t_user_room_list!$I:$I,'시험지 출력'!$B44,t_user_room_list!$C:$C,'시험지 출력'!I$22)),"") -> 25 | T44: 13 | U44: 13
A45: НИЙТ | C45: =SUM(C23:C44) -> 451 | D45: =SUM(D23:D44) -> 76 | E45: =SUM(E23:E44) -> 75 | F45: =SUM(F23:F44) -> 95 | G45: =SUM(G23:G44) -> 105 | H45: =SUM(H23:H44) -> 50 | I45: =SUM(I23:I44) -> 50 | J45: =SUM(J23:J44) -> 42 | ... U45: =SUM(U23:U44) -> 27
I47: Нийт | J47: =SUM(J45:U45) -> 494 | K47: боть | L47: Шалгалтын материал | O47: 10 нүүр, 5 хуудас | R47: 5 уут
J48: 500 | K48: ш | L48: Нүүр тал | R48: 1 уут
J49: 500 | K49: ш | L49: Хариултын цаас | R49: 1 уут
J51: 500 секунд бол 10 минут | N51: 60 минут

Sheet TOTAL_MN
A1: Солонгос хэлний Улсын 13 дах Олимпиад
A2: № | B2: Сургууль | C2: Нийт | D2: Анхан шат | E2: Бага | F2: Дунд | G2: Ахлах | H2: Гадаад дунд | I2: Гадаад ахлах | J2: дутуу
A3: № | B3: Сургууль | C3: Нийт | D3: 초급부 | E3: 초등부 | F3: 중등부 | G3: 고등부 | H3: 유학 중등부 | I3: 유학 고등부 | J3: ----선택----
A4: 1 | B4: 18-р сургууль | C4: =SUM(D4:J4) -> 69 | D4: =COUNTIFS(t_user_room_list!$E:$E,TOTAL_MN!$B4,t_user_room_list!$C:$C,TOTAL_MN!D$3) -> 9 | E4: =COUNTIFS(t_user_room_list!$E:$E,TOTAL_MN!$B4,t_user_room_list!$C:$C,TOTAL_MN!E$3) -> 16 | F4: =COUNTIFS(t_user_room_list!$E:$E,TOTAL_MN!$B4,t_user_room_list!$C:$C,TOTAL_MN!F$3) -> 15 | G4: =COUNTIFS(t_user_room_list!$E:$E,TOTAL_MN!$B4,t_user_room_list!$C:$C,TOTAL_MN!G$3) -> 13 | H4: =COUNTIFS(t_user_room_list!$E:$E,TOTAL_MN!$B4,t_user_room_list!$C:$C,TOTAL_MN!H$3) -> 10 | I4: =COUNTIFS(t_user_room_list!$E:$E,TOTAL_MN!$B4,t_user_room_list!$C:$C,TOTAL_MN!I$3) -> 6 | J4: =COUNTIFS(t_user_room_list!$E:$E,TOTAL_MN!$B4,t_user_room_list!$C:$C,TOTAL_MN!J$3) -> 0
A5: 2 | B5: 1-р сургууль | C5: =SUM(D5:J5) -> 1 | D5: =COUNTIFS(t_user_room_list!$E:$E,TOTAL_MN!$B5,t_user_room_list!$C:$C,TOTAL_MN!D$3) -> 0 | E5: =COUNTIFS(t_user_room_list!$E:$E,TOTAL_MN!$B5,t_user_room_list!$C:$C,TOTAL_MN!E$3) -> 0 | F5: =COUNTIFS(t_user_room_list!$E:$E,TOTAL_MN!$B5,t_user_room_list!$C:$C,TOTAL_MN!F$3) -> 0 | G5: =COUNTIFS(t_user_room_list!$E:$E,TOTAL_MN!$B5,t_user_room_list!$C:$C,TOTAL_MN!G$3) -> 0 | H5: =COUNTIFS(t_user_room_list!$E:$E,TOTAL_MN!$B5,t_user_room_list!$C:$C,TOTAL_MN!H$3) -> 1 | I5: =COUNTIFS(t_user_room_list!$E:$E,TOTAL_MN!$B5,t_user_room_list!$C:$C,TOTAL_MN!I$3) -> 0 | J5: =COUNTIFS(t_user_room_list!$E:$E,TOTAL_MN!$B5,t_user_room_list!$C:$C,TOTAL_MN!J$3) -> 0
A6: 3 | B6: 23-р сургууль | C6: =SUM(D6:J6) -> 156 | D6: =COUNTIFS(t_user_room_list!$E:$E,TOTAL_MN!$B6,t_user_room_list!$C:$C,TOTAL_MN!D$3) -> 26 | E6: =COUNTIFS(t_user_room_list!$E:$E,TOTAL_MN!$B6,t_user_room_list!$C:$C,TOTAL_MN!E$3) -> 13 | F6: =COUNTIFS(t_user_room_list!$E:$E,TOTAL_MN!$B6,t_user_room_list!$C:$C,TOTAL_MN!F$3) -> 31 | G6: =COUNTIFS(t_user_room_list!$E:$E,TOTAL_MN!$B6,t_user_room_list!$C:$C,TOTAL_MN!G$3) -> 52 | H6: =COUNTIFS(t_user_room_list!$E:$E,TOTAL_MN!$B6,t_user_room_list!$C:$C,TOTAL_MN!H$3) -> 16 | I6: =COUNTIFS(t_user_room_list!$E:$E,TOTAL_MN!$B6,t_user_room_list!$C:$C,TOTAL_MN!I$3) -> 18 | J6: =COUNTIFS(t_user_room_list!$E:$E,TOTAL_MN!$B6,t_user_room_list!$C:$C,TOTAL_MN!J$3) -> 0
A7: 4 | B7: 34-сургууль | C7: =SUM(D7:J7) -> 1 | D7: =COUNTIFS(t_user_room_list!$E:$E,TOTAL_MN!$B7,t_user_room_list!$C:$C,TOTAL_MN!D$3) -> 0 | E7: =COUNTIFS(t_user_room_list!$E:$E,TOTAL_MN!$B7,t_user_room_list!$C:$C,TOTAL_MN!E$3) -> 0 | F7: =COUNTIFS(t_user_room_list!$E:$E,TOTAL_MN!$B7,t_user_room_list!$C:$C,TOTAL_MN!F$3) -> 0 | G7: =COUNTIFS(t_user_room_list!$E:$E,TOTAL_MN!$B7,t_user_room_list!$C:$C,TOTAL_MN!G$3) -> 1 | H7: =COUNTIFS(t_user_room_list!$E:$E,TOTAL_MN!$B7,t_user_room_list!$C:$C,TOTAL_MN!H$3) -> 0 | I7: =COUNTIFS(t_user_room_list!$E:$E,TOTAL_MN!$B7,t_user_room_list!$C:$C,TOTAL_MN!I$3) -> 0 | J7: =COUNTIFS(t_user_room_list!$E:$E,TOTAL_MN!$B7,t_user_room_list!$C:$C,TOTAL_MN!J$3) -> 0
A8: 5 | B8: 39-р сургууль | C8: =SUM(D8:J8) -> 4 | D8: =COUNTIFS(t_user_room_list!$E:$E,TOTAL_MN!$B8,t_user_room_list!$C:$C,TOTAL_MN!D$3) -> 4 | E8: =COUNTIFS(t_user_room_list!$E:$E,TOTAL_MN!$B8,t_user_room_list!$C:$C,TOTAL_MN!E$3) -> 0 | F8: =COUNTIFS(t_user_room_list!$E:$E,TOTAL_MN!$B8,t_user_room_list!$C:$C,TOTAL_MN!F$3) -> 0 | G8: =COUNTIFS(t_user_room_list!$E:$E,TOTAL_MN!$B8,t_user_room_list!$C:$C,TOTAL_MN!G$3) -> 0 | H8: =COUNTIFS(t_user_room_list!$E:$E,TOTAL_MN!$B8,t_user_room_list!$C:$C,TOTAL_MN!H$3) -> 0 | I8: =COUNTIFS(t_user_room_list!$E:$E,TOTAL_MN!$B8,t_user_room_list!$C:$C,TOTAL_MN!I$3) -> 0 | J8: =COUNTIFS(t_user_room_list!$E:$E,TOTAL_MN!$B8,t_user_room_list!$C:$C,TOTAL_MN!J$3) -> 0
A9: 6 | B9: 52-р сургууль | C9: =SUM(D9:J9) -> 8 | D9: =COUNTIFS(t_user_room_list!$E:$E,TOTAL_MN!$B9,t_user_room_list!$C:$C,TOTAL_MN!D$3) -> 7 | E9: =COUNTIFS(t_user_room_list!$E:$E,TOTAL_MN!$B9,t_user_room_list!$C:$C,TOTAL_MN!E$3) -> 0 | F9: =COUNTIFS(t_user_room_list!$E:$E,TOTAL_MN!$B9,t_user_room_list!$C:$C,TOTAL_MN!F$3) -> 0 | G9: =COUNTIFS(t_user_room_list!$E:$E,TOTAL_MN!$B9,t_user_room_list!$C:$C,TOTAL_MN!G$3) -> 0 | H9: =COUNTIFS(t_user_room_list!$E:$E,TOTAL_MN!$B9,t_user_room_list!$C:$C,TOTAL_MN!H$3) -> 1 | I9: =COUNTIFS(t_user_room_list!$E:$E,TOTAL_MN!$B9,t_user_room_list!$C:$C,TOTAL_MN!I$3) -> 0 | J9: =COUNTIFS(t_user_room_list!$E:$E,TOTAL_MN!$B9,t_user_room_list!$C:$C,TOTAL_MN!J$3) -> 0
A10: 7 | B10: 77-р сургууль | C10: =SUM(D10:J10) -> 1 | D10: =COUNTIFS(t_user_room_list!$E:$E,TOTAL_MN!$B10,t_user_room_list!$C:$C,TOTAL_MN!D$3) -> 0 | E10: =COUNTIFS(t_user_room_list!$E:$E,TOTAL_MN!$B10,t_user_room_list!$C:$C,TOTAL_MN!E$3) -> 0 | F10: =COUNTIFS(t_user_room_list!$E:$E,TOTAL_MN!$B10,t_user_room_list!$C:$C,TOTAL_MN!F$3) -> 0 | G10: =COUNTIFS(t_user_room_list!$E:$E,TOTAL_MN!$B10,t_user_room_list!$C:$C,TOTAL_MN!G$3) -> 0 | H10: =COUNTIFS(t_user_room_list!$E:$E,TOTAL_MN!$B10,t_user_room_list!$C:$C,TOTAL_MN!H$3) -> 0 | I10: =COUNTIFS(t_user_room_list!$E:$E,TOTAL_MN!$B10,t_user_room_list!$C:$C,TOTAL_MN!I$3) -> 1 | J10: =COUNTIFS(t_user_room_list!$E:$E,TOTAL_MN!$B10,t_user_room_list!$C:$C,TOTAL_MN!J$3) -> 0
A11: 8 | B11: буянт-ухаа цогцолбор сургууль | C11: =SUM(D11:J11) -> 29 | D11: =COUNTIFS(t_user_room_list!$E:$E,TOTAL_MN!$B11,t_user_room_list!$C:$C,TOTAL_MN!D$3) -> 6 | E11: =COUNTIFS(t_user_room_list!$E:$E,TOTAL_MN!$B11,t_user_room_list!$C:$C,TOTAL_MN!E$3) -> 0 | F11: =COUNTIFS(t_user_room_list!$E:$E,TOTAL_MN!$B11,t_user_room_list!$C:$C,TOTAL_MN!F$3) -> 16 | G11: =COUNTIFS(t_user_room_list!$E:$E,TOTAL_MN!$B11,t_user_room_list!$C:$C,TOTAL_MN!G$3) -> 7 | H11: =COUNTIFS(t_user_room_list!$E:$E,TOTAL_MN!$B11,t_user_room_list!$C:$C,TOTAL_MN!H$3) -> 0 | I11: =COUNTIFS(t_user_room_list!$E:$E,TOTAL_MN!$B11,t_user_room_list!$C:$C,TOTAL_MN!I$3) -> 0 | J11: =COUNTIFS(t_user_room_list!$E:$E,TOTAL_MN!$B11,t_user_room_list!$C:$C,TOTAL_MN!J$3) -> 0
A12: 9 | B12: Гэрэлт Ирээдүй бүрэн дунд сургууль | C12: =SUM(D12:J12) -> 30 | D12: =COUNTIFS(t_user_room_list!$E:$E,TOTAL_MN!$B12,t_user_room_list!$C:$C,TOTAL_MN!D$3) -> 1 | E12: =COUNTIFS(t_user_room_list!$E:$E,TOTAL_MN!$B12,t_user_room_list!$C:$C,TOTAL_MN!E$3) -> 7 | F12: =COUNTIFS(t_user_room_list!$E:$E,TOTAL_MN!$B12,t_user_room_list!$C:$C,TOTAL_MN!F$3) -> 8 | G12: =COUNTIFS(t_user_room_list!$E:$E,TOTAL_MN!$B12,t_user_room_list!$C:$C,TOTAL_MN!G$3) -> 10 | H12: =COUNTIFS(t_user_room_list!$E:$E,TOTAL_MN!$B12,t_user_room_list!$C:$C,TOTAL_MN!H$3) -> 3 | I12: =COUNTIFS(t_user_room_list!$E:$E,TOTAL_MN!$B12,t_user_room_list!$C:$C,TOTAL_MN!I$3) -> 1 | J12: =COUNTIFS(t_user_room_list!$E:$E,TOTAL_MN!$B12,t_user_room_list!$C:$C,TOTAL_MN!J$3) -> 0
A13: 10 | B13: Оюуны-Ирээдүй Цогцолбор сургууль(Дархан) | C13: =SUM(D13:J13) -> 0 | D13: =COUNTIFS(t_user_room_list!$E:$E,TOTAL_MN!$B13,t_user_room_list!$C:$C,TOTAL_MN!D$3) -> 0 | E13: =COUNTIFS(t_user_room_list!$E:$E,TOTAL_MN!$B13,t_user_room_list!$C:$C,TOTAL_MN!E$3) -> 0 | F13: =COUNTIFS(t_user_room_list!$E:$E,TOTAL_MN!$B13,t_user_room_list!$C:$C,TOTAL_MN!F$3) -> 0 | G13: =COUNTIFS(t_user_room_list!$E:$E,TOTAL_MN!$B13,t_user_room_list!$C:$C,TOTAL_MN!G$3) -> 0 | H13: =COUNTIFS(t_user_room_list!$E:$E,TOTAL_MN!$B13,t_user_room_list!$C:$C,TOTAL_MN!H$3) -> 0 | I13: =COUNTIFS(t_user_room_list!$E:$E,TOTAL_MN!$B13,t_user_room_list!$C:$C,TOTAL_MN!I$3) -> 0 | J13: =COUNTIFS(t_user_room_list!$E:$E,TOTAL_MN!$B13,t_user_room_list!$C:$C,TOTAL_MN!J$3) -> 0
A14: 11 | B14: Монгени Цогцолбор сургууль | C14: =SUM(D14:J14) -> 17 | D14: =COUNTIFS(t_user_room_list!$E:$E,TOTAL_MN!$B14,t_user_room_list!$C:$C,TOTAL_MN!D$3) -> 0 | E14: =COUNTIFS(t_user_room_list!$E:$E,TOTAL_MN!$B14,t_user_room_list!$C:$C,TOTAL_MN!E$3) -> 2 | F14: =COUNTIFS(t_user_room_list!$E:$E,TOTAL_MN!$B14,t_user_room_list!$C:$C,TOTAL_MN!F$3) -> 4 | G14: =COUNTIFS(t_user_room_list!$E:$E,TOTAL_MN!$B14,t_user_room_list!$C:$C,TOTAL_MN!G$3) -> 3 | H14: =COUNTIFS(t_user_room_list!$E:$E,TOTAL_MN!$B14,t_user_room_list!$C:$C,TOTAL_MN!H$3) -> 4 | I14: =COUNTIFS(t_user_room_list!$E:$E,TOTAL_MN!$B14,t_user_room_list!$C:$C,TOTAL_MN!I$3) -> 4 | J14: =COUNTIFS(t_user_room_list!$E:$E,TOTAL_MN!$B14,t_user_room_list!$C:$C,TOTAL_MN!J$3) -> 0
A15: 12 | B15: Монгол оюу сургууль | C15: =SUM(D15:J15) -> 8 | D15: =COUNTIFS(t_user_room_list!$E:$E,TOTAL_MN!$B15,t_user_room_list!$C:$C,TOTAL_MN!D$3) -> 8 | E15: =COUNTIFS(t_user_room_list!$E:$E,TOTAL_MN!$B15,t_user_room_list!$C:$C,TOTAL_MN!E$3) -> 0 | F15: =COUNTIFS(t_user_room_list!$E:$E,TOTAL_MN!$B15,t_user_room_list!$C:$C,TOTAL_MN!F$3) -> 0 | G15: =COUNTIFS(t_user_room_list!$E:$E,TOTAL_MN!$B15,t_user_room_list!$C:$C,TOTAL_MN!G$3) -> 0 | H15: =COUNTIFS(t_user_room_list!$E:$E,TOTAL_MN!$B15,t_user_room_list!$C:$C,TOTAL_MN!H$3) -> 0 | I15: =COUNTIFS(t_user_room_list!$E:$E,TOTAL_MN!$B15,t_user_room_list!$C:$C,TOTAL_MN!I$3) -> 0 | J15: =COUNTIFS(t_user_room_list!$E:$E,TOTAL_MN!$B15,t_user_room_list!$C:$C,TOTAL_MN!J$3) -> 0
... A19: 16 | B19: Хүрээ тулга | C19: =SUM(D19:J19) -> 33 | D19: =COUNTIFS(t_user_room_list!$E:$E,TOTAL_MN!$B19,t_user_room_list!$C:$C,TOTAL_MN!D$3) -> 9 | E19: =COUNTIFS(t_user_room_list!$E:$E,TOTAL_MN!$B19,t_user_room_list!$C:$C,TOTAL_MN!E$3) -> 0 | F19: =COUNTIFS(t_user_room_list!$E:$E,TOTAL_MN!$B19,t_user_room_list!$C:$C,TOTAL_MN!F$3) -> 5 | G19: =COUNTIFS(t_user_room_list!$E:$E,TOTAL_MN!$B19,t_user_room_list!$C:$C,TOTAL_MN!G$3) -> 8 | H19: =COUNTIFS(t_user_room_list!$E:$E,TOTAL_MN!$B19,t_user_room_list!$C:$C,TOTAL_MN!H$3) -> 5 | I19: =COUNTIFS(t_user_room_list!$E:$E,TOTAL_MN!$B19,t_user_room_list!$C:$C,TOTAL_MN!I$3) -> 6 | J19: =COUNTIFS(t_user_room_list!$E:$E,TOTAL_MN!$B19,t_user_room_list!$C:$C,TOTAL_MN!J$3) -> 0
A20: Нийт | C20: =SUM(C4:C19) -> 449 | D20: =SUM(D4:D19) -> 76 | E20: =SUM(E4:E19) -> 75 | F20: =SUM(F4:F19) -> 95 | G20: =SUM(G4:G19) -> 105 | H20: =SUM(H4:H19) -> 50 | I20: =SUM(I4:I19) -> 48 | J20: =SUM(J4:J19) -> 0
A21: Кабинет(20-25 сурагч) | C21: =SUM(D21:I21) -> 22 | D21: 3 | E21: 4 | F21: 5 | G21: 5 | H21: 3 | I21: 2
C27: Оюуны-Ирээдүй Цогцолбор сургууль(Дархан)

Sheet CLASS_LIST
A1: 107 | C1: Солонгос хэлний Улсын XIII олимпиад
A2: 303 | D2: 4 | E2: 7 | F2: 8 | G2: 5 | H2: 6 | I2: 17
C3: КАБИНЕТ : | F3: =VALUE(A1) -> 107 | G3: =IFERROR(VLOOKUP(A1,room!$B:$D,2,FALSE),"") -> Н.Анударь | I3: =IFERROR(VLOOKUP(A1,room!$B:$D,3,FALSE),"") -> 유학 중등부 | J3: 등위 | K3: 총점 | L3: 듣기 | M3: 어휘/문법 | N3: 읽기
C4: № | D4: КОД | E4: ОВОГ | F4: НЭР | G4: СУРГУУЛЬ | H4: АНГИ | I4: ТЭМДЭГ | K4: 100 | L4: 25 | M4: 50 | N4: 25
C5: 1 | D5: =IFERROR(VLOOKUP($A$1&"-"&$C5,t_user_room_list!$A:$I,CLASS_LIST!D$2,FALSE),"") -> KO1300484 | E5: =IFERROR(VLOOKUP($A$1&"-"&$C5,t_user_room_list!$A:$I,CLASS_LIST!E$2,FALSE),"") -> Нармандах | F5: =IFERROR(VLOOKUP($A$1&"-"&$C5,t_user_room_list!$A:$I,CLASS_LIST!F$2,FALSE),"") -> Мөнгөнжигүүр | G5: =IFERROR(VLOOKUP($A$1&"-"&$C5,t_user_room_list!$A:$I,CLASS_LIST!G$2,FALSE),"") -> Монгени Цогцолбор сургууль | H5: =IFERROR(VLOOKUP($A$1&"-"&$C5,t_user_room_list!$A:$I,CLASS_LIST!H$2,FALSE),"") -> 6 | I5: =IFERROR(VLOOKUP($A$1&"-"&$C5,t_user_room_list!$A:$I,CLASS_LIST!I$2,FALSE),"")
C6: 2 | D6: =IFERROR(VLOOKUP($A$1&"-"&$C6,t_user_room_list!$A:$I,CLASS_LIST!D$2,FALSE),"") -> KO1300341 | E6: =IFERROR(VLOOKUP($A$1&"-"&$C6,t_user_room_list!$A:$I,CLASS_LIST!E$2,FALSE),"") -> Отгонбаатар | F6: =IFERROR(VLOOKUP($A$1&"-"&$C6,t_user_room_list!$A:$I,CLASS_LIST!F$2,FALSE),"") -> Мөнгөншагай | G6: =IFERROR(VLOOKUP($A$1&"-"&$C6,t_user_room_list!$A:$I,CLASS_LIST!G$2,FALSE),"") -> 18-р сургууль | H6: =IFERROR(VLOOKUP($A$1&"-"&$C6,t_user_room_list!$A:$I,CLASS_LIST!H$2,FALSE),"") -> 6 | I6: =IFERROR(VLOOKUP($A$1&"-"&$C6,t_user_room_list!$A:$I,CLASS_LIST!I$2,FALSE),"")
C7: 3 | D7: =IFERROR(VLOOKUP($A$1&"-"&$C7,t_user_room_list!$A:$I,CLASS_LIST!D$2,FALSE),"") -> KO1300139 | E7: =IFERROR(VLOOKUP($A$1&"-"&$C7,t_user_room_list!$A:$I,CLASS_LIST!E$2,FALSE),"") -> ЦОЛМОНБАЯР | F7: =IFERROR(VLOOKUP($A$1&"-"&$C7,t_user_room_list!$A:$I,CLASS_LIST!F$2,FALSE),"") -> НАИДИН | G7: =IFERROR(VLOOKUP($A$1&"-"&$C7,t_user_room_list!$A:$I,CLASS_LIST!G$2,FALSE),"") -> НЕБ Улаанбаатар сургууль | H7: =IFERROR(VLOOKUP($A$1&"-"&$C7,t_user_room_list!$A:$I,CLASS_LIST!H$2,FALSE),"") -> 7 | I7: =IFERROR(VLOOKUP($A$1&"-"&$C7,t_user_room_list!$A:$I,CLASS_LIST!I$2,FALSE),"")
C8: 4 | D8: =IFERROR(VLOOKUP($A$1&"-"&$C8,t_user_room_list!$A:$I,CLASS_LIST!D$2,FALSE),"") -> KO1300113 | E8: =IFERROR(VLOOKUP($A$1&"-"&$C8,t_user_room_list!$A:$I,CLASS_LIST!E$2,FALSE),"") -> Отгонжаргал | F8: =IFERROR(VLOOKUP($A$1&"-"&$C8,t_user_room_list!$A:$I,CLASS_LIST!F$2,FALSE),"") -> Намуун | G8: =IFERROR(VLOOKUP($A$1&"-"&$C8,t_user_room_list!$A:$I,CLASS_LIST!G$2,FALSE),"") -> Хүрээ тулга | H8: =IFERROR(VLOOKUP($A$1&"-"&$C8,t_user_room_list!$A:$I,CLASS_LIST!H$2,FALSE),"") -> 7 | I8: =IFERROR(VLOOKUP($A$1&"-"&$C8,t_user_room_list!$A:$I,CLASS_LIST!I$2,FALSE),"")
C9: 5 | D9: =IFERROR(VLOOKUP($A$1&"-"&$C9,t_user_room_list!$A:$I,CLASS_LIST!D$2,FALSE),"") -> KO1300105 | E9: =IFERROR(VLOOKUP($A$1&"-"&$C9,t_user_room_list!$A:$I,CLASS_LIST!E$2,FALSE),"") -> Баярсайхан | F9: =IFERROR(VLOOKUP($A$1&"-"&$C9,t_user_room_list!$A:$I,CLASS_LIST!F$2,FALSE),"") -> Нандин-Эрдэнэ | G9: =IFERROR(VLOOKUP($A$1&"-"&$C9,t_user_room_list!$A:$I,CLASS_LIST!G$2,FALSE),"") -> 23-р сургууль | H9: =IFERROR(VLOOKUP($A$1&"-"&$C9,t_user_room_list!$A:$I,CLASS_LIST!H$2,FALSE),"") -> 7 | I9: =IFERROR(VLOOKUP($A$1&"-"&$C9,t_user_room_list!$A:$I,CLASS_LIST!I$2,FALSE),"")
C10: 6 | D10: =IFERROR(VLOOKUP($A$1&"-"&$C10,t_user_room_list!$A:$I,CLASS_LIST!D$2,FALSE),"") -> KO1300386 | E10: =IFERROR(VLOOKUP($A$1&"-"&$C10,t_user_room_list!$A:$I,CLASS_LIST!E$2,FALSE),"") -> Зоригтбаатар | F10: =IFERROR(VLOOKUP($A$1&"-"&$C10,t_user_room_list!$A:$I,CLASS_LIST!F$2,FALSE),"") -> НандинЭрдэнэ | G10: =IFERROR(VLOOKUP($A$1&"-"&$C10,t_user_room_list!$A:$I,CLASS_LIST!G$2,FALSE),"") -> Гэрэлт Ирээдүй бүрэн дунд сургууль | H10: =IFERROR(VLOOKUP($A$1&"-"&$C10,t_user_room_list!$A:$I,CLASS_LIST!H$2,FALSE),"") -> 5 | I10: =IFERROR(VLOOKUP($A$1&"-"&$C10,t_user_room_list!$A:$I,CLASS_LIST!I$2,FALSE),"")
C11: 7 | D11: =IFERROR(VLOOKUP($A$1&"-"&$C11,t_user_room_list!$A:$I,CLASS_LIST!D$2,FALSE),"") -> KO1300427 | E11: =IFERROR(VLOOKUP($A$1&"-"&$C11,t_user_room_list!$A:$I,CLASS_LIST!E$2,FALSE),"") -> Наранбаатар | F11: =IFERROR(VLOOKUP($A$1&"-"&$C11,t_user_room_list!$A:$I,CLASS_LIST!F$2,FALSE),"") -> Номингоо | G11: =IFERROR(VLOOKUP($A$1&"-"&$C11,t_user_room_list!$A:$I,CLASS_LIST!G$2,FALSE),"") -> 18-р сургууль | H11: =IFERROR(VLOOKUP($A$1&"-"&$C11,t_user_room_list!$A:$I,CLASS_LIST!H$2,FALSE),"") -> 7 | I11: =IFERROR(VLOOKUP($A$1&"-"&$C11,t_user_room_list!$A:$I,CLASS_LIST!I$2,FALSE),"")
C12: 8 | D12: =IFERROR(VLOOKUP($A$1&"-"&$C12,t_user_room_list!$A:$I,CLASS_LIST!D$2,FALSE),"") -> KO1300117 | E12: =IFERROR(VLOOKUP($A$1&"-"&$C12,t_user_room_list!$A:$I,CLASS_LIST!E$2,FALSE),"") -> Сүх-Очир | F12: =IFERROR(VLOOKUP($A$1&"-"&$C12,t_user_room_list!$A:$I,CLASS_LIST!F$2,FALSE),"") -> Сансар | G12: =IFERROR(VLOOKUP($A$1&"-"&$C12,t_user_room_list!$A:$I,CLASS_LIST!G$2,FALSE),"") -> 18-р сургууль | H12: =IFERROR(VLOOKUP($A$1&"-"&$C12,t_user_room_list!$A:$I,CLASS_LIST!H$2,FALSE),"") -> 5 | I12: =IFERROR(VLOOKUP($A$1&"-"&$C12,t_user_room_list!$A:$I,CLASS_LIST!I$2,FALSE),"")
C13: 9 | D13: =IFERROR(VLOOKUP($A$1&"-"&$C13,t_user_room_list!$A:$I,CLASS_LIST!D$2,FALSE),"") -> KO1300425 | E13: =IFERROR(VLOOKUP($A$1&"-"&$C13,t_user_room_list!$A:$I,CLASS_LIST!E$2,FALSE),"") -> Сүх-Очир | F13: =IFERROR(VLOOKUP($A$1&"-"&$C13,t_user_room_list!$A:$I,CLASS_LIST!F$2,FALSE),"") -> Санчир | G13: =IFERROR(VLOOKUP($A$1&"-"&$C13,t_user_room_list!$A:$I,CLASS_LIST!G$2,FALSE),"") -> 18-р сургууль | H13: =IFERROR(VLOOKUP($A$1&"-"&$C13,t_user_room_list!$A:$I,CLASS_LIST!H$2,FALSE),"") -> 7 | I13: =IFERROR(VLOOKUP($A$1&"-"&$C13,t_user_room_list!$A:$I,CLASS_LIST!I$2,FALSE),"")
C14: 10 | D14: =IFERROR(VLOOKUP($A$1&"-"&$C14,t_user_room_list!$A:$I,CLASS_LIST!D$2,FALSE),"") -> KO1300358 | E14: =IFERROR(VLOOKUP($A$1&"-"&$C14,t_user_room_list!$A:$I,CLASS_LIST!E$2,FALSE),"") -> Сонинбаатар | F14: =IFERROR(VLOOKUP($A$1&"-"&$C14,t_user_room_list!$A:$I,CLASS_LIST!F$2,FALSE),"") -> Санчирмаа | G14: =IFERROR(VLOOKUP($A$1&"-"&$C14,t_user_room_list!$A:$I,CLASS_LIST!G$2,FALSE),"") -> 18-р сургууль | H14: =IFERROR(VLOOKUP($A$1&"-"&$C14,t_user_room_list!$A:$I,CLASS_LIST!H$2,FALSE),"") -> 4 | I14: =IFERROR(VLOOKUP($A$1&"-"&$C14,t_user_room_list!$A:$I,CLASS_LIST!I$2,FALSE),"")
C15: 11 | D15: =IFERROR(VLOOKUP($A$1&"-"&$C15,t_user_room_list!$A:$I,CLASS_LIST!D$2,FALSE),"") -> KO1300064 | E15: =IFERROR(VLOOKUP($A$1&"-"&$C15,t_user_room_list!$A:$I,CLASS_LIST!E$2,FALSE),"") -> Хүрэлжанжин | F15: =IFERROR(VLOOKUP($A$1&"-"&$C15,t_user_room_list!$A:$I,CLASS_LIST!F$2,FALSE),"") -> Сарнай | G15: =IFERROR(VLOOKUP($A$1&"-"&$C15,t_user_room_list!$A:$I,CLASS_LIST!G$2,FALSE),"") -> 23-р сургууль | H15: =IFERROR(VLOOKUP($A$1&"-"&$C15,t_user_room_list!$A:$I,CLASS_LIST!H$2,FALSE),"") -> 5 | I15: =IFERROR(VLOOKUP($A$1&"-"&$C15,t_user_room_list!$A:$I,CLASS_LIST!I$2,FALSE),"")
C16: 12 | D16: =IFERROR(VLOOKUP($A$1&"-"&$C16,t_user_room_list!$A:$I,CLASS_LIST!D$2,FALSE),"") -> KO1300352 | E16: =IFERROR(VLOOKUP($A$1&"-"&$C16,t_user_room_list!$A:$I,CLASS_LIST!E$2,FALSE),"") -> Мөнхзаяа | F16: =IFERROR(VLOOKUP($A$1&"-"&$C16,t_user_room_list!$A:$I,CLASS_LIST!F$2,FALSE),"") -> Сийлэн | G16: =IFERROR(VLOOKUP($A$1&"-"&$C16,t_user_room_list!$A:$I,CLASS_LIST!G$2,FALSE),"") -> 18-р сургууль | H16: =IFERROR(VLOOKUP($A$1&"-"&$C16,t_user_room_list!$A:$I,CLASS_LIST!H$2,FALSE),"") -> 4 | I16: =IFERROR(VLOOKUP($A$1&"-"&$C16,t_user_room_list!$A:$I,CLASS_LIST!I$2,FALSE),"")
... C34: 30 | D34: =IFERROR(VLOOKUP($A$1&"-"&$C34,t_user_room_list!$A:$I,CLASS_LIST!D$2,FALSE),"") | E34: =IFERROR(VLOOKUP($A$1&"-"&$C34,t_user_room_list!$A:$I,CLASS_LIST!E$2,FALSE),"") | F34: =IFERROR(VLOOKUP($A$1&"-"&$C34,t_user_room_list!$A:$I,CLASS_LIST!F$2,FALSE),"") | G34: =IFERROR(VLOOKUP($A$1&"-"&$C34,t_user_room_list!$A:$I,CLASS_LIST!G$2,FALSE),"") | H34: =IFERROR(VLOOKUP($A$1&"-"&$C34,t_user_room_list!$A:$I,CLASS_LIST!H$2,FALSE),"") | I34: =IFERROR(VLOOKUP($A$1&"-"&$C34,t_user_room_list!$A:$I,CLASS_LIST!I$2,FALSE),"")
C35: 31 | E35: =IFERROR(VLOOKUP($A$1&"_"&$C35,[1]Seat_No!$A:$R,CLASS_LIST!E$2,FALSE),"") | F35: =IFERROR(VLOOKUP($A$1&"_"&$C35,[1]Seat_No!$A:$R,CLASS_LIST!F$2,FALSE),"") | G35: =IFERROR(VLOOKUP($A$1&"_"&$C35,[1]Seat_No!$A:$R,CLASS_LIST!G$2,FALSE),"") | H35: =IFERROR(VLOOKUP($A$1&"_"&$C35,[1]Seat_No!$A:$R,CLASS_LIST!H$2,FALSE),"") | I35: =IFERROR(VLOOKUP($A$1&"_"&$C35,[1]Seat_No!$A:$R,CLASS_LIST!I$2,FALSE),"")
C36: 32 | E36: =IFERROR(VLOOKUP($A$1&"_"&$C36,[1]Seat_No!$A:$R,CLASS_LIST!E$2,FALSE),"") | F36: =IFERROR(VLOOKUP($A$1&"_"&$C36,[1]Seat_No!$A:$R,CLASS_LIST!F$2,FALSE),"") | G36: =IFERROR(VLOOKUP($A$1&"_"&$C36,[1]Seat_No!$A:$R,CLASS_LIST!G$2,FALSE),"") | H36: =IFERROR(VLOOKUP($A$1&"_"&$C36,[1]Seat_No!$A:$R,CLASS_LIST!H$2,FALSE),"") | I36: =IFERROR(VLOOKUP($A$1&"_"&$C36,[1]Seat_No!$A:$R,CLASS_LIST!I$2,FALSE),"")
C37: 33 | E37: =IFERROR(VLOOKUP($A$1&"_"&$C37,[1]Seat_No!$A:$R,CLASS_LIST!E$2,FALSE),"") | F37: =IFERROR(VLOOKUP($A$1&"_"&$C37,[1]Seat_No!$A:$R,CLASS_LIST!F$2,FALSE),"") | G37: =IFERROR(VLOOKUP($A$1&"_"&$C37,[1]Seat_No!$A:$R,CLASS_LIST!G$2,FALSE),"") | H37: =IFERROR(VLOOKUP($A$1&"_"&$C37,[1]Seat_No!$A:$R,CLASS_LIST!H$2,FALSE),"") | I37: =IFERROR(VLOOKUP($A$1&"_"&$C37,[1]Seat_No!$A:$R,CLASS_LIST!I$2,FALSE),"")
C38: 34 | E38: =IFERROR(VLOOKUP($A$1&"_"&$C38,[1]Seat_No!$A:$R,CLASS_LIST!E$2,FALSE),"") | F38: =IFERROR(VLOOKUP($A$1&"_"&$C38,[1]Seat_No!$A:$R,CLASS_LIST!F$2,FALSE),"") | G38: =IFERROR(VLOOKUP($A$1&"_"&$C38,[1]Seat_No!$A:$R,CLASS_LIST!G$2,FALSE),"") | H38: =IFERROR(VLOOKUP($A$1&"_"&$C38,[1]Seat_No!$A:$R,CLASS_LIST!H$2,FALSE),"") | I38: =IFERROR(VLOOKUP($A$1&"_"&$C38,[1]Seat_No!$A:$R,CLASS_LIST!I$2,FALSE),"")
C39: 35 | E39: =IFERROR(VLOOKUP($A$1&"_"&$C39,[1]Seat_No!$A:$R,CLASS_LIST!E$2,FALSE),"") | F39: =IFERROR(VLOOKUP($A$1&"_"&$C39,[1]Seat_No!$A:$R,CLASS_LIST!F$2,FALSE),"") | G39: =IFERROR(VLOOKUP($A$1&"_"&$C39,[1]Seat_No!$A:$R,CLASS_LIST!G$2,FALSE),"") | H39: =IFERROR(VLOOKUP($A$1&"_"&$C39,[1]Seat_No!$A:$R,CLASS_LIST!H$2,FALSE),"") | I39: =IFERROR(VLOOKUP($A$1&"_"&$C39,[1]Seat_No!$A:$R,CLASS_LIST!I$2,FALSE),"")
C40: 36 | E40: =IFERROR(VLOOKUP($A$1&"_"&$C40,[1]Seat_No!$A:$R,CLASS_LIST!E$2,FALSE),"") | F40: =IFERROR(VLOOKUP($A$1&"_"&$C40,[1]Seat_No!$A:$R,CLASS_LIST!F$2,FALSE),"") | G40: =IFERROR(VLOOKUP($A$1&"_"&$C40,[1]Seat_No!$A:$R,CLASS_LIST!G$2,FALSE),"") | H40: =IFERROR(VLOOKUP($A$1&"_"&$C40,[1]Seat_No!$A:$R,CLASS_LIST!H$2,FALSE),"") | I40: =IFERROR(VLOOKUP($A$1&"_"&$C40,[1]Seat_No!$A:$R,CLASS_LIST!I$2,FALSE),"")
C41: 37 | E41: =IFERROR(VLOOKUP($A$1&"_"&$C41,[1]Seat_No!$A:$R,CLASS_LIST!E$2,FALSE),"") | F41: =IFERROR(VLOOKUP($A$1&"_"&$C41,[1]Seat_No!$A:$R,CLASS_LIST!F$2,FALSE),"") | G41: =IFERROR(VLOOKUP($A$1&"_"&$C41,[1]Seat_No!$A:$R,CLASS_LIST!G$2,FALSE),"") | H41: =IFERROR(VLOOKUP($A$1&"_"&$C41,[1]Seat_No!$A:$R,CLASS_LIST!H$2,FALSE),"") | I41: =IFERROR(VLOOKUP($A$1&"_"&$C41,[1]Seat_No!$A:$R,CLASS_LIST!I$2,FALSE),"")
C42: 38 | E42: =IFERROR(VLOOKUP($A$1&"_"&$C42,[1]Seat_No!$A:$R,CLASS_LIST!E$2,FALSE),"") | F42: =IFERROR(VLOOKUP($A$1&"_"&$C42,[1]Seat_No!$A:$R,CLASS_LIST!F$2,FALSE),"") | G42: =IFERROR(VLOOKUP($A$1&"_"&$C42,[1]Seat_No!$A:$R,CLASS_LIST!G$2,FALSE),"") | H42: =IFERROR(VLOOKUP($A$1&"_"&$C42,[1]Seat_No!$A:$R,CLASS_LIST!H$2,FALSE),"") | I42: =IFERROR(VLOOKUP($A$1&"_"&$C42,[1]Seat_No!$A:$R,CLASS_LIST!I$2,FALSE),"")
C43: 39 | E43: =IFERROR(VLOOKUP($A$1&"_"&$C43,[1]Seat_No!$A:$R,CLASS_LIST!E$2,FALSE),"") | F43: =IFERROR(VLOOKUP($A$1&"_"&$C43,[1]Seat_No!$A:$R,CLASS_LIST!F$2,FALSE),"") | G43: =IFERROR(VLOOKUP($A$1&"_"&$C43,[1]Seat_No!$A:$R,CLASS_LIST!G$2,FALSE),"") | H43: =IFERROR(VLOOKUP($A$1&"_"&$C43,[1]Seat_No!$A:$R,CLASS_LIST!H$2,FALSE),"") | I43: =IFERROR(VLOOKUP($A$1&"_"&$C43,[1]Seat_No!$A:$R,CLASS_LIST!I$2,FALSE),"")
C44: 40 | E44: =IFERROR(VLOOKUP($A$1&"_"&$C44,[1]Seat_No!$A:$R,CLASS_LIST!E$2,FALSE),"") | F44: =IFERROR(VLOOKUP($A$1&"_"&$C44,[1]Seat_No!$A:$R,CLASS_LIST!F$2,FALSE),"") | G44: =IFERROR(VLOOKUP($A$1&"_"&$C44,[1]Seat_No!$A:$R,CLASS_LIST!G$2,FALSE),"") | H44: =IFERROR(VLOOKUP($A$1&"_"&$C44,[1]Seat_No!$A:$R,CLASS_LIST!H$2,FALSE),"") | I44: =IFERROR(VLOOKUP($A$1&"_"&$C44,[1]Seat_No!$A:$R,CLASS_LIST!I$2,FALSE),"")
C45: 41 | E45: =IFERROR(VLOOKUP($A$1&"_"&$C45,[1]Seat_No!$A:$R,CLASS_LIST!E$2,FALSE),"") | F45: =IFERROR(VLOOKUP($A$1&"_"&$C45,[1]Seat_No!$A:$R,CLASS_LIST!F$2,FALSE),"") | G45: =IFERROR(VLOOKUP($A$1&"_"&$C45,[1]Seat_No!$A:$R,CLASS_LIST!G$2,FALSE),"") | H45: =IFERROR(VLOOKUP($A$1&"_"&$C45,[1]Seat_No!$A:$R,CLASS_LIST!H$2,FALSE),"") | I45: =IFERROR(VLOOKUP($A$1&"_"&$C45,[1]Seat_No!$A:$R,CLASS_LIST!I$2,FALSE),"")
C46: 42 | E46: =IFERROR(VLOOKUP($A$1&"_"&$C46,[1]Seat_No!$A:$R,CLASS_LIST!E$2,FALSE),"") | F46: =IFERROR(VLOOKUP($A$1&"_"&$C46,[1]Seat_No!$A:$R,CLASS_LIST!F$2,FALSE),"") | G46: =IFERROR(VLOOKUP($A$1&"_"&$C46,[1]Seat_No!$A:$R,CLASS_LIST!G$2,FALSE),"") | H46: =IFERROR(VLOOKUP($A$1&"_"&$C46,[1]Seat_No!$A:$R,CLASS_LIST!H$2,FALSE),"") | I46: =IFERROR(VLOOKUP($A$1&"_"&$C46,[1]Seat_No!$A:$R,CLASS_LIST!I$2,FALSE),"")
... C50: 46 | E50: =IFERROR(VLOOKUP($A$1&"_"&$C50,[1]Seat_No!$A:$R,CLASS_LIST!E$2,FALSE),"") | F50: =IFERROR(VLOOKUP($A$1&"_"&$C50,[1]Seat_No!$A:$R,CLASS_LIST!F$2,FALSE),"") | G50: =IFERROR(VLOOKUP($A$1&"_"&$C50,[1]Seat_No!$A:$R,CLASS_LIST!G$2,FALSE),"") | H50: =IFERROR(VLOOKUP($A$1&"_"&$C50,[1]Seat_No!$A:$R,CLASS_LIST!H$2,FALSE),"") | I50: =IFERROR(VLOOKUP($A$1&"_"&$C50,[1]Seat_No!$A:$R,CLASS_LIST!I$2,FALSE),"")

Sheet Seat_No
A1: username | B1: korea | C1: NO | D1: user_id | E1: lastname | F1: firstname | G1: name | H1: department | I1: position | J1: t1 | K1: t2 | L1: t3 | M1: t4 | N1: t5 | O1: t6 | P1: t7 | Q1: usermail | R1: contact | S1: picture | T1: RT
A2: 201_1 | B2: 201 | C2: 1 | D2: УХ03241326 | E2: Баттулга | F2: Азжаргал | G2: Эм | H2: Гэрэлт Ирээдүй сургууль | I2: 10а | Q2: Монголд | R2: 89894688 | S2: ="../PICTURE/"&D2&".jpg" -> ../PICTURE/УХ03241326.jpg
A3: 201_2 | B3: 201 | C3: 2 | D3: УХ01222614 | E3: Баянбаатар | F3: Амар | G3: Эр | H3: Хүрээ тулга | I3: 12 | Q3: Монголд | R3: 85152516 | S3: ="../PICTURE/"&D3&".jpg" -> ../PICTURE/УХ01222614.jpg
A4: 201_3 | B4: 201 | C4: 3 | D4: УО01311607 | E4: Мэнд-Амар | F4: Анужин | G4: Эм | H4: 23-р сургууль | I4: 10 | Q4: Монголд | R4: 99226697 | S4: ="../PICTURE/"&D4&".jpg" -> ../PICTURE/УО01311607.jpg
A5: 201_4 | B5: 201 | C5: 4 | D5: УП01292458 | E5: Зориг | F5: Анхбаяр | G5: Эр | H5: Гэрэлт Ирээдүй сургууль | I5: 11а | Q5: Монголд | R5: 91802277 | S5: ="../PICTURE/"&D5&".jpg" -> ../PICTURE/УП01292458.jpg
A6: 201_5 | B6: 201 | C6: 5 | D6: УК01302928 | E6: Пүрэвжав | F6: Ариунсанаа | G6: Эм | H6: 23-р сургууль | I6: 10 | Q6: Монголд | R6: 91191035 | S6: ="../PICTURE/"&D6&".jpg" -> ../PICTURE/УК01302928.jpg
A7: 201_6 | B7: 201 | C7: 6 | D7: УК03301749 | E7: Мөнхбаатар | F7: Байгал | G7: Эм | H7: УББДС | I7: 10 | Q7: Монголд | R7: 99127023 | S7: ="../PICTURE/"&D7&".jpg" -> ../PICTURE/УК03301749.jpg
A8: 201_7 | B8: 201 | C8: 7 | D8: УП02293027 | E8: Соном | F8: Банзрагч | G8: Эр | H8: Гэрэлт Ирээдүй сургууль | I8: 10а | Q8: Монголд | R8: 88892267 | S8: ="../PICTURE/"&D8&".jpg" -> ../PICTURE/УП02293027.jpg
A9: 201_8 | B9: 201 | C9: 8 | D9: УП02262451 | E9: Даваадорж | F9: Бат-Ундрах | G9: Эр | H9: Гэрэлт Ирээдүй сургууль | I9: 10а | Q9: Монголд | R9: 91660786 | S9: ="../PICTURE/"&D9&".jpg" -> ../PICTURE/УП02262451.jpg
A10: 201_9 | B10: 201 | C10: 9 | D10: УП02311310 | E10: Намсрайжамбуу | F10: Билгүүнтөгөлдөр | G10: Эр | H10: Гэрэлт Ирээдүй сургууль | I10: 10а | Q10: Монголд | R10: 91203159 | S10: ="../PICTURE/"&D10&".jpg" -> ../PICTURE/УП02311310.jpg
A11: 201_10 | B11: 201 | C11: 10 | D11: ТЕ02210776 | E11: Нармандах | F11: Бэлэгсайхан | G11: Эр | H11: УББДС | I11: 10А | Q11: Монголд | R11: 95550077 | S11: ="../PICTURE/"&D11&".jpg" -> ../PICTURE/ТЕ02210776.jpg
A12: 201_11 | B12: 201 | C12: 11 | D12: УХ02260356 | E12: Батжаргал | F12: Галцог | G12: Эр | H12: Гэрэлт Ирээдүй сургууль | I12: 10а | Q12: Монголд | R12: 91891531 | S12: ="../PICTURE/"&D12&".jpg" -> ../PICTURE/УХ02260356.jpg
A13: 201_12 | B13: 201 | C13: 12 | D13: УГ02312906 | E13: Соронзонболд | F13: Ганчимэг | G13: Эр | H13: УББДС | I13: 10 | Q13: Монголд | R13: 94931149 | S13: ="../PICTURE/"&D13&".jpg" -> ../PICTURE/УГ02312906.jpg
... A58: 202_28 | B58: 202 | C58: 28 | D58: ОБ01230926 | E58: Баянмөнх | F58: Энхжин | G58: Эм | H58: 23-р сургууль | I58: 12 | Q58: Монголд | R58: 95520559 | S58: ="../PICTURE/"&D58&".jpg" -> ../PICTURE/ОБ01230926.jpg
A59: 202_29 | B59: 202 | C59: 29 | D59: УТ01261562 | E59: ЭРДЭНЭБААТАР | F59: ЭНХНОМУН | G59: Эм | H59: 23-р сургууль | I59: 12 | Q59: Монголд | R59: 99676060 | S59: ="../PICTURE/"&D59&".jpg" -> ../PICTURE/УТ01261562.jpg | T59: user_id | U59: Овог | V59: Нэр | W59: Хүйс | X59: Сургууль | Y59: Анги | Z59: s_contact | AA59: s_mail | AB59: Х.З. Багш
A60: 202_30 | B60: 202 | C60: 30 | D60: УП01291331 | E60: Энхбат | F60: Ханмөрөн | G60: Эр | H60: 23-р сургууль | I60: 12 | J60: 89446704 | K60: Монголд | L60: Бүрэнжаргал | Q60: Монголд | R60: 99676061 | S60: ="../PICTURE/"&D60&".jpg" -> ../PICTURE/УП01291331.jpg
A61: 203_1 | B61: 203 | C61: 1 | D61: УХ07240547 | E61: Бямбатогтох | F61: Алтанзул | G61: Эм | H61: 23-р сургууль | I61: 5 | Q61: Монголд | R61: 94003536 | S61: ="../PICTURE/"&D61&".jpg" -> ../PICTURE/УХ07240547.jpg
A62: 203_2 | B62: 203 | C62: 2 | D62: УК08220444 | E62: Мөнхжаргал | F62: Ану-Үжин | G62: Эм | H62: УББДС | I62: 5 | Q62: Монголд | R62: 99135851 | S62: ="../PICTURE/"&D62&".jpg" -> ../PICTURE/УК08220444.jpg
A63: 203_3 | B63: 203 | C63: 3 | D63: УЖ07272918 | E63: Чойжилжав | F63: Бадар-Ууган | G63: Эр | H63: 23-р сургууль | I63: 5 | Q63: Монголд | R63: 96006568, аав-9 | S63: ="../PICTURE/"&D63&".jpg" -> ../PICTURE/УЖ07272918.jpg
A64: 203_4 | B64: 203 | C64: 4 | D64: ЩК07241037 | E64: Гонгоржав | F64: Билгүүн | G64: Эр | H64: 23-р сургууль | I64: 5 | Q64: Монголд | R64: 91903332 | S64: ="../PICTURE/"&D64&".jpg" -> ../PICTURE/ЩК07241037.jpg
A65: 203_5 | B65: 203 | C65: 5 | D65: УШ98090901 | E65: Дашдондов | F65: Бүдсүрэн | G65: Эм | H65: МУИС | I65: 3 | Q65: Монголд | R65: 99153787 | S65: ="../PICTURE/"&D65&".jpg" -> ../PICTURE/УШ98090901.jpg
A66: 203_6 | B66: 203 | C66: 6 | D66: УМ08240907 | E66: Жи ёль | F66: Мишээл | G66: Эм | H66: УББДС | I66: 4 | Q66: Монголд | R66: 88073884 | S66: ="../PICTURE/"&D66&".jpg" -> ../PICTURE/УМ08240907.jpg
A67: 203_7 | B67: 203 | C67: 7 | D67: уп07260361 | E67: Биндэрьяа | F67: Мишээл | G67: Эм | H67: УББДС | I67: 5 | Q67: Монголд | R67: 88073884 | S67: ="../PICTURE/"&D67&".jpg" -> ../PICTURE/уп07260361.jpg
A68: 203_8 | B68: 203 | C68: 8 | D68: УЦ07290524 | E68: Бэрцэцэг | F68: Намуун | G68: Эм | H68: 23-р сургууль | I68: 5 | Q68: Монголд | R68: 99001002 | S68: ="../PICTURE/"&D68&".jpg" -> ../PICTURE/УЦ07290524.jpg
A69: 203_9 | B69: 203 | C69: 9 | D69: ЩК09212706 | E69: Зоригтбаатар | F69: Нандин-Эрдэнэ | G69: Эм | H69: Гэрэлт Ирээдүй сургууль | I69: 3а | Q69: Монголд | R69: 99181184 | S69: ="../PICTURE/"&D69&".jpg" -> ../PICTURE/ЩК09212706.jpg
A70: 203_10 | B70: 203 | C70: 10 | D70: УЦ07281463 | E70: Батхүү | F70: Номин | G70: Эм | H70: 23-р сургууль | I70: 5 | Q70: Монголд | R70: 95036479 | S70: ="../PICTURE/"&D70&".jpg" -> ../PICTURE/УЦ07281463.jpg
A71: 203_11 | B71: 203 | C71: 11 | D71: УХ07320367 | E71: Мөнхтөр | F71: Оюунтүлхүүр | G71: Эм | H71: 23-р сургууль | I71: 5 | Q71: Монголд | R71: 95254994 | S71: ="../PICTURE/"&D71&".jpg" -> ../PICTURE/УХ07320367.jpg
A72: 203_12 | B72: 203 | C72: 12 | D72: УЦ07250149 | E72: Гантулга | F72: Сайнсанаа | G72: Эм | H72: 23-р сургууль | I72: 5 | Q72: Монголд | R72: 96802280 | S72: ="../PICTURE/"&D72&".jpg" -> ../PICTURE/УЦ07250149.jpg
... A96: 204_7 | B96: 204 | C96: 7 | D96: ФД06290607 | E96: Пүрэвсүрэн | F96: Естер | G96: Эм | H96: УББДС | I96: 6 | Q96: Монголд | R96: 99298273 | S96: ="../PICTURE/"&D96&".jpg" -> ../PICTURE/ФД06290607.jpg
A97: 204_8 | B97: 204 | C97: 8 | D97: ЩК06272515 | E97: Энхбаяр | F97: Золбоо | G97: Эр | H97: 23-р сургууль | I97: 6 | Q97: Монголд | S97: ="../PICTURE/"&D97&".jpg" -> ../PICTURE/ЩК06272515.jpg
A98: 204_9 | B98: 204 | C98: 9 | D98: УЖ06241348 | E98: Мөнхжаргал | F98: Мөнхгэрэл | G98: Эм | H98: УББДС | I98: 6 | Q98: Монголд | R98: 91208756 | S98: ="../PICTURE/"&D98&".jpg" -> ../PICTURE/УЖ06241348.jpg
A99: 204_10 | B99: 204 | C99: 10 | D99: УК06302584 | E99: Даваажав | F99: Мөнххүслэн | G99: Эм | H99: 18-р сургууль | I99: 6 | Q99: Монголд | R99: 99776612 | S99: ="../PICTURE/"&D99&".jpg" -> ../PICTURE/УК06302584.jpg
A100: 204_11 | B100: 204 | C100: 11 | D100: УХ06261265 | E100: Нэргүй | F100: Намуун | G100: Эм | H100: УББДС | I100: 6 | Q100: Монголд | R100: 96222688 | S100: ="../PICTURE/"&D100&".jpg" -> ../PICTURE/УХ06261265.jpg
A101: 204_12 | B101: 204 | C101: 12 | D101: УК06282443 | E101: Отгонбаяр | F101: Нарангүнж | G101: Эм | H101: 23-р сургууль | I101: 6 | Q101: Монголд | R101: 88932198 | S101: ="../PICTURE/"&D101&".jpg" -> ../PICTURE/УК06282443.jpg
A102: 204_13 | B102: 204 | C102: 13 | D102: УО06211980 | E102: Уламоргих | F102: Номин-Эрдэнэ | G102: Эм | H102: 23-р сургууль | I102: 6 | Q102: Монголд | R102: 88185362 | S102: ="../PICTURE/"&D102&".jpg" -> ../PICTURE/УО06211980.jpg
A103: 204_14 | B103: 204 | C103: 14 | D103: УК06281228 | E103: Онон | F103: Одончимэг | G103: Эм | H103: 18-р сургууль | I103: 6 | Q103: Монголд | R103: 99776612 | S103: ="../PICTURE/"&D103&".jpg" -> ../PICTURE/УК06281228.jpg
A104: 204_15 | B104: 204 | C104: 15 | D104: УХ06240649 | E104: Сувданцэцэг | F104: Соёлмаа | G104: Эм | H104: 18-р сургууль | I104: 6 | Q104: Монголд | R104: 99776612 | S104: ="../PICTURE/"&D104&".jpg" -> ../PICTURE/УХ06240649.jpg
A105: 204_16 | B105: 204 | C105: 16 | D105: ЙД06271215 | E105: Энхбаатар | F105: Тэмүүжин | G105: Эр | H105: УББДС | I105: 6 | Q105: Монголд | R105: 99244585 | S105: ="../PICTURE/"&D105&".jpg" -> ../PICTURE/ЙД06271215.jpg
A106: 204_17 | B106: 204 | C106: 17 | D106: УҮ06210521 | E106: Жаргалсайхан | F106: Төгөлдөр | G106: Эр | H106: 23-р сургууль | I106: 6 | Q106: Монголд | R106: 94828067 | S106: ="../PICTURE/"&D106&".jpg" -> ../PICTURE/УҮ06210521.jpg
A107: 204_18 | B107: 204 | C107: 18 | D107: УК06271311 | E107: Эрхэмбаяр | F107: Төгөлдөр-Од | G107: Эм | H107: 18-р сургууль | I107: 6 | Q107: Монголд | R107: 99776612 | S107: ="../PICTURE/"&D107&".jpg" -> ../PICTURE/УК06271311.jpg
A108: 204_19 | B108: 204 | C108: 19 | D108: УО06261474 | E108: Цэрэнхүү | F108: Хүслэн | G108: Эр | H108: УББДС | I108: 6 | Q108: Монголд | R108: 89014487 | S108: ="../PICTURE/"&D108&".jpg" -> ../PICTURE/УО06261474.jpg
A109: 204_20 | B109: 204 | C109: 20 | D109: УО06290848 | E109: Ганбат | F109: Цацралтуяа | G109: Эм | H109: 18-р сургууль | I109: 6 | Q109: Монголд | R109: 99776612 | S109: ="../PICTURE/"&D109&".jpg" -> ../PICTURE/УО06290848.jpg
A110: 204_21 | B110: 204 | C110: 21 | D110: УХ07211543 | E110: Алдар | F110: Цолмон | G110: Эм | H110: 23-р сургууль | I110: 6 | Q110: Монголд | R110: 80186118 | S110: ="../PICTURE/"&D110&".jpg" -> ../PICTURE/УХ07211543.jpg
A111: 204_22 | B111: 204 | C111: 22 | D111: УП06300625 | E111: Чингэсбаатар | F111: Чинхүслэн | G111: Эр | H111: УББДС | I111: 6 | Q111: Монголд | R111: 96237720 | S111: ="../PICTURE/"&D111&".jpg" -> ../PICTURE/УП06300625.jpg
A112: 204_23 | B112: 204 | C112: 23 | D112: УО06290118 | E112: Эвсанаа | F112: Энхдалай | G112: Эм | H112: Монгени цогцолбор сургууль | I112: 6в | Q112: Монголд | R112: 90380901 | S112: ="../PICTURE/"&D112&".jpg" -> ../PICTURE/УО06290118.jpg
A113: 204_24 | B113: 204 | C113: 24 | D113: ЕЙ06310100 | E113: Анхбаяр | F113: Энхжаргал | G113: Эм | H113: 23-р сургууль | I113: 6 | Q113: Монголд | R113: 96014410 | S113: ="../PICTURE/"&D113&".jpg" -> ../PICTURE/ЕЙ06310100.jpg
A114: 204_25 | B114: 204 | C114: 25 | D114: УП06300563 | E114: Ганхүрэл | F114: Энхжин | G114: Эм | H114: 23-р сургууль | I114: 6 | Q114: Монголд | R114: 9119-3522 | S114: ="../PICTURE/"&D114&".jpg" -> ../PICTURE/УП06300563.jpg
A115: 204_26 | B115: 204 | C115: 26 | D115: УП06262482 | E115: Ариунболд | F115: Энхсанчир | G115: Эм | H115: 18-р сургууль | I115: 6 | Q115: Монголд | R115: 99776612 | S115: ="../PICTURE/"&D115&".jpg" -> ../PICTURE/УП06262482.jpg
A116: 204_27 | B116: 204 | C116: 27 | D116: ГЮ06322009 | E116: Очирбат | F116: Энхтэмүүлэн | G116: Эм | H116: 23-р сургууль | I116: 6 | Q116: Монголд | R116: 99793399 | S116: ="../PICTURE/"&D116&".jpg" -> ../PICTURE/ГЮ06322009.jpg
A117: 204_28 | B117: 204 | C117: 28 | D117: ЩК06320601 | E117: Мөнхжаргал | F117: Эрдэнэбуян | G117: Эм | H117: Монгени цогцолбор сургууль | I117: 6в | Q117: Монголд | R117: 80191229 | S117: ="../PICTURE/"&D117&".jpg" -> ../PICTURE/ЩК06320601.jpg
A118: 204_29 | B118: 204 | C118: 29 | D118: УХ07233025 | E118: Отгонбаяр | F118: Өлзий | G118: Эм | H118: 23-р сургууль | I118: 5 | Q118: Монголд | R118: 89902808 | S118: ="../PICTURE/"&D118&".jpg" -> ../PICTURE/УХ07233025.jpg
... A280: 305_18 | B280: 305 | C280: 18 | D280: СЩ02312828 | E280: Батбаатар | F280: Энэрэл | G280: Эм | H280: Монгени цогцолбор сургууль | I280: 9г | Q280: Солонгост | R280: 99604827 | S280: ="../PICTURE/"&D280&".jpg" -> ../PICTURE/СЩ02312828.jpg

Sheet room
A1: id | B1: R_NAME | C1: R_T1 | D1: R_T2
A2: 1 | B2: 106 | C2: Д.Жаргал | D2: 유학 중등부
A3: 2 | B3: 107 | C3: Н.Анударь | D3: 유학 중등부
A4: 3 | B4: 201 | C4: Л.Дашдолгор | D4: 초급부
A5: 4 | B5: 202 | C5: З.Цэрэндолгор | D5: 초급부
A6: 5 | B6: 203 | C6: Н.Бадамчимэг | D6: 초급부
A7: 6 | B7: 204 | C7: Х.Ардак | D7: 초등부
A8: 7 | B8: 205 | C8: О.Дэлгэр | D8: 초등부
A9: 8 | B9: 206 | C9: Ба.Алтанцэцэг | D9: 초등부
A10: 9 | B10: 207 | C10: Д.Өлзийсайхан | D10: 초등부
A11: 10 | B11: 301 | C11: Б.Ган-Эрдэнэ | D11: 고등부
A12: 11 | B12: 302 | C12: Б.Сэрчин | D12: 고등부
... A24: 23 | B24: 210-A | C24: Д.Дуламсүрэн | D24: Солонгос хэлний багш нар
A25: 24 | B25: 210-B
A26: 25 | B26: 211-A
A27: 26 | B27: 211-B | C27: Б.Лхамдулам, Б.Ганчимэг | D27: Шалгалтын марериал үдэх , дугтуйлах
A28: 27 | B28: 308
A29: 28 | B29: Техникч | C29: Л.Дарханбат
A30: 29 | B30: Зурагчин | C30: Д.Батдорж
A31: 30 | B31: Захирал | C31: Ц.Цолмонбаатар
A32: 31 | B32: Менежер | C32: М.Цогзолмаа
A33: 32 | B33: Менежер | C33: Ш.Оюунсүрэн
A34: 33 | B34: Менежер
A35: 34

Sheet type
A1: T_NAME
A2: 초급부
A3: 초등부
A4: 중등부
A5: 고등부
A6: 유학 중등부
A7: 유학 고등부

Sheet Sheet6
B1: 유학 중등부 | C1: 유학 중등부 | D1: 초급부 | E1: 초급부 | F1: 초급부 | G1: 초등반 | H1: 초등반 | I1: 초등반 | J1: 초등반 | K1: 고둥부 | L1: 고둥부 | M1: 중등부 | N1: 중등부 | O1: 중등부 | P1: 중등부 | Q1: 중등부 | S1: 고둥부 | T1: 고둥부 | U1: 고둥부 | V1: 유학 고등부 | W1: 유학 고등부
B2: 106 | C2: 107 | D2: 201 | E2: 202 | F2: 203 | G2: 204 | H2: 205 | I2: 206 | J2: 207 | K2: 301 | L2: 302 | M2: 303 | N2: 304 | O2: 305 | P2: 306 | Q2: 307 | R2: 309 | S2: 402 | T2: 403 | U2: 404 | V2: 407 | W2: 408
B3: 106 | C3: 107 | D3: 201 | E3: 202 | F3: 203 | G3: 204 | H3: 205 | I3: 206 | J3: 207 | K3: 301 | L3: 302 | M3: 303 | N3: 304 | O3: 305 | P3: 306 | Q3: 307 | R3: 309 | S3: 402 | T3: 403 | U3: 404 | V3: 407 | W3: 408
B4: 106 | C4: 107 | D4: 201 | E4: 202 | F4: 203 | G4: 204 | H4: 205 | I4: 206 | J4: 207 | K4: 301 | L4: 302 | M4: 303 | N4: 304 | O4: 305 | P4: 306 | Q4: 307 | R4: 309 | S4: 402 | T4: 403 | U4: 404 | V4: 407 | W4: 408
B5: 106 | C5: 107 | D5: 201 | E5: 202 | F5: 203 | G5: 204 | H5: 205 | I5: 206 | J5: 207 | K5: 301 | L5: 302 | M5: 303 | N5: 304 | O5: 305 | P5: 306 | Q5: 307 | R5: 309 | S5: 402 | T5: 403 | U5: 404 | V5: 407 | W5: 408
B6: 106 | C6: 107 | D6: 201 | E6: 202 | F6: 203 | G6: 204 | H6: 205 | I6: 206 | J6: 207 | K6: 301 | L6: 302 | M6: 303 | N6: 304 | O6: 305 | P6: 306 | Q6: 307 | R6: 309 | S6: 402 | T6: 403 | U6: 404 | V6: 407 | W6: 408
B7: 106 | C7: 107 | D7: 201 | E7: 202 | F7: 203 | G7: 204 | H7: 205 | I7: 206 | J7: 207 | K7: 301 | L7: 302 | M7: 303 | N7: 304 | O7: 305 | P7: 306 | Q7: 307 | R7: 309 | S7: 402 | T7: 403 | U7: 404 | V7: 407 | W7: 408
B8: 106 | C8: 107 | D8: 201 | E8: 202 | F8: 203 | G8: 204 | H8: 205 | I8: 206 | J8: 207 | K8: 301 | L8: 302 | M8: 303 | N8: 304 | O8: 305 | P8: 306 | Q8: 307 | R8: 309 | S8: 402 | T8: 403 | U8: 404 | V8: 407 | W8: 408
B9: 106 | C9: 107 | D9: 201 | E9: 202 | F9: 203 | G9: 204 | H9: 205 | I9: 206 | J9: 207 | K9: 301 | L9: 302 | M9: 303 | N9: 304 | O9: 305 | P9: 306 | Q9: 307 | R9: 309 | S9: 402 | T9: 403 | U9: 404 | V9: 407 | W9: 408
B10: 106 | C10: 107 | D10: 201 | E10: 202 | F10: 203 | G10: 204 | H10: 205 | I10: 206 | J10: 207 | K10: 301 | L10: 302 | M10: 303 | N10: 304 | O10: 305 | P10: 306 | Q10: 307 | R10: 309 | S10: 402 | T10: 403 | U10: 404 | V10: 407 | W10: 408
B11: 106 | C11: 107 | D11: 201 | E11: 202 | F11: 203 | G11: 204 | H11: 205 | I11: 206 | J11: 207 | K11: 301 | L11: 302 | M11: 303 | N11: 304 | O11: 305 | P11: 306 | Q11: 307 | R11: 309 | S11: 402 | T11: 403 | U11: 404 | V11: 407 | W11: 408
B12: 106 | C12: 107 | D12: 201 | E12: 202 | F12: 203 | G12: 204 | H12: 205 | I12: 206 | J12: 207 | K12: 301 | L12: 302 | M12: 303 | N12: 304 | O12: 305 | P12: 306 | Q12: 307 | R12: 309 | S12: 402 | T12: 403 | U12: 404 | V12: 407 | W12: 408
B13: 106 | C13: 107 | D13: 201 | E13: 202 | F13: 203 | G13: 204 | H13: 205 | I13: 206 | J13: 207 | K13: 301 | L13: 302 | M13: 303 | N13: 304 | O13: 305 | P13: 306 | Q13: 307 | R13: 309 | S13: 402 | T13: 403 | U13: 404 | V13: 407 | W13: 408
... B27: 106 | C27: 107 | D27: 201 | E27: 202 | F27: 203 | G27: 204 | H27: 205 | I27: 206 | J27: 207 | K27: 301 | L27: 302 | M27: 303 | N27: 304 | O27: 305 | P27: 306 | Q27: 307 | R27: 309 | S27: 402 | T27: 403 | U27: 404 | V27: 407 | W27: 408
B30: 고등부 | C30: 유학 고등부 | D30: 유학 중등부 | E30: 중등부 | F30: 초급부
A31: 1 | B31: 301 | C31: 407 | D31: 106 | E31: 303 | F31: 201 | G31: 204
A32: 2 | B32: 301 | C32: 407 | D32: 106 | E32: 303 | F32: 201 | G32: 204
A33: 3 | B33: 301 | C33: 407 | D33: 106 | E33: 303 | F33: 201 | G33: 204
A34: 4 | B34: 301 | C34: 407 | D34: 106 | E34: 303 | F34: 201 | G34: 204
A35: 5 | B35: 301 | C35: 407 | D35: 106 | E35: 303 | F35: 201 | G35: 204
A36: 6 | B36: 301 | C36: 407 | D36: 106 | E36: 303 | F36: 201 | G36: 204
A37: 7 | B37: 301 | C37: 407 | D37: 106 | E37: 303 | F37: 201 | G37: 204
A38: 8 | B38: 301 | C38: 407 | D38: 106 | E38: 303 | F38: 201 | G38: 204
A39: 9 | B39: 301 | C39: 407 | D39: 106 | E39: 303 | F39: 201 | G39: 204
A40: 10 | B40: 301 | C40: 407 | D40: 106 | E40: 303 | F40: 201 | G40: 204
A41: 11 | B41: 301 | C41: 407 | D41: 106 | E41: 303 | F41: 201 | G41: 204
A42: 12 | B42: 301 | C42: 407 | D42: 106 | E42: 303 | F42: 201 | G42: 204
... A76: 46 | B76: 402 | C76: 408 | D76: 309 | E76: 305 | F76: 202 | G76: 206
A77: 47 | B77: 402 | D77: 309 | E77: 305 | F77: 203 | G77: 206
A78: 48 | B78: 402 | D78: 309 | E78: 305 | F78: 203 | G78: 206
A79: 49 | B79: 402 | D79: 309 | E79: 305 | F79: 203 | G79: 206
A80: 50 | B80: 402 | D80: 309 | E80: 305 | F80: 203 | G80: 206
A81: 51 | B81: 402 | D81: 309 | E81: 305 | F81: 203 | G81: 206
A82: 52 | B82: 402 | D82: 309 | E82: 305 | F82: 203 | G82: 206
A83: 53 | B83: 402 | D83: 309 | E83: 305 | F83: 203 | G83: 206
A84: 54 | B84: 402 | D84: 309 | E84: 305 | F84: 203 | G84: 206
A85: 55 | B85: 402 | E85: 305 | F85: 203 | G85: 206
A86: 56 | B86: 402 | E86: 305 | F86: 203 | G86: 206
A87: 57 | B87: 402 | E87: 305 | F87: 203 | G87: 206
A88: 58 | B88: 402 | E88: 305 | F88: 203 | G88: 206
A89: 59 | B89: 402 | E89: 305 | F89: 203 | G89: 206
A90: 60 | B90: 402 | E90: 305 | F90: 203 | G90: 206
A91: 61 | B91: 403 | E91: 306 | F91: 203 | G91: 206
A92: 62 | B92: 403 | E92: 306 | F92: 203 | G92: 206
A93: 63 | B93: 403 | E93: 306 | F93: 203 | G93: 206
A94: 64 | B94: 403 | E94: 306 | F94: 203 | G94: 206
A95: 65 | B95: 403 | E95: 306 | F95: 203 | G95: 206
A96: 66 | B96: 403 | E96: 306 | F96: 203 | G96: 206
... A99: 69 | B99: 403 | E99: 306 | F99: 203 | G99: 207
A100: 70 | B100: 403 | E100: 306 | G100: 207
A101: 71 | B101: 403 | E101: 306 | G101: 207
A102: 72 | B102: 403 | E102: 306 | G102: 207
A103: 73 | B103: 403 | E103: 306 | G103: 207
A104: 74 | B104: 403 | E104: 306 | G104: 207
A105: 75 | B105: 403 | E105: 306 | G105: 207
A106: 76 | B106: 403 | E106: 306 | G106: 207
A107: 77 | B107: 403 | E107: 306 | G107: 207
A108: 78 | B108: 403 | E108: 306 | G108: 207
A109: 79 | B109: 403 | E109: 306 | G109: 207
A110: 80 | B110: 403 | E110: 306 | G110: 207
A111: 81 | B111: 404 | E111: 307 | G111: 207
... A118: 88 | B118: 404 | E118: 307 | G118: 207
A119: 89 | B119: 404 | E119: 307
A120: 90 | B120: 404 | E120: 307
A121: 91 | B121: 404 | E121: 307
A122: 92 | B122: 404 | E122: 307
A123: 93 | B123: 404 | E123: 307
A124: 94 | B124: 404 | E124: 307
A125: 95 | B125: 404 | E125: 307
A126: 96 | B126: 404 | E126: 307
A127: 97 | B127: 404 | E127: 307
A128: 98 | B128: 404 | E128: 307
A129: 99 | B129: 404 | E129: 307
A130: 100 | B130: 404 | E130: 307
A131: 101 | E131: 307
A132: 102 | E132: 307
A133: 103 | E133: 307
A134: 104 | E134: 307
A135: 105 | E135: 307
A136: 106 | E136: 307
A137: 107

Sheet t_user_room_list
A1: index | B1: № | C1: s_mainsxam | D1: s_id | E1: s_school | F1: s_grade | G1: s_name | H1: s_lname | I1: s_room | J1: s_gen
A2: =I2&"-"&B2 -> 301-1 | B2: =IF(I1<>I2,1,B1+1) -> 1 | C2: 고등부 | D2: KO1300043 | E2: 23-р сургууль | F2: 12 | G2: Khangarid | H2: Chinguun | I2: 301 | J2: 없음
A3: =I3&"-"&B3 -> 301-2 | B3: =IF(I2<>I3,1,B2+1) -> 2 | C3: 고등부 | D3: KO1300175 | E3: 23-р сургууль | F3: 12 | G3: Enkhbayar | H3: Dulguun | I3: 301 | J3: 180일 이하
A4: =I4&"-"&B4 -> 301-3 | B4: =IF(I3<>I4,1,B3+1) -> 3 | C4: 고등부 | D4: KO1300173 | E4: 23-р сургууль | F4: 12 | G4: Gantulga | H4: Kherlen | I4: 301 | J4: 180일 이하
A5: =I5&"-"&B5 -> 301-4 | B5: =IF(I4<>I5,1,B4+1) -> 4 | C5: 고등부 | D5: KO1300055 | E5: 23-р сургууль | F5: 12 | G5: Khangarid | H5: Tsenguun | I5: 301 | J5: 180일 이하
A6: =I6&"-"&B6 -> 301-5 | B6: =IF(I5<>I6,1,B5+1) -> 5 | C6: 고등부 | D6: KO1300394 | E6: 23-р сургууль | F6: 12 | G6: Amarsaikhan | H6: Ulzii enkh | I6: 301 | J6: 180일 이하
A7: =I7&"-"&B7 -> 301-6 | B7: =IF(I6<>I7,1,B6+1) -> 6 | C7: 고등부 | D7: KO1300237 | E7: 23-р сургууль | F7: 11 | G7: Мөнхтогоо | H7: Алтанбагана | I7: 301 | J7: 없음
A8: =I8&"-"&B8 -> 301-7 | B8: =IF(I7<>I8,1,B7+1) -> 7 | C8: 고등부 | D8: KO1300174 | E8: 23-р сургууль | F8: 12 | G8: Бэхбат | H8: Алтаншагай | I8: 301 | J8: 없음
A9: =I9&"-"&B9 -> 301-8 | B9: =IF(I8<>I9,1,B8+1) -> 8 | C9: 고등부 | D9: KO1300319 | E9: буянт-ухаа цогцолбор сургууль | F9: 10 | G9: Амартайван | H9: Анударь | I9: 301 | J9: 없음
A10: =I10&"-"&B10 -> 301-9 | B10: =IF(I9<>I10,1,B9+1) -> 9 | C10: 고등부 | D10: KO1300252 | E10: 23-р сургууль | F10: 12 | G10: Мэнд-Амар | H10: Анужин | I10: 301 | J10: 없음
A11: =I11&"-"&B11 -> 301-10 | B11: =IF(I10<>I11,1,B10+1) -> 10 | C11: 고등부 | D11: KO1300314 | E11: буянт-ухаа цогцолбор сургууль | F11: 10 | G11: Түмэнбат | H11: Анужин | I11: 301 | J11: 없음
A12: =I12&"-"&B12 -> 301-11 | B12: =IF(I11<>I12,1,B11+1) -> 11 | C12: 고등부 | D12: KO1300456 | E12: Гэрэлт Ирээдүй бүрэн дунд сургууль | F12: 11 | G12: Пүрэвдорж | H12: Анужин | I12: 301 | J12: 없음
A13: =I13&"-"&B13 -> 301-12 | B13: =IF(I12<>I13,1,B12+1) -> 12 | C13: 고등부 | D13: KO1300458 | E13: Гэрэлт Ирээдүй бүрэн дунд сургууль | F13: 10 | G13: Баасанжав | H13: Анужин | I13: 301 | J13: 없음
... A451: =I451&"-"&B451 -> 207-24 | B451: =IF(I450<>I451,1,B450+1) -> 24 | C451: 초등부 | D451: KO1300052 | E451: 23-р сургууль | F451: 6 | G451: Дашзэвэг | H451: Эрдэнэбат | I451: 207 | J451: 180일 이하
A452: =#REF!&"-"&B452 -> #REF! | B452: =IF(I451<>#REF!,1,B451+1) -> #REF! | C452: 초등부 | D452: KO1300417 | E452: НЕБ Улаанбаатар сургууль | F452: 4 | G452: Дөлгөөн | H452: Эрмүүн | I452: 207 | J452: 없음
A453: =I452&"-"&B453 -> #REF! | B453: =IF(#REF!<>I452,1,B452+1) -> #REF!

Sheet TOTAL
A2: 제 13회 몽골 전국 한국어 경시대회
A3: № | B3: s_school | C3: Нийт | D3: 초급부 | E3: 초등부 | F3: 중등부 | G3: 고등부 | H3: 유학 중등부 | I3: 유학 고등부
A4: 1 | B4: 18-р сургууль | C4: =SUM(D4:I4) -> 69 | D4: =IF(COUNTIFS(t_user_room_list!$E:$E,TOTAL!$B4,t_user_room_list!$C:$C,TOTAL!D$3)=0,"",COUNTIFS(t_user_room_list!$E:$E,TOTAL!$B4,t_user_room_list!$C:$C,TOTAL!D$3)) -> 9 | E4: =IF(COUNTIFS(t_user_room_list!$E:$E,TOTAL!$B4,t_user_room_list!$C:$C,TOTAL!E$3)=0,"",COUNTIFS(t_user_room_list!$E:$E,TOTAL!$B4,t_user_room_list!$C:$C,TOTAL!E$3)) -> 16 | F4: =IF(COUNTIFS(t_user_room_list!$E:$E,TOTAL!$B4,t_user_room_list!$C:$C,TOTAL!F$3)=0,"",COUNTIFS(t_user_room_list!$E:$E,TOTAL!$B4,t_user_room_list!$C:$C,TOTAL!F$3)) -> 15 | G4: =IF(COUNTIFS(t_user_room_list!$E:$E,TOTAL!$B4,t_user_room_list!$C:$C,TOTAL!G$3)=0,"",COUNTIFS(t_user_room_list!$E:$E,TOTAL!$B4,t_user_room_list!$C:$C,TOTAL!G$3)) -> 13 | H4: =IF(COUNTIFS(t_user_room_list!$E:$E,TOTAL!$B4,t_user_room_list!$C:$C,TOTAL!H$3)=0,"",COUNTIFS(t_user_room_list!$E:$E,TOTAL!$B4,t_user_room_list!$C:$C,TOTAL!H$3)) -> 10 | I4: =IF(COUNTIFS(t_user_room_list!$E:$E,TOTAL!$B4,t_user_room_list!$C:$C,TOTAL!I$3)=0,"",COUNTIFS(t_user_room_list!$E:$E,TOTAL!$B4,t_user_room_list!$C:$C,TOTAL!I$3)) -> 6
A5: 2 | B5: 1-р сургууль | C5: =SUM(D5:I5) -> 1 | D5: =IF(COUNTIFS(t_user_room_list!$E:$E,TOTAL!$B5,t_user_room_list!$C:$C,TOTAL!D$3)=0,"",COUNTIFS(t_user_room_list!$E:$E,TOTAL!$B5,t_user_room_list!$C:$C,TOTAL!D$3)) | E5: =IF(COUNTIFS(t_user_room_list!$E:$E,TOTAL!$B5,t_user_room_list!$C:$C,TOTAL!E$3)=0,"",COUNTIFS(t_user_room_list!$E:$E,TOTAL!$B5,t_user_room_list!$C:$C,TOTAL!E$3)) | F5: =IF(COUNTIFS(t_user_room_list!$E:$E,TOTAL!$B5,t_user_room_list!$C:$C,TOTAL!F$3)=0,"",COUNTIFS(t_user_room_list!$E:$E,TOTAL!$B5,t_user_room_list!$C:$C,TOTAL!F$3)) | G5: =IF(COUNTIFS(t_user_room_list!$E:$E,TOTAL!$B5,t_user_room_list!$C:$C,TOTAL!G$3)=0,"",COUNTIFS(t_user_room_list!$E:$E,TOTAL!$B5,t_user_room_list!$C:$C,TOTAL!G$3)) | H5: =IF(COUNTIFS(t_user_room_list!$E:$E,TOTAL!$B5,t_user_room_list!$C:$C,TOTAL!H$3)=0,"",COUNTIFS(t_user_room_list!$E:$E,TOTAL!$B5,t_user_room_list!$C:$C,TOTAL!H$3)) -> 1 | I5: =IF(COUNTIFS(t_user_room_list!$E:$E,TOTAL!$B5,t_user_room_list!$C:$C,TOTAL!I$3)=0,"",COUNTIFS(t_user_room_list!$E:$E,TOTAL!$B5,t_user_room_list!$C:$C,TOTAL!I$3))
A6: 3 | B6: 23-р сургууль | C6: =SUM(D6:I6) -> 156 | D6: =IF(COUNTIFS(t_user_room_list!$E:$E,TOTAL!$B6,t_user_room_list!$C:$C,TOTAL!D$3)=0,"",COUNTIFS(t_user_room_list!$E:$E,TOTAL!$B6,t_user_room_list!$C:$C,TOTAL!D$3)) -> 26 | E6: =IF(COUNTIFS(t_user_room_list!$E:$E,TOTAL!$B6,t_user_room_list!$C:$C,TOTAL!E$3)=0,"",COUNTIFS(t_user_room_list!$E:$E,TOTAL!$B6,t_user_room_list!$C:$C,TOTAL!E$3)) -> 13 | F6: =IF(COUNTIFS(t_user_room_list!$E:$E,TOTAL!$B6,t_user_room_list!$C:$C,TOTAL!F$3)=0,"",COUNTIFS(t_user_room_list!$E:$E,TOTAL!$B6,t_user_room_list!$C:$C,TOTAL!F$3)) -> 31 | G6: =IF(COUNTIFS(t_user_room_list!$E:$E,TOTAL!$B6,t_user_room_list!$C:$C,TOTAL!G$3)=0,"",COUNTIFS(t_user_room_list!$E:$E,TOTAL!$B6,t_user_room_list!$C:$C,TOTAL!G$3)) -> 52 | H6: =IF(COUNTIFS(t_user_room_list!$E:$E,TOTAL!$B6,t_user_room_list!$C:$C,TOTAL!H$3)=0,"",COUNTIFS(t_user_room_list!$E:$E,TOTAL!$B6,t_user_room_list!$C:$C,TOTAL!H$3)) -> 16 | I6: =IF(COUNTIFS(t_user_room_list!$E:$E,TOTAL!$B6,t_user_room_list!$C:$C,TOTAL!I$3)=0,"",COUNTIFS(t_user_room_list!$E:$E,TOTAL!$B6,t_user_room_list!$C:$C,TOTAL!I$3)) -> 18
A7: 4 | B7: 34-сургууль | C7: =SUM(D7:I7) -> 1 | D7: =IF(COUNTIFS(t_user_room_list!$E:$E,TOTAL!$B7,t_user_room_list!$C:$C,TOTAL!D$3)=0,"",COUNTIFS(t_user_room_list!$E:$E,TOTAL!$B7,t_user_room_list!$C:$C,TOTAL!D$3)) | E7: =IF(COUNTIFS(t_user_room_list!$E:$E,TOTAL!$B7,t_user_room_list!$C:$C,TOTAL!E$3)=0,"",COUNTIFS(t_user_room_list!$E:$E,TOTAL!$B7,t_user_room_list!$C:$C,TOTAL!E$3)) | F7: =IF(COUNTIFS(t_user_room_list!$E:$E,TOTAL!$B7,t_user_room_list!$C:$C,TOTAL!F$3)=0,"",COUNTIFS(t_user_room_list!$E:$E,TOTAL!$B7,t_user_room_list!$C:$C,TOTAL!F$3)) | G7: =IF(COUNTIFS(t_user_room_list!$E:$E,TOTAL!$B7,t_user_room_list!$C:$C,TOTAL!G$3)=0,"",COUNTIFS(t_user_room_list!$E:$E,TOTAL!$B7,t_user_room_list!$C:$C,TOTAL!G$3)) -> 1 | H7: =IF(COUNTIFS(t_user_room_list!$E:$E,TOTAL!$B7,t_user_room_list!$C:$C,TOTAL!H$3)=0,"",COUNTIFS(t_user_room_list!$E:$E,TOTAL!$B7,t_user_room_list!$C:$C,TOTAL!H$3)) | I7: =IF(COUNTIFS(t_user_room_list!$E:$E,TOTAL!$B7,t_user_room_list!$C:$C,TOTAL!I$3)=0,"",COUNTIFS(t_user_room_list!$E:$E,TOTAL!$B7,t_user_room_list!$C:$C,TOTAL!I$3))
A8: 5 | B8: 39-р сургууль | C8: =SUM(D8:I8) -> 4 | D8: =IF(COUNTIFS(t_user_room_list!$E:$E,TOTAL!$B8,t_user_room_list!$C:$C,TOTAL!D$3)=0,"",COUNTIFS(t_user_room_list!$E:$E,TOTAL!$B8,t_user_room_list!$C:$C,TOTAL!D$3)) -> 4 | E8: =IF(COUNTIFS(t_user_room_list!$E:$E,TOTAL!$B8,t_user_room_list!$C:$C,TOTAL!E$3)=0,"",COUNTIFS(t_user_room_list!$E:$E,TOTAL!$B8,t_user_room_list!$C:$C,TOTAL!E$3)) | F8: =IF(COUNTIFS(t_user_room_list!$E:$E,TOTAL!$B8,t_user_room_list!$C:$C,TOTAL!F$3)=0,"",COUNTIFS(t_user_room_list!$E:$E,TOTAL!$B8,t_user_room_list!$C:$C,TOTAL!F$3)) | G8: =IF(COUNTIFS(t_user_room_list!$E:$E,TOTAL!$B8,t_user_room_list!$C:$C,TOTAL!G$3)=0,"",COUNTIFS(t_user_room_list!$E:$E,TOTAL!$B8,t_user_room_list!$C:$C,TOTAL!G$3)) | H8: =IF(COUNTIFS(t_user_room_list!$E:$E,TOTAL!$B8,t_user_room_list!$C:$C,TOTAL!H$3)=0,"",COUNTIFS(t_user_room_list!$E:$E,TOTAL!$B8,t_user_room_list!$C:$C,TOTAL!H$3)) | I8: =IF(COUNTIFS(t_user_room_list!$E:$E,TOTAL!$B8,t_user_room_list!$C:$C,TOTAL!I$3)=0,"",COUNTIFS(t_user_room_list!$E:$E,TOTAL!$B8,t_user_room_list!$C:$C,TOTAL!I$3))
A9: 6 | B9: 52-р сургууль | C9: =SUM(D9:I9) -> 8 | D9: =IF(COUNTIFS(t_user_room_list!$E:$E,TOTAL!$B9,t_user_room_list!$C:$C,TOTAL!D$3)=0,"",COUNTIFS(t_user_room_list!$E:$E,TOTAL!$B9,t_user_room_list!$C:$C,TOTAL!D$3)) -> 7 | E9: =IF(COUNTIFS(t_user_room_list!$E:$E,TOTAL!$B9,t_user_room_list!$C:$C,TOTAL!E$3)=0,"",COUNTIFS(t_user_room_list!$E:$E,TOTAL!$B9,t_user_room_list!$C:$C,TOTAL!E$3)) | F9: =IF(COUNTIFS(t_user_room_list!$E:$E,TOTAL!$B9,t_user_room_list!$C:$C,TOTAL!F$3)=0,"",COUNTIFS(t_user_room_list!$E:$E,TOTAL!$B9,t_user_room_list!$C:$C,TOTAL!F$3)) | G9: =IF(COUNTIFS(t_user_room_list!$E:$E,TOTAL!$B9,t_user_room_list!$C:$C,TOTAL!G$3)=0,"",COUNTIFS(t_user_room_list!$E:$E,TOTAL!$B9,t_user_room_list!$C:$C,TOTAL!G$3)) | H9: =IF(COUNTIFS(t_user_room_list!$E:$E,TOTAL!$B9,t_user_room_list!$C:$C,TOTAL!H$3)=0,"",COUNTIFS(t_user_room_list!$E:$E,TOTAL!$B9,t_user_room_list!$C:$C,TOTAL!H$3)) -> 1 | I9: =IF(COUNTIFS(t_user_room_list!$E:$E,TOTAL!$B9,t_user_room_list!$C:$C,TOTAL!I$3)=0,"",COUNTIFS(t_user_room_list!$E:$E,TOTAL!$B9,t_user_room_list!$C:$C,TOTAL!I$3))
A10: 7 | B10: 77-р сургууль | C10: =SUM(D10:I10) -> 1 | D10: =IF(COUNTIFS(t_user_room_list!$E:$E,TOTAL!$B10,t_user_room_list!$C:$C,TOTAL!D$3)=0,"",COUNTIFS(t_user_room_list!$E:$E,TOTAL!$B10,t_user_room_list!$C:$C,TOTAL!D$3)) | E10: =IF(COUNTIFS(t_user_room_list!$E:$E,TOTAL!$B10,t_user_room_list!$C:$C,TOTAL!E$3)=0,"",COUNTIFS(t_user_room_list!$E:$E,TOTAL!$B10,t_user_room_list!$C:$C,TOTAL!E$3)) | F10: =IF(COUNTIFS(t_user_room_list!$E:$E,TOTAL!$B10,t_user_room_list!$C:$C,TOTAL!F$3)=0,"",COUNTIFS(t_user_room_list!$E:$E,TOTAL!$B10,t_user_room_list!$C:$C,TOTAL!F$3)) | G10: =IF(COUNTIFS(t_user_room_list!$E:$E,TOTAL!$B10,t_user_room_list!$C:$C,TOTAL!G$3)=0,"",COUNTIFS(t_user_room_list!$E:$E,TOTAL!$B10,t_user_room_list!$C:$C,TOTAL!G$3)) | H10: =IF(COUNTIFS(t_user_room_list!$E:$E,TOTAL!$B10,t_user_room_list!$C:$C,TOTAL!H$3)=0,"",COUNTIFS(t_user_room_list!$E:$E,TOTAL!$B10,t_user_room_list!$C:$C,TOTAL!H$3)) | I10: =IF(COUNTIFS(t_user_room_list!$E:$E,TOTAL!$B10,t_user_room_list!$C:$C,TOTAL!I$3)=0,"",COUNTIFS(t_user_room_list!$E:$E,TOTAL!$B10,t_user_room_list!$C:$C,TOTAL!I$3)) -> 1
A11: 8 | B11: буянт-ухаа цогцолбор сургууль | C11: =SUM(D11:I11) -> 29 | D11: =IF(COUNTIFS(t_user_room_list!$E:$E,TOTAL!$B11,t_user_room_list!$C:$C,TOTAL!D$3)=0,"",COUNTIFS(t_user_room_list!$E:$E,TOTAL!$B11,t_user_room_list!$C:$C,TOTAL!D$3)) -> 6 | E11: =IF(COUNTIFS(t_user_room_list!$E:$E,TOTAL!$B11,t_user_room_list!$C:$C,TOTAL!E$3)=0,"",COUNTIFS(t_user_room_list!$E:$E,TOTAL!$B11,t_user_room_list!$C:$C,TOTAL!E$3)) | F11: =IF(COUNTIFS(t_user_room_list!$E:$E,TOTAL!$B11,t_user_room_list!$C:$C,TOTAL!F$3)=0,"",COUNTIFS(t_user_room_list!$E:$E,TOTAL!$B11,t_user_room_list!$C:$C,TOTAL!F$3)) -> 16 | G11: =IF(COUNTIFS(t_user_room_list!$E:$E,TOTAL!$B11,t_user_room_list!$C:$C,TOTAL!G$3)=0,"",COUNTIFS(t_user_room_list!$E:$E,TOTAL!$B11,t_user_room_list!$C:$C,TOTAL!G$3)) -> 7 | H11: =IF(COUNTIFS(t_user_room_list!$E:$E,TOTAL!$B11,t_user_room_list!$C:$C,TOTAL!H$3)=0,"",COUNTIFS(t_user_room_list!$E:$E,TOTAL!$B11,t_user_room_list!$C:$C,TOTAL!H$3)) | I11: =IF(COUNTIFS(t_user_room_list!$E:$E,TOTAL!$B11,t_user_room_list!$C:$C,TOTAL!I$3)=0,"",COUNTIFS(t_user_room_list!$E:$E,TOTAL!$B11,t_user_room_list!$C:$C,TOTAL!I$3))
A12: 9 | B12: Гэрэлт Ирээдүй бүрэн дунд сургууль | C12: =SUM(D12:I12) -> 30 | D12: =IF(COUNTIFS(t_user_room_list!$E:$E,TOTAL!$B12,t_user_room_list!$C:$C,TOTAL!D$3)=0,"",COUNTIFS(t_user_room_list!$E:$E,TOTAL!$B12,t_user_room_list!$C:$C,TOTAL!D$3)) -> 1 | E12: =IF(COUNTIFS(t_user_room_list!$E:$E,TOTAL!$B12,t_user_room_list!$C:$C,TOTAL!E$3)=0,"",COUNTIFS(t_user_room_list!$E:$E,TOTAL!$B12,t_user_room_list!$C:$C,TOTAL!E$3)) -> 7 | F12: =IF(COUNTIFS(t_user_room_list!$E:$E,TOTAL!$B12,t_user_room_list!$C:$C,TOTAL!F$3)=0,"",COUNTIFS(t_user_room_list!$E:$E,TOTAL!$B12,t_user_room_list!$C:$C,TOTAL!F$3)) -> 8 | G12: =IF(COUNTIFS(t_user_room_list!$E:$E,TOTAL!$B12,t_user_room_list!$C:$C,TOTAL!G$3)=0,"",COUNTIFS(t_user_room_list!$E:$E,TOTAL!$B12,t_user_room_list!$C:$C,TOTAL!G$3)) -> 10 | H12: =IF(COUNTIFS(t_user_room_list!$E:$E,TOTAL!$B12,t_user_room_list!$C:$C,TOTAL!H$3)=0,"",COUNTIFS(t_user_room_list!$E:$E,TOTAL!$B12,t_user_room_list!$C:$C,TOTAL!H$3)) -> 3 | I12: =IF(COUNTIFS(t_user_room_list!$E:$E,TOTAL!$B12,t_user_room_list!$C:$C,TOTAL!I$3)=0,"",COUNTIFS(t_user_room_list!$E:$E,TOTAL!$B12,t_user_room_list!$C:$C,TOTAL!I$3)) -> 1
A13: 10 | B13: Монгени Цогцолбор сургууль | C13: =SUM(D13:I13) -> 17 | D13: =IF(COUNTIFS(t_user_room_list!$E:$E,TOTAL!$B13,t_user_room_list!$C:$C,TOTAL!D$3)=0,"",COUNTIFS(t_user_room_list!$E:$E,TOTAL!$B13,t_user_room_list!$C:$C,TOTAL!D$3)) | E13: =IF(COUNTIFS(t_user_room_list!$E:$E,TOTAL!$B13,t_user_room_list!$C:$C,TOTAL!E$3)=0,"",COUNTIFS(t_user_room_list!$E:$E,TOTAL!$B13,t_user_room_list!$C:$C,TOTAL!E$3)) -> 2 | F13: =IF(COUNTIFS(t_user_room_list!$E:$E,TOTAL!$B13,t_user_room_list!$C:$C,TOTAL!F$3)=0,"",COUNTIFS(t_user_room_list!$E:$E,TOTAL!$B13,t_user_room_list!$C:$C,TOTAL!F$3)) -> 4 | G13: =IF(COUNTIFS(t_user_room_list!$E:$E,TOTAL!$B13,t_user_room_list!$C:$C,TOTAL!G$3)=0,"",COUNTIFS(t_user_room_list!$E:$E,TOTAL!$B13,t_user_room_list!$C:$C,TOTAL!G$3)) -> 3 | H13: =IF(COUNTIFS(t_user_room_list!$E:$E,TOTAL!$B13,t_user_room_list!$C:$C,TOTAL!H$3)=0,"",COUNTIFS(t_user_room_list!$E:$E,TOTAL!$B13,t_user_room_list!$C:$C,TOTAL!H$3)) -> 4 | I13: =IF(COUNTIFS(t_user_room_list!$E:$E,TOTAL!$B13,t_user_room_list!$C:$C,TOTAL!I$3)=0,"",COUNTIFS(t_user_room_list!$E:$E,TOTAL!$B13,t_user_room_list!$C:$C,TOTAL!I$3)) -> 4
A14: 11 | B14: Монгол оюу сургууль | C14: =SUM(D14:I14) -> 8 | D14: =IF(COUNTIFS(t_user_room_list!$E:$E,TOTAL!$B14,t_user_room_list!$C:$C,TOTAL!D$3)=0,"",COUNTIFS(t_user_room_list!$E:$E,TOTAL!$B14,t_user_room_list!$C:$C,TOTAL!D$3)) -> 8 | E14: =IF(COUNTIFS(t_user_room_list!$E:$E,TOTAL!$B14,t_user_room_list!$C:$C,TOTAL!E$3)=0,"",COUNTIFS(t_user_room_list!$E:$E,TOTAL!$B14,t_user_room_list!$C:$C,TOTAL!E$3)) | F14: =IF(COUNTIFS(t_user_room_list!$E:$E,TOTAL!$B14,t_user_room_list!$C:$C,TOTAL!F$3)=0,"",COUNTIFS(t_user_room_list!$E:$E,TOTAL!$B14,t_user_room_list!$C:$C,TOTAL!F$3)) | G14: =IF(COUNTIFS(t_user_room_list!$E:$E,TOTAL!$B14,t_user_room_list!$C:$C,TOTAL!G$3)=0,"",COUNTIFS(t_user_room_list!$E:$E,TOTAL!$B14,t_user_room_list!$C:$C,TOTAL!G$3)) | H14: =IF(COUNTIFS(t_user_room_list!$E:$E,TOTAL!$B14,t_user_room_list!$C:$C,TOTAL!H$3)=0,"",COUNTIFS(t_user_room_list!$E:$E,TOTAL!$B14,t_user_room_list!$C:$C,TOTAL!H$3)) | I14: =IF(COUNTIFS(t_user_room_list!$E:$E,TOTAL!$B14,t_user_room_list!$C:$C,TOTAL!I$3)=0,"",COUNTIFS(t_user_room_list!$E:$E,TOTAL!$B14,t_user_room_list!$C:$C,TOTAL!I$3))
A15: 12 | B15: НЕБ Улаанбаатар сургууль | C15: =SUM(D15:I15) -> 78 | D15: =IF(COUNTIFS(t_user_room_list!$E:$E,TOTAL!$B15,t_user_room_list!$C:$C,TOTAL!D$3)=0,"",COUNTIFS(t_user_room_list!$E:$E,TOTAL!$B15,t_user_room_list!$C:$C,TOTAL!D$3)) | E15: =IF(COUNTIFS(t_user_room_list!$E:$E,TOTAL!$B15,t_user_room_list!$C:$C,TOTAL!E$3)=0,"",COUNTIFS(t_user_room_list!$E:$E,TOTAL!$B15,t_user_room_list!$C:$C,TOTAL!E$3)) -> 37 | F15: =IF(COUNTIFS(t_user_room_list!$E:$E,TOTAL!$B15,t_user_room_list!$C:$C,TOTAL!F$3)=0,"",COUNTIFS(t_user_room_list!$E:$E,TOTAL!$B15,t_user_room_list!$C:$C,TOTAL!F$3)) -> 8 | G15: =IF(COUNTIFS(t_user_room_list!$E:$E,TOTAL!$B15,t_user_room_list!$C:$C,TOTAL!G$3)=0,"",COUNTIFS(t_user_room_list!$E:$E,TOTAL!$B15,t_user_room_list!$C:$C,TOTAL!G$3)) -> 11 | H15: =IF(COUNTIFS(t_user_room_list!$E:$E,TOTAL!$B15,t_user_room_list!$C:$C,TOTAL!H$3)=0,"",COUNTIFS(t_user_room_list!$E:$E,TOTAL!$B15,t_user_room_list!$C:$C,TOTAL!H$3)) -> 10 | I15: =IF(COUNTIFS(t_user_room_list!$E:$E,TOTAL!$B15,t_user_room_list!$C:$C,TOTAL!I$3)=0,"",COUNTIFS(t_user_room_list!$E:$E,TOTAL!$B15,t_user_room_list!$C:$C,TOTAL!I$3)) -> 12
... A19: 16 | B19: Хүрээ тулга | C19: =SUM(D19:I19) -> 33 | D19: =IF(COUNTIFS(t_user_room_list!$E:$E,TOTAL!$B19,t_user_room_list!$C:$C,TOTAL!D$3)=0,"",COUNTIFS(t_user_room_list!$E:$E,TOTAL!$B19,t_user_room_list!$C:$C,TOTAL!D$3)) -> 9 | E19: =IF(COUNTIFS(t_user_room_list!$E:$E,TOTAL!$B19,t_user_room_list!$C:$C,TOTAL!E$3)=0,"",COUNTIFS(t_user_room_list!$E:$E,TOTAL!$B19,t_user_room_list!$C:$C,TOTAL!E$3)) | F19: =IF(COUNTIFS(t_user_room_list!$E:$E,TOTAL!$B19,t_user_room_list!$C:$C,TOTAL!F$3)=0,"",COUNTIFS(t_user_room_list!$E:$E,TOTAL!$B19,t_user_room_list!$C:$C,TOTAL!F$3)) -> 5 | G19: =IF(COUNTIFS(t_user_room_list!$E:$E,TOTAL!$B19,t_user_room_list!$C:$C,TOTAL!G$3)=0,"",COUNTIFS(t_user_room_list!$E:$E,TOTAL!$B19,t_user_room_list!$C:$C,TOTAL!G$3)) -> 8 | H19: =IF(COUNTIFS(t_user_room_list!$E:$E,TOTAL!$B19,t_user_room_list!$C:$C,TOTAL!H$3)=0,"",COUNTIFS(t_user_room_list!$E:$E,TOTAL!$B19,t_user_room_list!$C:$C,TOTAL!H$3)) -> 5 | I19: =IF(COUNTIFS(t_user_room_list!$E:$E,TOTAL!$B19,t_user_room_list!$C:$C,TOTAL!I$3)=0,"",COUNTIFS(t_user_room_list!$E:$E,TOTAL!$B19,t_user_room_list!$C:$C,TOTAL!I$3)) -> 6
A20: НИЙТ | C20: =SUM(C4:C19) -> 451 | D20: =SUM(D4:D19) -> 76 | E20: =SUM(E4:E19) -> 75 | F20: =SUM(F4:F19) -> 95 | G20: =SUM(G4:G19) -> 105 | H20: =SUM(H4:H19) -> 50 | I20: =SUM(I4:I19) -> 50
A22: № | B22: s_room | C22: Нийт | D22: 초급부 | E22: 초등부 | F22: 중등부 | G22: 고등부 | H22: 유학 중등부 | I22: 유학 고등부
A23: 1 | B23: 106 | C23: =SUM(D23:I23) -> 19 | D23: =IFERROR(IF(COUNTIFS(t_user_room_list!$I:$I,TOTAL!$B23,t_user_room_list!$C:$C,TOTAL!D$22)=0,"",COUNTIFS(t_user_room_list!$I:$I,TOTAL!$B23,t_user_room_list!$C:$C,TOTAL!D$22)),"") | E23: =IFERROR(IF(COUNTIFS(t_user_room_list!$I:$I,TOTAL!$B23,t_user_room_list!$C:$C,TOTAL!E$22)=0,"",COUNTIFS(t_user_room_list!$I:$I,TOTAL!$B23,t_user_room_list!$C:$C,TOTAL!E$22)),"") | F23: =IFERROR(IF(COUNTIFS(t_user_room_list!$I:$I,TOTAL!$B23,t_user_room_list!$C:$C,TOTAL!F$22)=0,"",COUNTIFS(t_user_room_list!$I:$I,TOTAL!$B23,t_user_room_list!$C:$C,TOTAL!F$22)),"") | G23: =IFERROR(IF(COUNTIFS(t_user_room_list!$I:$I,TOTAL!$B23,t_user_room_list!$C:$C,TOTAL!G$22)=0,"",COUNTIFS(t_user_room_list!$I:$I,TOTAL!$B23,t_user_room_list!$C:$C,TOTAL!G$22)),"") | H23: =IFERROR(IF(COUNTIFS(t_user_room_list!$I:$I,TOTAL!$B23,t_user_room_list!$C:$C,TOTAL!H$22)=0,"",COUNTIFS(t_user_room_list!$I:$I,TOTAL!$B23,t_user_room_list!$C:$C,TOTAL!H$22)),"") -> 19 | I23: =IFERROR(IF(COUNTIFS(t_user_room_list!$I:$I,TOTAL!$B23,t_user_room_list!$C:$C,TOTAL!I$22)=0,"",COUNTIFS(t_user_room_list!$I:$I,TOTAL!$B23,t_user_room_list!$C:$C,TOTAL!I$22)),"")
A24: 2 | B24: 107 | C24: =SUM(D24:I24) -> 19 | D24: =IFERROR(IF(COUNTIFS(t_user_room_list!$I:$I,TOTAL!$B24,t_user_room_list!$C:$C,TOTAL!D$22)=0,"",COUNTIFS(t_user_room_list!$I:$I,TOTAL!$B24,t_user_room_list!$C:$C,TOTAL!D$22)),"") | E24: =IFERROR(IF(COUNTIFS(t_user_room_list!$I:$I,TOTAL!$B24,t_user_room_list!$C:$C,TOTAL!E$22)=0,"",COUNTIFS(t_user_room_list!$I:$I,TOTAL!$B24,t_user_room_list!$C:$C,TOTAL!E$22)),"") | F24: =IFERROR(IF(COUNTIFS(t_user_room_list!$I:$I,TOTAL!$B24,t_user_room_list!$C:$C,TOTAL!F$22)=0,"",COUNTIFS(t_user_room_list!$I:$I,TOTAL!$B24,t_user_room_list!$C:$C,TOTAL!F$22)),"") | G24: =IFERROR(IF(COUNTIFS(t_user_room_list!$I:$I,TOTAL!$B24,t_user_room_list!$C:$C,TOTAL!G$22)=0,"",COUNTIFS(t_user_room_list!$I:$I,TOTAL!$B24,t_user_room_list!$C:$C,TOTAL!G$22)),"") | H24: =IFERROR(IF(COUNTIFS(t_user_room_list!$I:$I,TOTAL!$B24,t_user_room_list!$C:$C,TOTAL!H$22)=0,"",COUNTIFS(t_user_room_list!$I:$I,TOTAL!$B24,t_user_room_list!$C:$C,TOTAL!H$22)),"") -> 19 | I24: =IFERROR(IF(COUNTIFS(t_user_room_list!$I:$I,TOTAL!$B24,t_user_room_list!$C:$C,TOTAL!I$22)=0,"",COUNTIFS(t_user_room_list!$I:$I,TOTAL!$B24,t_user_room_list!$C:$C,TOTAL!I$22)),"")
A25: 3 | B25: 201 | C25: =SUM(D25:I25) -> 20 | D25: =IFERROR(IF(COUNTIFS(t_user_room_list!$I:$I,TOTAL!$B25,t_user_room_list!$C:$C,TOTAL!D$22)=0,"",COUNTIFS(t_user_room_list!$I:$I,TOTAL!$B25,t_user_room_list!$C:$C,TOTAL!D$22)),"") -> 20 | E25: =IFERROR(IF(COUNTIFS(t_user_room_list!$I:$I,TOTAL!$B25,t_user_room_list!$C:$C,TOTAL!E$22)=0,"",COUNTIFS(t_user_room_list!$I:$I,TOTAL!$B25,t_user_room_list!$C:$C,TOTAL!E$22)),"") | F25: =IFERROR(IF(COUNTIFS(t_user_room_list!$I:$I,TOTAL!$B25,t_user_room_list!$C:$C,TOTAL!F$22)=0,"",COUNTIFS(t_user_room_list!$I:$I,TOTAL!$B25,t_user_room_list!$C:$C,TOTAL!F$22)),"") | G25: =IFERROR(IF(COUNTIFS(t_user_room_list!$I:$I,TOTAL!$B25,t_user_room_list!$C:$C,TOTAL!G$22)=0,"",COUNTIFS(t_user_room_list!$I:$I,TOTAL!$B25,t_user_room_list!$C:$C,TOTAL!G$22)),"") | H25: =IFERROR(IF(COUNTIFS(t_user_room_list!$I:$I,TOTAL!$B25,t_user_room_list!$C:$C,TOTAL!H$22)=0,"",COUNTIFS(t_user_room_list!$I:$I,TOTAL!$B25,t_user_room_list!$C:$C,TOTAL!H$22)),"") | I25: =IFERROR(IF(COUNTIFS(t_user_room_list!$I:$I,TOTAL!$B25,t_user_room_list!$C:$C,TOTAL!I$22)=0,"",COUNTIFS(t_user_room_list!$I:$I,TOTAL!$B25,t_user_room_list!$C:$C,TOTAL!I$22)),"")
A26: 4 | B26: 202 | C26: =SUM(D26:I26) -> 20 | D26: =IFERROR(IF(COUNTIFS(t_user_room_list!$I:$I,TOTAL!$B26,t_user_room_list!$C:$C,TOTAL!D$22)=0,"",COUNTIFS(t_user_room_list!$I:$I,TOTAL!$B26,t_user_room_list!$C:$C,TOTAL!D$22)),"") -> 20 | E26: =IFERROR(IF(COUNTIFS(t_user_room_list!$I:$I,TOTAL!$B26,t_user_room_list!$C:$C,TOTAL!E$22)=0,"",COUNTIFS(t_user_room_list!$I:$I,TOTAL!$B26,t_user_room_list!$C:$C,TOTAL!E$22)),"") | F26: =IFERROR(IF(COUNTIFS(t_user_room_list!$I:$I,TOTAL!$B26,t_user_room_list!$C:$C,TOTAL!F$22)=0,"",COUNTIFS(t_user_room_list!$I:$I,TOTAL!$B26,t_user_room_list!$C:$C,TOTAL!F$22)),"") | G26: =IFERROR(IF(COUNTIFS(t_user_room_list!$I:$I,TOTAL!$B26,t_user_room_list!$C:$C,TOTAL!G$22)=0,"",COUNTIFS(t_user_room_list!$I:$I,TOTAL!$B26,t_user_room_list!$C:$C,TOTAL!G$22)),"") | H26: =IFERROR(IF(COUNTIFS(t_user_room_list!$I:$I,TOTAL!$B26,t_user_room_list!$C:$C,TOTAL!H$22)=0,"",COUNTIFS(t_user_room_list!$I:$I,TOTAL!$B26,t_user_room_list!$C:$C,TOTAL!H$22)),"") | I26: =IFERROR(IF(COUNTIFS(t_user_room_list!$I:$I,TOTAL!$B26,t_user_room_list!$C:$C,TOTAL!I$22)=0,"",COUNTIFS(t_user_room_list!$I:$I,TOTAL!$B26,t_user_room_list!$C:$C,TOTAL!I$22)),"")
A27: 5 | B27: 203 | C27: =SUM(D27:I27) -> 20 | D27: =IFERROR(IF(COUNTIFS(t_user_room_list!$I:$I,TOTAL!$B27,t_user_room_list!$C:$C,TOTAL!D$22)=0,"",COUNTIFS(t_user_room_list!$I:$I,TOTAL!$B27,t_user_room_list!$C:$C,TOTAL!D$22)),"") -> 20 | E27: =IFERROR(IF(COUNTIFS(t_user_room_list!$I:$I,TOTAL!$B27,t_user_room_list!$C:$C,TOTAL!E$22)=0,"",COUNTIFS(t_user_room_list!$I:$I,TOTAL!$B27,t_user_room_list!$C:$C,TOTAL!E$22)),"") | F27: =IFERROR(IF(COUNTIFS(t_user_room_list!$I:$I,TOTAL!$B27,t_user_room_list!$C:$C,TOTAL!F$22)=0,"",COUNTIFS(t_user_room_list!$I:$I,TOTAL!$B27,t_user_room_list!$C:$C,TOTAL!F$22)),"") | G27: =IFERROR(IF(COUNTIFS(t_user_room_list!$I:$I,TOTAL!$B27,t_user_room_list!$C:$C,TOTAL!G$22)=0,"",COUNTIFS(t_user_room_list!$I:$I,TOTAL!$B27,t_user_room_list!$C:$C,TOTAL!G$22)),"") | H27: =IFERROR(IF(COUNTIFS(t_user_room_list!$I:$I,TOTAL!$B27,t_user_room_list!$C:$C,TOTAL!H$22)=0,"",COUNTIFS(t_user_room_list!$I:$I,TOTAL!$B27,t_user_room_list!$C:$C,TOTAL!H$22)),"") | I27: =IFERROR(IF(COUNTIFS(t_user_room_list!$I:$I,TOTAL!$B27,t_user_room_list!$C:$C,TOTAL!I$22)=0,"",COUNTIFS(t_user_room_list!$I:$I,TOTAL!$B27,t_user_room_list!$C:$C,TOTAL!I$22)),"")
A28: 6 | B28: 204 | C28: =SUM(D28:I28) -> 16 | D28: =IFERROR(IF(COUNTIFS(t_user_room_list!$I:$I,TOTAL!$B28,t_user_room_list!$C:$C,TOTAL!D$22)=0,"",COUNTIFS(t_user_room_list!$I:$I,TOTAL!$B28,t_user_room_list!$C:$C,TOTAL!D$22)),"") -> 16 | E28: =IFERROR(IF(COUNTIFS(t_user_room_list!$I:$I,TOTAL!$B28,t_user_room_list!$C:$C,TOTAL!E$22)=0,"",COUNTIFS(t_user_room_list!$I:$I,TOTAL!$B28,t_user_room_list!$C:$C,TOTAL!E$22)),"") | F28: =IFERROR(IF(COUNTIFS(t_user_room_list!$I:$I,TOTAL!$B28,t_user_room_list!$C:$C,TOTAL!F$22)=0,"",COUNTIFS(t_user_room_list!$I:$I,TOTAL!$B28,t_user_room_list!$C:$C,TOTAL!F$22)),"") | G28: =IFERROR(IF(COUNTIFS(t_user_room_list!$I:$I,TOTAL!$B28,t_user_room_list!$C:$C,TOTAL!G$22)=0,"",COUNTIFS(t_user_room_list!$I:$I,TOTAL!$B28,t_user_room_list!$C:$C,TOTAL!G$22)),"") | H28: =IFERROR(IF(COUNTIFS(t_user_room_list!$I:$I,TOTAL!$B28,t_user_room_list!$C:$C,TOTAL!H$22)=0,"",COUNTIFS(t_user_room_list!$I:$I,TOTAL!$B28,t_user_room_list!$C:$C,TOTAL!H$22)),"") | I28: =IFERROR(IF(COUNTIFS(t_user_room_list!$I:$I,TOTAL!$B28,t_user_room_list!$C:$C,TOTAL!I$22)=0,"",COUNTIFS(t_user_room_list!$I:$I,TOTAL!$B28,t_user_room_list!$C:$C,TOTAL!I$22)),"")
A29: 7 | B29: 205 | C29: =SUM(D29:I29) -> 25 | D29: =IFERROR(IF(COUNTIFS(t_user_room_list!$I:$I,TOTAL!$B29,t_user_room_list!$C:$C,TOTAL!D$22)=0,"",COUNTIFS(t_user_room_list!$I:$I,TOTAL!$B29,t_user_room_list!$C:$C,TOTAL!D$22)),"") | E29: =IFERROR(IF(COUNTIFS(t_user_room_list!$I:$I,TOTAL!$B29,t_user_room_list!$C:$C,TOTAL!E$22)=0,"",COUNTIFS(t_user_room_list!$I:$I,TOTAL!$B29,t_user_room_list!$C:$C,TOTAL!E$22)),"") -> 25 | F29: =IFERROR(IF(COUNTIFS(t_user_room_list!$I:$I,TOTAL!$B29,t_user_room_list!$C:$C,TOTAL!F$22)=0,"",COUNTIFS(t_user_room_list!$I:$I,TOTAL!$B29,t_user_room_list!$C:$C,TOTAL!F$22)),"") | G29: =IFERROR(IF(COUNTIFS(t_user_room_list!$I:$I,TOTAL!$B29,t_user_room_list!$C:$C,TOTAL!G$22)=0,"",COUNTIFS(t_user_room_list!$I:$I,TOTAL!$B29,t_user_room_list!$C:$C,TOTAL!G$22)),"") | H29: =IFERROR(IF(COUNTIFS(t_user_room_list!$I:$I,TOTAL!$B29,t_user_room_list!$C:$C,TOTAL!H$22)=0,"",COUNTIFS(t_user_room_list!$I:$I,TOTAL!$B29,t_user_room_list!$C:$C,TOTAL!H$22)),"") | I29: =IFERROR(IF(COUNTIFS(t_user_room_list!$I:$I,TOTAL!$B29,t_user_room_list!$C:$C,TOTAL!I$22)=0,"",COUNTIFS(t_user_room_list!$I:$I,TOTAL!$B29,t_user_room_list!$C:$C,TOTAL!I$22)),"")
A30: 8 | B30: 206 | C30: =SUM(D30:I30) -> 25 | D30: =IFERROR(IF(COUNTIFS(t_user_room_list!$I:$I,TOTAL!$B30,t_user_room_list!$C:$C,TOTAL!D$22)=0,"",COUNTIFS(t_user_room_list!$I:$I,TOTAL!$B30,t_user_room_list!$C:$C,TOTAL!D$22)),"") | E30: =IFERROR(IF(COUNTIFS(t_user_room_list!$I:$I,TOTAL!$B30,t_user_room_list!$C:$C,TOTAL!E$22)=0,"",COUNTIFS(t_user_room_list!$I:$I,TOTAL!$B30,t_user_room_list!$C:$C,TOTAL!E$22)),"") -> 25 | F30: =IFERROR(IF(COUNTIFS(t_user_room_list!$I:$I,TOTAL!$B30,t_user_room_list!$C:$C,TOTAL!F$22)=0,"",COUNTIFS(t_user_room_list!$I:$I,TOTAL!$B30,t_user_room_list!$C:$C,TOTAL!F$22)),"") | G30: =IFERROR(IF(COUNTIFS(t_user_room_list!$I:$I,TOTAL!$B30,t_user_room_list!$C:$C,TOTAL!G$22)=0,"",COUNTIFS(t_user_room_list!$I:$I,TOTAL!$B30,t_user_room_list!$C:$C,TOTAL!G$22)),"") | H30: =IFERROR(IF(COUNTIFS(t_user_room_list!$I:$I,TOTAL!$B30,t_user_room_list!$C:$C,TOTAL!H$22)=0,"",COUNTIFS(t_user_room_list!$I:$I,TOTAL!$B30,t_user_room_list!$C:$C,TOTAL!H$22)),"") | I30: =IFERROR(IF(COUNTIFS(t_user_room_list!$I:$I,TOTAL!$B30,t_user_room_list!$C:$C,TOTAL!I$22)=0,"",COUNTIFS(t_user_room_list!$I:$I,TOTAL!$B30,t_user_room_list!$C:$C,TOTAL!I$22)),"")
A31: 9 | B31: 207 | C31: =SUM(D31:I31) -> 25 | D31: =IFERROR(IF(COUNTIFS(t_user_room_list!$I:$I,TOTAL!$B31,t_user_room_list!$C:$C,TOTAL!D$22)=0,"",COUNTIFS(t_user_room_list!$I:$I,TOTAL!$B31,t_user_room_list!$C:$C,TOTAL!D$22)),"") | E31: =IFERROR(IF(COUNTIFS(t_user_room_list!$I:$I,TOTAL!$B31,t_user_room_list!$C:$C,TOTAL!E$22)=0,"",COUNTIFS(t_user_room_list!$I:$I,TOTAL!$B31,t_user_room_list!$C:$C,TOTAL!E$22)),"") -> 25 | F31: =IFERROR(IF(COUNTIFS(t_user_room_list!$I:$I,TOTAL!$B31,t_user_room_list!$C:$C,TOTAL!F$22)=0,"",COUNTIFS(t_user_room_list!$I:$I,TOTAL!$B31,t_user_room_list!$C:$C,TOTAL!F$22)),"") | G31: =IFERROR(IF(COUNTIFS(t_user_room_list!$I:$I,TOTAL!$B31,t_user_room_list!$C:$C,TOTAL!G$22)=0,"",COUNTIFS(t_user_room_list!$I:$I,TOTAL!$B31,t_user_room_list!$C:$C,TOTAL!G$22)),"") | H31: =IFERROR(IF(COUNTIFS(t_user_room_list!$I:$I,TOTAL!$B31,t_user_room_list!$C:$C,TOTAL!H$22)=0,"",COUNTIFS(t_user_room_list!$I:$I,TOTAL!$B31,t_user_room_list!$C:$C,TOTAL!H$22)),"") | I31: =IFERROR(IF(COUNTIFS(t_user_room_list!$I:$I,TOTAL!$B31,t_user_room_list!$C:$C,TOTAL!I$22)=0,"",COUNTIFS(t_user_room_list!$I:$I,TOTAL!$B31,t_user_room_list!$C:$C,TOTAL!I$22)),"")
A32: 10 | B32: 301 | C32: =SUM(D32:I32) -> 22 | D32: =IFERROR(IF(COUNTIFS(t_user_room_list!$I:$I,TOTAL!$B32,t_user_room_list!$C:$C,TOTAL!D$22)=0,"",COUNTIFS(t_user_room_list!$I:$I,TOTAL!$B32,t_user_room_list!$C:$C,TOTAL!D$22)),"") | E32: =IFERROR(IF(COUNTIFS(t_user_room_list!$I:$I,TOTAL!$B32,t_user_room_list!$C:$C,TOTAL!E$22)=0,"",COUNTIFS(t_user_room_list!$I:$I,TOTAL!$B32,t_user_room_list!$C:$C,TOTAL!E$22)),"") | F32: =IFERROR(IF(COUNTIFS(t_user_room_list!$I:$I,TOTAL!$B32,t_user_room_list!$C:$C,TOTAL!F$22)=0,"",COUNTIFS(t_user_room_list!$I:$I,TOTAL!$B32,t_user_room_list!$C:$C,TOTAL!F$22)),"") | G32: =IFERROR(IF(COUNTIFS(t_user_room_list!$I:$I,TOTAL!$B32,t_user_room_list!$C:$C,TOTAL!G$22)=0,"",COUNTIFS(t_user_room_list!$I:$I,TOTAL!$B32,t_user_room_list!$C:$C,TOTAL!G$22)),"") -> 22 | H32: =IFERROR(IF(COUNTIFS(t_user_room_list!$I:$I,TOTAL!$B32,t_user_room_list!$C:$C,TOTAL!H$22)=0,"",COUNTIFS(t_user_room_list!$I:$I,TOTAL!$B32,t_user_room_list!$C:$C,TOTAL!H$22)),"") | I32: =IFERROR(IF(COUNTIFS(t_user_room_list!$I:$I,TOTAL!$B32,t_user_room_list!$C:$C,TOTAL!I$22)=0,"",COUNTIFS(t_user_room_list!$I:$I,TOTAL!$B32,t_user_room_list!$C:$C,TOTAL!I$22)),"")
A33: 11 | B33: 302 | C33: =SUM(D33:I33) -> 23 | D33: =IFERROR(IF(COUNTIFS(t_user_room_list!$I:$I,TOTAL!$B33,t_user_room_list!$C:$C,TOTAL!D$22)=0,"",COUNTIFS(t_user_room_list!$I:$I,TOTAL!$B33,t_user_room_list!$C:$C,TOTAL!D$22)),"") | E33: =IFERROR(IF(COUNTIFS(t_user_room_list!$I:$I,TOTAL!$B33,t_user_room_list!$C:$C,TOTAL!E$22)=0,"",COUNTIFS(t_user_room_list!$I:$I,TOTAL!$B33,t_user_room_list!$C:$C,TOTAL!E$22)),"") | F33: =IFERROR(IF(COUNTIFS(t_user_room_list!$I:$I,TOTAL!$B33,t_user_room_list!$C:$C,TOTAL!F$22)=0,"",COUNTIFS(t_user_room_list!$I:$I,TOTAL!$B33,t_user_room_list!$C:$C,TOTAL!F$22)),"") | G33: =IFERROR(IF(COUNTIFS(t_user_room_list!$I:$I,TOTAL!$B33,t_user_room_list!$C:$C,TOTAL!G$22)=0,"",COUNTIFS(t_user_room_list!$I:$I,TOTAL!$B33,t_user_room_list!$C:$C,TOTAL!G$22)),"") -> 23 | H33: =IFERROR(IF(COUNTIFS(t_user_room_list!$I:$I,TOTAL!$B33,t_user_room_list!$C:$C,TOTAL!H$22)=0,"",COUNTIFS(t_user_room_list!$I:$I,TOTAL!$B33,t_user_room_list!$C:$C,TOTAL!H$22)),"") | I33: =IFERROR(IF(COUNTIFS(t_user_room_list!$I:$I,TOTAL!$B33,t_user_room_list!$C:$C,TOTAL!I$22)=0,"",COUNTIFS(t_user_room_list!$I:$I,TOTAL!$B33,t_user_room_list!$C:$C,TOTAL!I$22)),"")
A34: 12 | B34: 303 | C34: =SUM(D34:I34) -> 18 | D34: =IFERROR(IF(COUNTIFS(t_user_room_list!$I:$I,TOTAL!$B34,t_user_room_list!$C:$C,TOTAL!D$22)=0,"",COUNTIFS(t_user_room_list!$I:$I,TOTAL!$B34,t_user_room_list!$C:$C,TOTAL!D$22)),"") | E34: =IFERROR(IF(COUNTIFS(t_user_room_list!$I:$I,TOTAL!$B34,t_user_room_list!$C:$C,TOTAL!E$22)=0,"",COUNTIFS(t_user_room_list!$I:$I,TOTAL!$B34,t_user_room_list!$C:$C,TOTAL!E$22)),"") | F34: =IFERROR(IF(COUNTIFS(t_user_room_list!$I:$I,TOTAL!$B34,t_user_room_list!$C:$C,TOTAL!F$22)=0,"",COUNTIFS(t_user_room_list!$I:$I,TOTAL!$B34,t_user_room_list!$C:$C,TOTAL!F$22)),"") -> 18 | G34: =IFERROR(IF(COUNTIFS(t_user_room_list!$I:$I,TOTAL!$B34,t_user_room_list!$C:$C,TOTAL!G$22)=0,"",COUNTIFS(t_user_room_list!$I:$I,TOTAL!$B34,t_user_room_list!$C:$C,TOTAL!G$22)),"") | H34: =IFERROR(IF(COUNTIFS(t_user_room_list!$I:$I,TOTAL!$B34,t_user_room_list!$C:$C,TOTAL!H$22)=0,"",COUNTIFS(t_user_room_list!$I:$I,TOTAL!$B34,t_user_room_list!$C:$C,TOTAL!H$22)),"") | I34: =IFERROR(IF(COUNTIFS(t_user_room_list!$I:$I,TOTAL!$B34,t_user_room_list!$C:$C,TOTAL!I$22)=0,"",COUNTIFS(t_user_room_list!$I:$I,TOTAL!$B34,t_user_room_list!$C:$C,TOTAL!I$22)),"")
... A44: 22 | B44: 408 | C44: =SUM(D44:I44) -> 25 | D44: =IFERROR(IF(COUNTIFS(t_user_room_list!$I:$I,TOTAL!$B44,t_user_room_list!$C:$C,TOTAL!D$22)=0,"",COUNTIFS(t_user_room_list!$I:$I,TOTAL!$B44,t_user_room_list!$C:$C,TOTAL!D$22)),"") | E44: =IFERROR(IF(COUNTIFS(t_user_room_list!$I:$I,TOTAL!$B44,t_user_room_list!$C:$C,TOTAL!E$22)=0,"",COUNTIFS(t_user_room_list!$I:$I,TOTAL!$B44,t_user_room_list!$C:$C,TOTAL!E$22)),"") | F44: =IFERROR(IF(COUNTIFS(t_user_room_list!$I:$I,TOTAL!$B44,t_user_room_list!$C:$C,TOTAL!F$22)=0,"",COUNTIFS(t_user_room_list!$I:$I,TOTAL!$B44,t_user_room_list!$C:$C,TOTAL!F$22)),"") | G44: =IFERROR(IF(COUNTIFS(t_user_room_list!$I:$I,TOTAL!$B44,t_user_room_list!$C:$C,TOTAL!G$22)=0,"",COUNTIFS(t_user_room_list!$I:$I,TOTAL!$B44,t_user_room_list!$C:$C,TOTAL!G$22)),"") | H44: =IFERROR(IF(COUNTIFS(t_user_room_list!$I:$I,TOTAL!$B44,t_user_room_list!$C:$C,TOTAL!H$22)=0,"",COUNTIFS(t_user_room_list!$I:$I,TOTAL!$B44,t_user_room_list!$C:$C,TOTAL!H$22)),"") | I44: =IFERROR(IF(COUNTIFS(t_user_room_list!$I:$I,TOTAL!$B44,t_user_room_list!$C:$C,TOTAL!I$22)=0,"",COUNTIFS(t_user_room_list!$I:$I,TOTAL!$B44,t_user_room_list!$C:$C,TOTAL!I$22)),"") -> 25
A45: НИЙТ | C45: =SUM(C23:C44) -> 451 | D45: =SUM(D23:D44) -> 76 | E45: =SUM(E23:E44) -> 75 | F45: =SUM(F23:F44) -> 95 | G45: =SUM(G23:G44) -> 105 | H45: =SUM(H23:H44) -> 50 | I45: =SUM(I23:I44) -> 50
