Workbook

Sheet 시험지 출력
A2: 제 13회 몽골 전국 한국어 경시대회
A3: № | B3: s_school | C3: Нийт | D3: 초급부 | E3: 초등부 | F3: 중등부 | G3: 고등부 | H3: 유학 중등부 | I3: 유학 고등부
A4: 1 | B4: 18-р сургууль | C4: =SUM(D4:I4) -> 69 | D4: =IF(COUNTIFS(t_user_room_list!$E:$E,'시험지 출력'!$B4,t_user_room_list!$C:$C,'시험지 출력'!D$3)=0,"",COUNTIFS(t_user_room_list!$E:$E,'시험지 출력'!$B4,t_user_room_list!$C:$C,'시험지 출력'!D$3)) -> 9 | E4: =IF(COUNTIFS(t_user_room_list!$E:$E,'시험지 출력'!$B4,t_user_room_list!$C:$C,'시험지 출력'!E$3)=0,"",COUNTIFS(t_user_room_list!$E:$E,'시험지 출력'!$B4,t_user_room_list!$C:$C,'시험지 출력'!E$3)) -> 16 | F4: =IF(COUNTIFS(t_user_room_list!$E:$E,'시험지 출력'!$B4,t_user_room_list!$C:$C,'시험지 출력'!F$3)=0,"",COUNTIFS(t_user_room_list!$E:$E,'시험지 출력'!$B4,t_user_room_list!$C:$C,'시험지 출력'!F$3)) -> 15 | G4: =IF(COUNTIFS(t_user_room_list!$E:$E,'시험지 출력'!$B4,t_user_room_list!$C:$C,'시험지 출력'!G$3)=0,"",COUNTIFS(t_user_room_list!$E:$E,'시험지 출력'!$B4,t_user_room_list!$C:$C,'시험지 출력'!G$3)) -> 13 | H4: =IF(COUNTIFS(t_user_room_list!$E:$E,'시험지 출력'!$B4,t_user_room_list!$C:$C,'시험지 출력'!H$3)=0,"",COUNTIFS(t_user_room_list!$E:$E,'시험지 출력'!$B4,t_user_room_list!$C:$C,'시험지 출력'!H$3)) -> 10 | I4: =IF(COUNTIFS(t_user_room_list!$E:$E,'시험지 출력'!$B4,t_user_room_list!$C:$C,'시험지 출력'!I$3)=0,"",COUNTIFS(t_user_room_list!$E:$E,'시험지 출력'!$B4,t_user_room_list!$C:$C,'시험지 출력'!I$3)) -> 6
A5: 2 | B5: 1-р сургууль | C5: =SUM(D5:I5) -> 1 | D5: =IF(COUNTIFS(t_user_room_list!$E:$E,'시험지 출력'!$B5,t_user_room_list!$C:$C,'시험지 출력'!D$3)=0,"",COUNTIFS(t_user_room_list!$E:$E,'시험지 출력'!$B5,t_user_room_list!$C:$C,'시험지 출력'!D$3)) | E5: =IF(COUNTIFS(t_user_room_list!$E:$E,'시험지 출력'!$B5,t_user_room_list!$C:$C,'시험지 출력'!E$3)=0,"",COUNTIFS(t_user_room_list!$E:$E,'시험지 출력'!$B5,t_user_room_list!$C:$C,'시험지 출력'!E$3)) | F5: =IF(COUNTIFS(t_user_room_list!$E:$E,'시험지 출력'!$B5,t_user_room_list!$C:$C,'시험지 출력'!F$3)=0,"",COUNTIFS(t_user_room_list!$E:$E,'시험지 출력'!$B5,t_user_room_list!$C:$C,'시험지 출력'!F$3)) | G5: =IF(COUNTIFS(t_user_room_list!$E:$E,'시험지 출력'!$B5,t_user_room_list!$C:$C,'시험지 출력'!G$3)=0,"",COUNTIFS(t_user_room_list!$E:$E,'시험지 출력'!$B5,t_user_room_list!$C:$C,'시험지 출력'!G$3)) | H5: =IF(COUNTIFS(t_user_room_list!$E:$E,'시험지 출력'!$B5,t_user_room_list!$C:$C,'시험지 출력'!H$3)=0,"",COUNTIFS(t_user_room_list!$E:$E,'시험지 출력'!$B5,t_user_room_list!$C:$C,'시험지 출력'!H$3)) -> 1 | I5: =IF(COUNTIFS(t_user_room_list!$E:$E,'시험지 출력'!$B5,t_user_room_list!$C:$C,'시험지 출력'!I$3)=0,"",COUNTIFS(t_user_room_list!$E:$E,'시험지 출력'!$B5,t_user_room_list!$C:$C,'시험지 출력'!I$3))
A6: 3 | B6: 23-р сургууль | C6: =SUM(D6:I6) -> 156 | D6: =IF(COUNTIFS(t_user_room_list!$E:$E,'시험지 출력'!$B6,t_user_room_list!$C:$C,'시험지 출력'!D$3)=0,"",COUNTIFS(t_user_room_list!$E:$E,'시험지 출력'!$B6,t_user_room_list!$C:$C,'시험지 출력'!D$3)) -> 26 | E6: =IF(COUNTIFS(t_user_room_list!$E:$E,'시험지 출력'!$B6,t_user_room_list!$C:$C,'시험지 출력'!E$3)=0,"",COUNTIFS(t_user_room_list!$E:$E,'시험지 출력'!$B6,t_user_room_list!$C:$C,'시험지 출력'!E$3)) -> 13 | F6: =IF(COUNTIFS(t_user_room_list!$E:$E,'시험지 출력'!$B6,t_user_room_list!$C:$C,'시험지 출력'!F$3)=0,"",COUNTIFS(t_user_room_list!$E:$E,'시험지 출력'!$B6,t_user_room_list!$C:$C,'시험지 출력'!F$3)) -> 31 | G6: =IF(COUNTIFS(t_user_room_list!$E:$E,'시험지 출력'!$B6,t_user_room_list!$C:$C,'시험지 출력'!G$3)=0,"",COUNTIFS(t_user_room_list!$E:$E,'시험지 출력'!$B6,t_user_room_list!$C:$C,'시험지 출력'!G$3)) -> 52 | H6: =IF(COUNTIFS(t_user_room_list!$E:$E,'시험지 출력'!$B6,t_user_room_list!$C:$C,'시험지 출력'!H$3)=0,"",COUNTIFS(t_user_room_list!$E:$E,'시험지 출력'!$B6,t_user_room_list!$C:$C,'시험지 출력'!H$3)) -> 16 | I6: =IF(COUNTIFS(t_user_room_list!$E:$E,'시험지 출력'!$B6,t_user_room_list!$C:$C,'시험지 출력'!I$3)=0,"",COUNTIFS(t_user_room_list!$E:$E,'시험지 출력'!$B6,t_user_room_list!$C:$C,'시험지 출력'!I$3)) -> 18
A7: 4 | B7: 34-сургууль | C7: =SUM(D7:I7) -> 1 | D7: =IF(COUNTIFS(t_user_room_list!$E:$E,'시험지 출력'!$B7,t_user_room_list!$C:$C,'시험지 출력'!D$3)=0,"",COUNTIFS(t_user_room_list!$E:$E,'시험지 출력'!$B7,t_user_room_list!$C:$C,'시험지 출력'!D$3)) | E7: =IF(COUNTIFS(t_user_room_list!$E:$E,'시험지 출력'!$B7,t_user_room_list!$C:$C,'시험지 출력'!E$3)=0,"",COUNTIFS(t_user_room_list!$E:$E,'시험지 출력'!$B7,t_user_room_list!$C:$C,'시험지 출력'!E$3)) | F7: =IF(COUNTIFS(t_user_room_list!$E:$E,'시험지 출력'!$B7,t_user_room_list!$C:$C,'시험지 출력'!F$3)=0,"",COUNTIFS(t_user_room_list!$E:$E,'시험지 출력'!$B7,t_user_room_list!$C:$C,'시험지 출력'!F$3)) | G7: =IF(COUNTIFS(t_user_room_list!$E:$E,'시험지 출력'!$B7,t_user_room_list!$C:$C,'시험지 출력'!G$3)=0,"",COUNTIFS(t_user_room_list!$E:$E,'시험지 출력'!$B7,t_user_room_list!$C:$C,'시험지 출력'!G$3)) -> 1 | H7: =IF(COUNTIFS(t_user_room_list!$E:$E,'시험지 출력'!$B7,t_user_room_list!$C:$C,'시험지 출력'!H$3)=0,"",COUNTIFS(t_user_room_list!$E:$E,'시험지 출력'!$B7,t_user_room_list!$C:$C,'시험지 출력'!H$3)) | I7: =IF(COUNTIFS(t_user_room_list!$E:$E,'시험지 출력'!$B7,t_user_room_list!$C:$C,'시험지 출력'!I$3)=0,"",COUNTIFS(t_user_room_list!$E:$E,'시험지 출력'!$B7,t_user_room_list!$C:$C,'시험지 출력'!I$3))
A8: 5 | B8: 39-р сургууль | C8: =SUM(D8:I8) -> 4 | D8: =IF(COUNTIFS(t_user_room_list!$E:$E,'시험지 출력'!$B8,t_user_room_list!$C:$C,'시험지 출력'!D$3)=0,"",COUNTIFS(t_user_room_list!$E:$E,'시험지 출력'!$B8,t_user_room_list!$C:$C,'시험지 출력'!D$3)) -> 4 | E8: =IF(COUNTIFS(t_user_room_list!$E:$E,'시험지 출력'!$B8,t_user_room_list!$C:$C,'시험지 출력'!E$3)=0,"",COUNTIFS(t_user_room_list!$E:$E,'시험지 출력'!$B8,t_user_room_list!$C:$C,'시험지 출력'!E$3)) | F8: =IF(COUNTIFS(t_user_room_list!$E:$E,'시험지 출력'!$B8,t_user_room_list!$C:$C,'시험지 출력'!F$3)=0,"",COUNTIFS(t_user_room_list!$E:$E,'시험지 출력'!$B8,t_user_room_list!$C:$C,'시험지 출력'!F$3)) | G8: =IF(COUNTIFS(t_user_room_list!$E:$E,'시험지 출력'!$B8,t_user_room_list!$C:$C,'시험지 출력'!G$3)=0,"",COUNTIFS(t_user_room_list!$E:$E,'시험지 출력'!$B8,t_user_room_list!$C:$C,'시험지 출력'!G$3)) | H8: =IF(COUNTIFS(t_user_room_list!$E:$E,'시험지 출력'!$B8,t_user_room_list!$C:$C,'시험지 출력'!H$3)=0,"",COUNTIFS(t_user_room_list!$E:$E,'시험지 출력'!$B8,t_user_room_list!$C:$C,'시험지 출력'!H$3)) | I8: =IF(COUNTIFS(t_user_room_list!$E:$E,'시험지 출력'!$B8,t_user_room_list!$C:$C,'시험지 출력'!I$3)=0,"",COUNTIFS(t_user_room_list!$E:$E,'시험지 출력'!$B8,t_user_room_list!$C:$C,'시험지 출력'!I$3))
A9: 6 | B9: 52-р сургууль | C9: =SUM(D9:I9) -> 8 | D9: =IF(COUNTIFS(t_user_room_list!$E:$E,'시험지 출력'!$B9,t_user_room_list!$C:$C,'시험지 출력'!D$3)=0,"",COUNTIFS(t_user_room_list!$E:$E,'시험지 출력'!$B9,t_user_room_list!$C:$C,'시험지 출력'!D$3)) -> 7 | E9: =IF(COUNTIFS(t_user_room_list!$E:$E,'시험지 출력'!$B9,t_user_room_list!$C:$C,'시험지 출력'!E$3)=0,"",COUNTIFS(t_user_room_list!$E:$E,'시험지 출력'!$B9,t_user_room_list!$C:$C,'시험지 출력'!E$3)) | F9: =IF(COUNTIFS(t_user_room_list!$E:$E,'시험지 출력'!$B9,t_user_room_list!$C:$C,'시험지 출력'!F$3)=0,"",COUNTIFS(t_user_room_list!$E:$E,'시험지 출력'!$B9,t_user_room_list!$C:$C,'시험지 출력'!F$3)) | G9: =IF(COUNTIFS(t_user_room_list!$E:$E,'시험지 출력'!$B9,t_user_room_list!$C:$C,'시험지 출력'!G$3)=0,"",COUNTIFS(t_user_room_list!$E:$E,'시험지 출력'!$B9,t_user_room_list!$C:$C,'시험지 출력'!G$3)) | H9: =IF(COUNTIFS(t_user_room_list!$E:$E,'시험지 출력'!$B9,t_user_room_list!$C:$C,'시험지 출력'!H$3)=0,"",COUNTIFS(t_user_room_list!$E:$E,'시험지 출력'!$B9,t_user_room_list!$C:$C,'시험지 출력'!H$3)) -> 1 | I9: =IF(COUNTIFS(t_user_room_list!$E:$E,'시험지 출력'!$B9,t_user_room_list!$C:$C,'시험지 출력'!I$3)=0,"",COUNTIFS(t_user_room_list!$E:$E,'시험지 출력'!$B9,t_user_room_list!$C:$C,'시험지 출력'!I$3))
A10: 7 | B10: 77-р сургууль | C10: =SUM(D10:I10) -> 1 | D10: =IF(COUNTIFS(t_user_room_list!$E:$E,'시험지 출력'!$B10,t_user_room_list!$C:$C,'시험지 출력'!D$3)=0,"",COUNTIFS(t_user_room_list!$E:$E,'시험지 출력'!$B10,t_user_room_list!$C:$C,'시험지 출력'!D$3)) | E10: =IF(COUNTIFS(t_user_room_list!$E:$E,'시험지 출력'!$B10,t_user_room_list!$C:$C,'시험지 출력'!E$3)=0,"",COUNTIFS(t_user_room_list!$E:$E,'시험지 출력'!$B10,t_user_room_list!$C:$C,'시험지 출력'!E$3)) | F10: =IF(COUNTIFS(t_user_room_list!$E:$E,'시험지 출력'!$B10,t_user_room_list!$C:$C,'시험지 출력'!F$3)=0,"",COUNTIFS(t_user_room_list!$E:$E,'시험지 출력'!$B10,t_user_room_list!$C:$C,'시험지 출력'!F$3)) | G10: =IF(COUNTIFS(t_user_room_list!$E:$E,'시험지 출력'!$B10,t_user_room_list!$C:$C,'시험지 출력'!G$3)=0,"",COUNTIFS(t_user_room_list!$E:$E,'시험지 출력'!$B10,t_user_room_list!$C:$C,'시험지 출력'!G$3)) | H10: =IF(COUNTIFS(t_user_room_list!$E:$E,'시험지 출력'!$B10,t_user_room_list!$C:$C,'시험지 출력'!H$3)=0,"",COUNTIFS(t_user_room_list!$E:$E,'시험지 출력'!$B10,t_user_room_list!$C:$C,'시험지 출력'!H$3)) | I10: =IF(COUNTIFS(t_user_room_list!$E:$E,'시험지 출력'!$B10,t_user_room_list!$C:$C,'시험지 출력'!I$3)=0,"",COUNTIFS(t_user_room_list!$E:$E,'시험지 출력'!$B10,t_user_room_list!$C:$C,'시험지 출력'!I$3)) -> 1
A11: 8 | B11: буянт-ухаа цогцолбор сургууль | C11: =SUM(D11:I11) -> 29 | D11: =IF(COUNTIFS(t_user_room_list!$E:$E,'시험지 출력'!$B11,t_user_room_list!$C:$C,'시험지 출력'!D$3)=0,"",COUNTIFS(t_user_room_list!$E:$E,'시험지 출력'!$B11,t_user_room_list!$C:$C,'시험지 출력'!D$3)) -> 6 | E11: =IF(COUNTIFS(t_user_room_list!$E:$E,'시험지 출력'!$B11,t_user_room_list!$C:$C,'시험지 출력'!E$3)=0,"",COUNTIFS(t_user_room_list!$E:$E,'시험지 출력'!$B11,t_user_room_list!$C:$C,'시험지 출력'!E$3)) | F11: =IF(COUNTIFS(t_user_room_list!$E:$E,'시험지 출력'!$B11,t_user_room_list!$C:$C,'시험지 출력'!F$3)=0,"",COUNTIFS(t_user_room_list!$E:$E,'시험지 출력'!$B11,t_user_room_list!$C:$C,'시험지 출력'!F$3)) -> 16 | G11: =IF(COUNTIFS(t_user_room_list!$E:$E,'시험지 출력'!$B11,t_user_room_list!$C:$C,'시험지 출력'!G$3)=0,"",COUNTIFS(t_user_room_list!$E:$E,'시험지 출력'!$B11,t_user_room_list!$C:$C,'시험지 출력'!G$3)) -> 7 | H11: =IF(COUNTIFS(t_user_room_list!$E:$E,'시험지 출력'!$B11,t_user_room_list!$C:$C,'시험지 출력'!H$3)=0,"",COUNTIFS(t_user_room_list!$E:$E,'시험지 출력'!$B11,t_user_room_list!$C:$C,'시험지 출력'!H$3)) | I11: =IF(COUNTIFS(t_user_room_list!$E:$E,'시험지 출력'!$B11,t_user_room_list!$C:$C,'시험지 출력'!I$3)=0,"",COUNTIFS(t_user_room_list!$E:$E,'시험지 출력'!$B11,t_user_room_list!$C:$C,'시험지 출력'!I$3))
A12: 9 | B12: Гэрэлт Ирээдүй бүрэн дунд сургууль | C12: =SUM(D12:I12) -> 30 | D12: =IF(COUNTIFS(t_user_room_list!$E:$E,'시험지 출력'!$B12,t_user_room_list!$C:$C,'시험지 출력'!D$3)=0,"",COUNTIFS(t_user_room_list!$E:$E,'시험지 출력'!$B12,t_user_room_list!$C:$C,'시험지 출력'!D$3)) -> 1 | E12: =IF(COUNTIFS(t_user_room_list!$E:$E,'시험지 출력'!$B12,t_user_room_list!$C:$C,'시험지 출력'!E$3)=0,"",COUNTIFS(t_user_room_list!$E:$E,'시험지 출력'!$B12,t_user_room_list!$C:$C,'시험지 출력'!E$3)) -> 7 | F12: =IF(COUNTIFS(t_user_room_list!$E:$E,'시험지 출력'!$B12,t_user_room_list!$C:$C,'시험지 출력'!F$3)=0,"",COUNTIFS(t_user_room_list!$E:$E,'시험지 출력'!$B12,t_user_room_list!$C:$C,'시험지 출력'!F$3)) -> 8 | G12: =IF(COUNTIFS(t_user_room_list!$E:$E,'시험지 출력'!$B12,t_user_room_list!$C:$C,'시험지 출력'!G$3)=0,"",COUNTIFS(t_user_room_list!$E:$E,'시험지 출력'!$B12,t_user_room_list!$C:$C,'시험지 출력'!G$3)) -> 10 | H12: =IF(COUNTIFS(t_user_room_list!$E:$E,'시험지 출력'!$B12,t_user_room_list!$C:$C,'시험지 출력'!H$3)=0,"",COUNTIFS(t_user_room_list!$E:$E,'시험지 출력'!$B12,t_user_room_list!$C:$C,'시험지 출력'!H$3)) -> 3 | I12: =IF(COUNTIFS(t_user_room_list!$E:$E,'시험지 출력'!$B12,t_user_room_list!$C:$C,'시험지 출력'!I$3)=0,"",COUNTIFS(t_user_room_list!$E:$E,'시험지 출력'!$B12,t_user_room_list!$C:$C,'시험지 출력'!I$3)) -> 1
A13: 10 | B13: Монгени Цогцолбор сургууль | C13: =SUM(D13:I13) -> 17 | D13: =IF(COUNTIFS(t_user_room_list!$E:$E,'시험지 출력'!$B13,t_user_room_list!$C:$C,'시험지 출력'!D$3)=0,"",COUNTIFS(t_user_room_list!$E:$E,'시험지 출력'!$B13,t_user_room_list!$C:$C,'시험지 출력'!D$3)) | E13: =IF(COUNTIFS(t_user_room_list!$E:$E,'시험지 출력'!$B13,t_user_room_list!$C:$C,'시험지 출력'!E$3)=0,"",COUNTIFS(t_user_room_list!$E:$E,'시험지 출력'!$B13,t_user_room_list!$C:$C,'시험지 출력'!E$3)) -> 2 | F13: =IF(COUNTIFS(t_user_room_list!$E:$E,'시험지 출력'!$B13,t_user_room_list!$C:$C,'시험지 출력'!F$3)=0,"",COUNTIFS(t_user_room_list!$E:$E,'시험지 출력'!$B13,t_user_room_list!$C:$C,'시험지 출력'!F$3)) -> 4 | G13: =IF(COUNTIFS(t_user_room_list!$E:$E,'시험지 출력'!$B13,t_user_room_list!$C:$C,'시험지 출력'!G$3)=0,"",COUNTIFS(t_user_room_list!$E:$E,'시험지 출력'!$B13,t_user_room_list!$C:$C,'시험지 출력'!G$3)) -> 3 | H13: =IF(COUNTIFS(t_user_room_list!$E:$E,'시험지 출력'!$B13,t_user_room_list!$C:$C,'시험지 출력'!H$3)=0,"",COUNTIFS(t_user_room_list!$E:$E,'시험지 출력'!$B13,t_user_room_list!$C:$C,'시험지 출력'!H$3)) -> 4 | I13: =IF(COUNTIFS(t_user_room_list!$E:$E,'시험지 출력'!$B13,t_user_room_list!$C:$C,'시험지 출력'!I$3)=0,"",COUNTIFS(t_user_room_list!$E:$E,'시험지 출력'!$B13,t_user_room_list!$C:$C,'시험지 출력'!I$3)) -> 4
A14: 11 | B14: Монгол оюу сургууль | C14: =SUM(D14:I14) -> 8 | D14: =IF(COUNTIFS(t_user_room_list!$E:$E,'시험지 출력'!$B14,t_user_room_list!$C:$C,'시험지 출력'!D$3)=0,"",COUNTIFS(t_user_room_list!$E:$E,'시험지 출력'!$B14,t_user_room_list!$C:$C,'시험지 출력'!D$3)) -> 8 | E14: =IF(COUNTIFS(t_user_room_list!$E:$E,'시험지 출력'!$B14,t_user_room_list!$C:$C,'시험지 출력'!E$3)=0,"",COUNTIFS(t_user_room_list!$E:$E,'시험지 출력'!$B14,t_user_room_list!$C:$C,'시험지 출력'!E$3)) | F14: =IF(COUNTIFS(t_user_room_list!$E:$E,'시험지 출력'!$B14,t_user_room_list!$C:$C,'시험지 출력'!F$3)=0,"",COUNTIFS(t_user_room_list!$E:$E,'시험지 출력'!$B14,t_user_room_list!$C:$C,'시험지 출력'!F$3)) | G14: =IF(COUNTIFS(t_user_room_list!$E:$E,'시험지 출력'!$B14,t_user_room_list!$C:$C,'시험지 출력'!G$3)=0,"",COUNTIFS(t_user_room_list!$E:$E,'시험지 출력'!$B14,t_user_room_list!$C:$C,'시험지 출력'!G$3)) | H14: =IF(COUNTIFS(t_user_room_list!$E:$E,'시험지 출력'!$B14,t_user_room_list!$C:$C,'시험지 출력'!H$3)=0,"",COUNTIFS(t_user_room_list!$E:$E,'시험지 출력'!$B14,t_user_room_list!$C:$C,'시험지 출력'!H$3)) | I14: =IF(COUNTIFS(t_user_room_list!$E:$E,'시험지 출력'!$B14,t_user_room_list!$C:$C,'시험지 출력'!I$3)=0,"",COUNTIFS(t_user_room_list!$E:$E,'시험지 출력'!$B14,t_user_room_list!$C:$C,'시험지 출력'!I$3))
A15: 12 | B15: НЕБ Улаанбаатар сургууль | C15: =SUM(D15:I15) -> 78 | D15: =IF(COUNTIFS(t_user_room_list!$E:$E,'시험지 출력'!$B15,t_user_room_list!$C:$C,'시험지 출력'!D$3)=0,"",COUNTIFS(t_user_room_list!$E:$E,'시험지 출력'!$B15,t_user_room_list!$C:$C,'시험지 출력'!D$3)) | E15: =IF(COUNTIFS(t_user_room_list!$E:$E,'시험지 출력'!$B15,t_user_room_list!$C:$C,'시험지 출력'!E$3)=0,"",COUNTIFS(t_user_room_list!$E:$E,'시험지 출력'!$B15,t_user_room_list!$C:$C,'시험지 출력'!E$3)) -> 37 | F15: =IF(COUNTIFS(t_user_room_list!$E:$E,'시험지 출력'!$B15,t_user_room_list!$C:$C,'시험지 출력'!F$3)=0,"",COUNTIFS(t_user_room_list!$E:$E,'시험지 출력'!$B15,t_user_room_list!$C:$C,'시험지 출력'!F$3)) -> 8 | G15: =IF(COUNTIFS(t_user_room_list!$E:$E,'시험지 출력'!$B15,t_user_room_list!$C:$C,'시험지 출력'!G$3)=0,"",COUNTIFS(t_user_room_list!$E:$E,'시험지 출력'!$B15,t_user_room_list!$C:$C,'시험지 출력'!G$3)) -> 11 | H15: =IF(COUNTIFS(t_user_room_list!$E:$E,'시험지 출력'!$B15,t_user_room_list!$C:$C,'시험지 출력'!H$3)=0,"",COUNTIFS(t_user_room_list!$E:$E,'시험지 출력'!$B15,t_user_room_list!$C:$C,'시험지 출력'!H$3)) -> 10 | I15: =IF(COUNTIFS(t_user_room_list!$E:$E,'시험지 출력'!$B15,t_user_room_list!$C:$C,'시험지 출력'!I$3)=0,"",COUNTIFS(t_user_room_list!$E:$E,'시험지 출력'!$B15,t_user_room_list!$C:$C,'시험지 출력'!I$3)) -> 12
... A19: 16 | B19: Хүрээ тулга | C19: =SUM(D19:I19) -> 33 | D19: =IF(COUNTIFS(t_user_room_list!$E:$E,'시험지 출력'!$B19,t_user_room_list!$C:$C,'시험지 출력'!D$3)=0,"",COUNTIFS(t_user_room_list!$E:$E,'시험지 출력'!$B19,t_user_room_list!$C:$C,'시험지 출력'!D$3)) -> 9 | E19: =IF(COUNTIFS(t_user_room_list!$E:$E,'시험지 출력'!$B19,t_user_room_list!$C:$C,'시험지 출력'!E$3)=0,"",COUNTIFS(t_user_room_list!$E:$E,'시험지 출력'!$B19,t_user_room_list!$C:$C,'시험지 출력'!E$3)) | F19: =IF(COUNTIFS(t_user_room_list!$E:$E,'시험지 출력'!$B19,t_user_room_list!$C:$C,'시험지 출력'!F$3)=0,"",COUNTIFS(t_user_room_list!$E:$E,'시험지 출력'!$B19,t_user_room_list!$C:$C,'시험지 출력'!F$3)) -> 5 | G19: =IF(COUNTIFS(t_user_room_list!$E:$E,'시험지 출력'!$B19,t_user_room_list!$C:$C,'시험지 출력'!G$3)=0,"",COUNTIFS(t_user_room_list!$E:$E,'시험지 출력'!$B19,t_user_room_list!$C:$C,'시험지 출력'!G$3)) -> 8 | H19: =IF(COUNTIFS(t_user_room_list!$E:$E,'시험지 출력'!$B19,t_user_room_list!$C:$C,'시험지 출력'!H$3)=0,"",COUNTIFS(t_user_room_list!$E:$E,'시험지 출력'!$B19,t_user_room_list!$C:$C,'시험지 출력'!H$3)) -> 5 | I19: =IF(COUNTIFS(t_user_room_list!$E:$E,'시험지 출력'!$B19,t_user_room_list!$C:$C,'시험지 출력'!I$3)=0,"",COUNTIFS(t_user_room_list!$E:$E,'시험지 출력'!$B19,t_user_room_list!$C:$C,'시험지 출력'!I$3)) -> 6
A20: НИЙТ | C20: =SUM(C4:C19) -> 451 | D20: =SUM(D4:D19) -> 76 | E20: =SUM(E4:E19) -> 75 | F20: =SUM(F4:F19) -> 95 | G20: =SUM(G4:G19) -> 105 | H20: =SUM(H4:H19) -> 50 | I20: =SUM(I4:I19) -> 50
J21: 초급부 | K21: 초급부 | L21: 초등부 | M21: 초등부 | N21: 중등부 | O21: 중등부 | P21: 고등부 | Q21: 고등부 | R21: 유학 중등부 | S21: 유학 중등부 | T21: 유학 고등부 | U21: 유학 고등부
A22: № | B22: s_room | C22: Нийт | D22: 초급부 | E22: 초등부 | F22: 중등부 | G22: 고등부 | H22: 유학 중등부 | I22: 유학 고등부 | J22: A | K22: B | L22: A | M22: B | N22: A | O22: B | P22: A | Q22: B | R22: A | S22: B | T22: A | U22: B
A23: 1 | B23: 106 | C23: =SUM(D23:I23) -> 19 | D23: =IFERROR(IF(COUNTIFS(t_user_room_list!$I:$I,'시험지 출력'!$B23,t_user_room_list!$C:$C,'시험지 출력'!D$22)=0,"",COUNTIFS(t_user_room_list!$I:$I,'시험지 출력'!$B23,t_user_room_list!$C:$C,'시험지 출력'!D$22)),"") | E23: =IFERROR(IF(COUNTIFS(t_user_room_list!$I:$I,'시험지 출력'!$B23,t_user_room_list!$C:$C,'시험지 출력'!E$22)=0,"",COUNTIFS(t_user_room_list!$I:$I,'시험지 출력'!$B23,t_user_room_list!$C:$C,'시험지 출력'!E$22)),"") | F23: =IFERROR(IF(COUNTIFS(t_user_room_list!$I:$I,'시험지 출력'!$B23,t_user_room_list!$C:$C,'시험지 출력'!F$22)=0,"",COUNTIFS(t_user_room_list!$I:$I,'시험지 출력'!$B23,t_user_room_list!$C:$C,'시험지 출력'!F$22)),"") | G23: =IFERROR(IF(COUNTIFS(t_user_room_list!$I:$I,'시험지 출력'!$B23,t_user_room_list!$C:$C,'시험지 출력'!G$22)=0,"",COUNTIFS(t_user_room_list!$I:$I,'시험지 출력'!$B23,t_user_room_list!$C:$C,'시험지 출력'!G$22)),"") | H23: =IFERROR(IF(COUNTIFS(t_user_room_list!$I:$I,'시험지 출력'!$B23,t_user_room_list!$C:$C,'시험지 출력'!H$22)=0,"",COUNTIFS(t_user_room_list!$I:$I,'시험지 출력'!$B23,t_user_room_list!$C:$C,'시험지 출력'!H$22)),"") -> 19 | I23: =IFERROR(IF(COUNTIFS(t_user_room_list!$I:$I,'시험지 출력'!$B23,t_user_room_list!$C:$C,'시험지 출력'!I$22)=0,"",COUNTIFS(t_user_room_list!$I:$I,'시험지 출력'!$B23,t_user_room_list!$C:$C,'시험지 출력'!I$22)),"") | R23: 11 | S23: 10
A24: 2 | B24: 107 | C24: =SUM(D24:I24) -> 19 | D24: =IFERROR(IF(COUNTIFS(t_user_room_list!$I:$I,'시험지 출력'!$B24,t_user_room_list!$C:$C,'시험지 출력'!D$22)=0,"",COUNTIFS(t_user_room_list!$I:$I,'시험지 출력'!$B24,t_user_room_list!$C:$C,'시험지 출력'!D$22)),"") | E24: =IFERROR(IF(COUNTIFS(t_user_room_list!$I:$I,'시험지 출력'!$B24,t_user_room_list!$C:$C,'시험지 출력'!E$22)=0,"",COUNTIFS(t_user_room_list!$I:$I,'시험지 출력'!$B24,t_user_room_list!$C:$C,'시험지 출력'!E$22)),"") | F24: =IFERROR(IF(COUNTIFS(t_user_room_list!$I:$I,'시험지 출력'!$B24,t_user_room_list!$C:$C,'시험지 출력'!F$22)=0,"",COUNTIFS(t_user_room_list!$I:$I,'시험지 출력'!$B24,t_user_room_list!$C:$C,'시험지 출력'!F$22)),"") | G24: =IFERROR(IF(COUNTIFS(t_user_room_list!$I:$I,'시험지 출력'!$B24,t_user_room_list!$C:$C,'시험지 출력'!G$22)=0,"",COUNTIFS(t_user_room_list!$I:$I,'시험지 출력'!$B24,t_user_room_list!$C:$C,'시험지 출력'!G$22)),"") | H24: =IFERROR(IF(COUNTIFS(t_user_room_list!$I:$I,'시험지 출력'!$B24,t_user_room_list!$C:$C,'시험지 출력'!H$22)=0,"",COUNTIFS(t_user_room_list!$I:$I,'시험지 출력'!$B24,t_user_room_list!$C:$C,'시험지 출력'!H$22)),"") -> 19 | I24: =IFERROR(IF(COUNTIFS(t_user_room_list!$I:$I,'시험지 출력'!$B24,t_user_room_list!$C:$C,'시험지 출력'!I$22)=0,"",COUNTIFS(t_user_room_list!$I:$I,'시험지 출력'!$B24,t_user_room_list!$C:$C,'시험지 출력'!I$22)),"") | R24: 11 | S24: 10
A25: 3 | B25: 201 | C25: =SUM(D25:I25) -> 20 | D25: =IFERROR(IF(COUNTIFS(t_user_room_list!$I:$I,'시험지 출력'!$B25,t_user_room_list!$C:$C,'시험지 출력'!D$22)=0,"",COUNTIFS(t_user_room_list!$I:$I,'시험지 출력'!$B25,t_user_room_list!$C:$C,'시험지 출력'!D$22)),"") -> 20 | E25: =IFERROR(IF(COUNTIFS(t_user_room_list!$I:$I,'시험지 출력'!$B25,t_user_room_list!$C:$C,'시험지 출력'!E$22)=0,"",COUNTIFS(t_user_room_list!$I:$I,'시험지 출력'!$B25,t_user_room_list!$C:$C,'시험지 출력'!E$22)),"") | F25: =IFERROR(IF(COUNTIFS(t_user_room_list!$I:$I,'시험지 출력'!$B25,t_user_room_list!$C:$C,'시험지 출력'!F$22)=0,"",COUNTIFS(t_user_room_list!$I:$I,'시험지 출력'!$B25,t_user_room_list!$C:$C,'시험지 출력'!F$22)),"") | G25: =IFERROR(IF(COUNTIFS(t_user_room_list!$I:$I,'시험지 출력'!$B25,t_user_room_list!$C:$C,'시험지 출력'!G$22)=0,"",COUNTIFS(t_user_room_list!$I:$I,'시험지 출력'!$B25,t_user_room_list!$C:$C,'시험지 출력'!G$22)),"") | H25: =IFERROR(IF(COUNTIFS(t_user_room_list!$I:$I,'시험지 출력'!$B25,t_user_room_list!$C:$C,'시험지 출력'!H$22)=0,"",COUNTIFS(t_user_room_list!$I:$I,'시험지 출력'!$B25,t_user_room_list!$C:$C,'시험지 출력'!H$22)),"") | I25: =IFERROR(IF(COUNTIFS(t_user_room_list!$I:$I,'시험지 출력'!$B25,t_user_room_list!$C:$C,'시험지 출력'!I$22)=0,"",COUNTIFS(t_user_room_list!$I:$I,'시험지 출력'!$B25,t_user_room_list!$C:$C,'시험지 출력'!I$22)),"") | J25: 11 | K25: 11
A26: 4 | B26: 202 | C26: =SUM(D26:I26) -> 20 | D26: =IFERROR(IF(COUNTIFS(t_user_room_list!$I:$I,'시험지 출력'!$B26,t_user_room_list!$C:$C,'시험지 출력'!D$22)=0,"",COUNTIFS(t_user_room_list!$I:$I,'시험지 출력'!$B26,t_user_room_list!$C:$C,'시험지 출력'!D$22)),"") -> 20 | E26: =IFERROR(IF(COUNTIFS(t_user_room_list!$I:$I,'시험지 출력'!$B26,t_user_room_list!$C:$C,'시험지 출력'!E$22)=0,"",COUNTIFS(t_user_room_list!$I:$I,'시험지 출력'!$B26,t_user_room_list!$C:$C,'시험지 출력'!E$22)),"") | F26: =IFERROR(IF(COUNTIFS(t_user_room_list!$I:$I,'시험지 출력'!$B26,t_user_room_list!$C:$C,'시험지 출력'!F$22)=0,"",COUNTIFS(t_user_room_list!$I:$I,'시험지 출력'!$B26,t_user_room_list!$C:$C,'시험지 출력'!F$22)),"") | G26: =IFERROR(IF(COUNTIFS(t_user_room_list!$I:$I,'시험지 출력'!$B26,t_user_room_list!$C:$C,'시험지 출력'!G$22)=0,"",COUNTIFS(t_user_room_list!$I:$I,'시험지 출력'!$B26,t_user_room_list!$C:$C,'시험지 출력'!G$22)),"") | H26: =IFERROR(IF(COUNTIFS(t_user_room_list!$I:$I,'시험지 출력'!$B26,t_user_room_list!$C:$C,'시험지 출력'!H$22)=0,"",COUNTIFS(t_user_room_list!$I:$I,'시험지 출력'!$B26,t_user_room_list!$C:$C,'시험지 출력'!H$22)),"") | I26: =IFERROR(IF(COUNTIFS(t_user_room_list!$I:$I,'시험지 출력'!$B26,t_user_room_list!$C:$C,'시험지 출력'!I$22)=0,"",COUNTIFS(t_user_room_list!$I:$I,'시험지 출력'!$B26,t_user_room_list!$C:$C,'시험지 출력'!I$22)),"") | J26: 11 | K26: 11
A27: 5 | B27: 203 | C27: =SUM(D27:I27) -> 20 | D27: =IFERROR(IF(COUNTIFS(t_user_room_list!$I:$I,'시험지 출력'!$B27,t_user_room_list!$C:$C,'시험지 출력'!D$22)=0,"",COUNTIFS(t_user_room_list!$I:$I,'시험지 출력'!$B27,t_user_room_list!$C:$C,'시험지 출력'!D$22)),"") -> 20 | E27: =IFERROR(IF(COUNTIFS(t_user_room_list!$I:$I,'시험지 출력'!$B27,t_user_room_list!$C:$C,'시험지 출력'!E$22)=0,"",COUNTIFS(t_user_room_list!$I:$I,'시험지 출력'!$B27,t_user_room_list!$C:$C,'시험지 출력'!E$22)),"") | F27: =IFERROR(IF(COUNTIFS(t_user_room_list!$I:$I,'시험지 출력'!$B27,t_user_room_list!$C:$C,'시험지 출력'!F$22)=0,"",COUNTIFS(t_user_room_list!$I:$I,'시험지 출력'!$B27,t_user_room_list!$C:$C,'시험지 출력'!F$22)),"") | G27: =IFERROR(IF(COUNTIFS(t_user_room_list!$I:$I,'시험지 출력'!$B27,t_user_room_list!$C:$C,'시험지 출력'!G$22)=0,"",COUNTIFS(t_user_room_list!$I:$I,'시험지 출력'!$B27,t_user_room_list!$C:$C,'시험지 출력'!G$22)),"") | H27: =IFERROR(IF(COUNTIFS(t_user_room_list!$I:$I,'시험지 출력'!$B27,t_user_room_list!$C:$C,'시험지 출력'!H$22)=0,"",COUNTIFS(t_user_room_list!$I:$I,'시험지 출력'!$B27,t_user_room_list!$C:$C,'시험지 출력'!H$22)),"") | I27: =IFERROR(IF(COUNTIFS(t_user_room_list!$I:$I,'시험지 출력'!$B27,t_user_room_list!$C:$C,'시험지 출력'!I$22)=0,"",COUNTIFS(t_user_room_list!$I:$I,'시험지 출력'!$B27,t_user_room_list!$C:$C,'시험지 출력'!I$22)),"") | J27: 11 | K27: 11
A28: 6 | B28: 204 | C28: =SUM(D28:I28) -> 16 | D28: =IFERROR(IF(COUNTIFS(t_user_room_list!$I:$I,'시험지 출력'!$B28,t_user_room_list!$C:$C,'시험지 출력'!D$22)=0,"",COUNTIFS(t_user_room_list!$I:$I,'시험지 출력'!$B28,t_user_room_list!$C:$C,'시험지 출력'!D$22)),"") -> 16 | E28: =IFERROR(IF(COUNTIFS(t_user_room_list!$I:$I,'시험지 출력'!$B28,t_user_room_list!$C:$C,'시험지 출력'!E$22)=0,"",COUNTIFS(t_user_room_list!$I:$I,'시험지 출력'!$B28,t_user_room_list!$C:$C,'시험지 출력'!E$22)),"") | F28: =IFERROR(IF(COUNTIFS(t_user_room_list!$I:$I,'시험지 출력'!$B28,t_user_room_list!$C:$C,'시험지 출력'!F$22)=0,"",COUNTIFS(t_user_room_list!$I:$I,'시험지 출력'!$B28,t_user_room_list!$C:$C,'시험지 출력'!F$22)),"") | G28: =IFERROR(IF(COUNTIFS(t_user_room_list!$I:$I,'시험지 출력'!$B28,t_user_room_list!$C:$C,'시험지 출력'!G$22)=0,"",COUNTIFS(t_user_room_list!$I:$I,'시험지 출력'!$B28,t_user_room_list!$C:$C,'시험지 출력'!G$22)),"") | H28: =IFERROR(IF(COUNTIFS(t_user_room_list!$I:$I,'시험지 출력'!$B28,t_user_room_list!$C:$C,'시험지 출력'!H$22)=0,"",COUNTIFS(t_user_room_list!$I:$I,'시험지 출력'!$B28,t_user_room_list!$C:$C,'시험지 출력'!H$22)),"") | I28: =IFERROR(IF(COUNTIFS(t_user_room_list!$I:$I,'시험지 출력'!$B28,t_user_room_list!$C:$C,'시험지 출력'!I$22)=0,"",COUNTIFS(t_user_room_list!$I:$I,'시험지 출력'!$B28,t_user_room_list!$C:$C,'시험지 출력'!I$22)),"") | J28: 9 | K28: 9
A29: 7 | B29: 205 | C29: =SUM(D29:I29) -> 25 | D29: =IFERROR(IF(COUNTIFS(t_user_room_list!$I:$I,'시험지 출력'!$B29,t_user_room_list!$C:$C,'시험지 출력'!D$22)=0,"",COUNTIFS(t_user_room_list!$I:$I,'시험지 출력'!$B29,t_user_room_list!$C:$C,'시험지 출력'!D$22)),"") | E29: =IFERROR(IF(COUNTIFS(t_user_room_list!$I:$I,'시험지 출력'!$B29,t_user_room_list!$C:$C,'시험지 출력'!E$22)=0,"",COUNTIFS(t_user_room_list!$I:$I,'시험지 출력'!$B29,t_user_room_list!$C:$C,'시험지 출력'!E$22)),"") -> 25 | F29: =IFERROR(IF(COUNTIFS(t_user_room_list!$I:$I,'시험지 출력'!$B29,t_user_room_list!$C:$C,'시험지 출력'!F$22)=0,"",COUNTIFS(t_user_room_list!$I:$I,'시험지 출력'!$B29,t_user_room_list!$C:$C,'시험지 출력'!F$22)),"") | G29: =IFERROR(IF(COUNTIFS(t_user_room_list!$I:$I,'시험지 출력'!$B29,t_user_room_list!$C:$C,'시험지 출력'!G$22)=0,"",COUNTIFS(t_user_room_list!$I:$I,'시험지 출력'!$B29,t_user_room_list!$C:$C,'시험지 출력'!G$22)),"") | H29: =IFERROR(IF(COUNTIFS(t_user_room_list!$I:$I,'시험지 출력'!$B29,t_user_room_list!$C:$C,'시험지 출력'!H$22)=0,"",COUNTIFS(t_user_room_list!$I:$I,'시험지 출력'!$B29,t_user_room_list!$C:$C,'시험지 출력'!H$22)),"") | I29: =IFERROR(IF(COUNTIFS(t_user_room_list!$I:$I,'시험지 출력'!$B29,t_user_room_list!$C:$C,'시험지 출력'!I$22)=0,"",COUNTIFS(t_user_room_list!$I:$I,'시험지 출력'!$B29,t_user_room_list!$C:$C,'시험지 출력'!I$22)),"") | L29: 13 | M29: 14
A30: 8 | B30: 206 | C30: =SUM(D30:I30) -> 25 | D30: =IFERROR(IF(COUNTIFS(t_user_room_list!$I:$I,'시험지 출력'!$B30,t_user_room_list!$C:$C,'시험지 출력'!D$22)=0,"",COUNTIFS(t_user_room_list!$I:$I,'시험지 출력'!$B30,t_user_room_list!$C:$C,'시험지 출력'!D$22)),"") | E30: =IFERROR(IF(COUNTIFS(t_user_room_list!$I:$I,'시험지 출력'!$B30,t_user_room_list!$C:$C,'시험지 출력'!E$22)=0,"",COUNTIFS(t_user_room_list!$I:$I,'시험지 출력'!$B30,t_user_room_list!$C:$C,'시험지 출력'!E$22)),"") -> 25 | F30: =IFERROR(IF(COUNTIFS(t_user_room_list!$I:$I,'시험지 출력'!$B30,t_user_room_list!$C:$C,'시험지 출력'!F$22)=0,"",COUNTIFS(t_user_room_list!$I:$I,'시험지 출력'!$B30,t_user_room_list!$C:$C,'시험지 출력'!F$22)),"") | G30: =IFERROR(IF(COUNTIFS(t_user_room_list!$I:$I,'시험지 출력'!$B30,t_user_room_list!$C:$C,'시험지 출력'!G$22)=0,"",COUNTIFS(t_user_room_list!$I:$I,'시험지 출력'!$B30,t_user_room_list!$C:$C,'시험지 출력'!G$22)),"") | H30: =IFERROR(IF(COUNTIFS(t_user_room_list!$I:$I,'시험지 출력'!$B30,t_user_room_list!$C:$C,'시험지 출력'!H$22)=0,"",COUNTIFS(t_user_room_list!$I:$I,'시험지 출력'!$B30,t_user_room_list!$C:$C,'시험지 출력'!H$22)),"") | I30: =IFERROR(IF(COUNTIFS(t_user_room_list!$I:$I,'시험지 출력'!$B30,t_user_room_list!$C:$C,'시험지 출력'!I$22)=0,"",COUNTIFS(t_user_room_list!$I:$I,'시험지 출력'!$B30,t_user_room_list!$C:$C,'시험지 출력'!I$22)),"") | L30: 13 | M30: 14
A31: 9 | B31: 207 | C31: =SUM(D31:I31) -> 25 | D31: =IFERROR(IF(COUNTIFS(t_user_room_list!$I:$I,'시험지 출력'!$B31,t_user_room_list!$C:$C,'시험지 출력'!D$22)=0,"",COUNTIFS(t_user_room_list!$I:$I,'시험지 출력'!$B31,t_user_room_list!$C:$C,'시험지 출력'!D$22)),"") | E31: =IFERROR(IF(COUNTIFS(t_user_room_list!$I:$I,'시험지 출력'!$B31,t_user_room_list!$C:$C,'시험지 출력'!E$22)=0,"",COUNTIFS(t_user_room_list!$I:$I,'시험지 출력'!$B31,t_user_room_list!$C:$C,'시험지 출력'!E$22)),"") -> 25 | F31: =IFERROR(IF(COUNTIFS(t_user_room_list!$I:$I,'시험지 출력'!$B31,t_user_room_list!$C:$C,'시험지 출력'!F$22)=0,"",COUNTIFS(t_user_room_list!$I:$I,'시험지 출력'!$B31,t_user_room_list!$C:$C,'시험지 출력'!F$22)),"") | G31: =IFERROR(IF(COUNTIFS(t_user_room_list!$I:$I,'시험지 출력'!$B31,t_user_room_list!$C:$C,'시험지 출력'!G$22)=0,"",COUNTIFS(t_user_room_list!$I:$I,'시험지 출력'!$B31,t_user_room_list!$C:$C,'시험지 출력'!G$22)),"") | H31: =IFERROR(IF(COUNTIFS(t_user_room_list!$I:$I,'시험지 출력'!$B31,t_user_room_list!$C:$C,'시험지 출력'!H$22)=0,"",COUNTIFS(t_user_room_list!$I:$I,'시험지 출력'!$B31,t_user_room_list!$C:$C,'시험지 출력'!H$22)),"") | I31: =IFERROR(IF(COUNTIFS(t_user_room_list!$I:$I,'시험지 출력'!$B31,t_user_room_list!$C:$C,'시험지 출력'!I$22)=0,"",COUNTIFS(t_user_room_list!$I:$I,'시험지 출력'!$B31,t_user_room_list!$C:$C,'시험지 출력'!I$22)),"") | L31: 13 | M31: 14
A32: 10 | B32: 301 | C32: =SUM(D32:I32) -> 22 | D32: =IFERROR(IF(COUNTIFS(t_user_room_list!$I:$I,'시험지 출력'!$B32,t_user_room_list!$C:$C,'시험지 출력'!D$22)=0,"",COUNTIFS(t_user_room_list!$I:$I,'시험지 출력'!$B32,t_user_room_list!$C:$C,'시험지 출력'!D$22)),"") | E32: =IFERROR(IF(COUNTIFS(t_user_room_list!$I:$I,'시험지 출력'!$B32,t_user_room_list!$C:$C,'시험지 출력'!E$22)=0,"",COUNTIFS(t_user_room_list!$I:$I,'시험지 출력'!$B32,t_user_room_list!$C:$C,'시험지 출력'!E$22)),"") | F32: =IFERROR(IF(COUNTIFS(t_user_room_list!$I:$I,'시험지 출력'!$B32,t_user_room_list!$C:$C,'시험지 출력'!F$22)=0,"",COUNTIFS(t_user_room_list!$I:$I,'시험지 출력'!$B32,t_user_room_list!$C:$C,'시험지 출력'!F$22)),"") | G32: =IFERROR(IF(COUNTIFS(t_user_room_list!$I:$I,'시험지 출력'!$B32,t_user_room_list!$C:$C,'시험지 출력'!G$22)=0,"",COUNTIFS(t_user_room_list!$I:$I,'시험지 출력'!$B32,t_user_room_list!$C:$C,'시험지 출력'!G$22)),"") -> 22 | H32: =IFERROR(IF(COUNTIFS(t_user_room_list!$I:$I,'시험지 출력'!$B32,t_user_room_list!$C:$C,'시험지 출력'!H$22)=0,"",COUNTIFS(t_user_room_list!$I:$I,'시험지 출력'!$B32,t_user_room_list!$C:$C,'시험지 출력'!H$22)),"") | I32: =IFERROR(IF(COUNTIFS(t_user_room_list!$I:$I,'시험지 출력'!$B32,t_user_room_list!$C:$C,'시험지 출력'!I$22)=0,"",COUNTIFS(t_user_room_list!$I:$I,'시험지 출력'!$B32,t_user_room_list!$C:$C,'시험지 출력'!I$22)),"") | P32: 12 | Q32: 12
A33: 11 | B33: 302 | C33: =SUM(D33:I33) -> 23 | D33: =IFERROR(IF(COUNTIFS(t_user_room_list!$I:$I,'시험지 출력'!$B33,t_user_room_list!$C:$C,'시험지 출력'!D$22)=0,"",COUNTIFS(t_user_room_list!$I:$I,'시험지 출력'!$B33,t_user_room_list!$C:$C,'시험지 출력'!D$22)),"") | E33: =IFERROR(IF(COUNTIFS(t_user_room_list!$I:$I,'시험지 출력'!$B33,t_user_room_list!$C:$C,'시험지 출력'!E$22)=0,"",COUNTIFS(t_user_room_list!$I:$I,'시험지 출력'!$B33,t_user_room_list!$C:$C,'시험지 출력'!E$22)),"") | F33: =IFERROR(IF(COUNTIFS(t_user_room_list!$I:$I,'시험지 출력'!$B33,t_user_room_list!$C:$C,'시험지 출력'!F$22)=0,"",COUNTIFS(t_user_room_list!$I:$I,'시험지 출력'!$B33,t_user_room_list!$C:$C,'시험지 출력'!F$22)),"") | G33: =IFERROR(IF(COUNTIFS(t_user_room_list!$I:$I,'시험지 출력'!$B33,t_user_room_list!$C:$C,'시험지 출력'!G$22)=0,"",COUNTIFS(t_user_room_list!$I:$I,'시험지 출력'!$B33,t_user_room_list!$C:$C,'시험지 출력'!G$22)),"") -> 23 | H33: =IFERROR(IF(COUNTIFS(t_user_room_list!$I:$I,'시험지 출력'!$B33,t_user_room_list!$C:$C,'시험지 출력'!H$22)=0,"",COUNTIFS(t_user_room_list!$I:$I,'시험지 출력'!$B33,t_user_room_list!$C:$C,'시험지 출력'!H$22)),"") | I33: =IFERROR(IF(COUNTIFS(t_user_room_list!$I:$I,'시험지 출력'!$B33,t_user_room_list!$C:$C,'시험지 출력'!I$22)=0,"",COUNTIFS(t_user_room_list!$I:$I,'시험지 출력'!$B33,t_user_room_list!$C:$C,'시험지 출력'!I$22)),"") | P33: 12 | Q33: 13
A34: 12 | B34: 303 | C34: =SUM(D34:I34) -> 18 | D34: =IFERROR(IF(COUNTIFS(t_user_room_list!$I:$I,'시험지 출력'!$B34,t_user_room_list!$C:$C,'시험지 출력'!D$22)=0,"",COUNTIFS(t_user_room_list!$I:$I,'시험지 출력'!$B34,t_user_room_list!$C:$C,'시험지 출력'!D$22)),"") | E34: =IFERROR(IF(COUNTIFS(t_user_room_list!$I:$I,'시험지 출력'!$B34,t_user_room_list!$C:$C,'시험지 출력'!E$22)=0,"",COUNTIFS(t_user_room_list!$I:$I,'시험지 출력'!$B34,t_user_room_list!$C:$C,'시험지 출력'!E$22)),"") | F34: =IFERROR(IF(COUNTIFS(t_user_room_list!$I:$I,'시험지 출력'!$B34,t_user_room_list!$C:$C,'시험지 출력'!F$22)=0,"",COUNTIFS(t_user_room_list!$I:$I,'시험지 출력'!$B34,t_user_room_list!$C:$C,'시험지 출력'!F$22)),"") -> 18 | G34: =IFERROR(IF(COUNTIFS(t_user_room_list!$I:$I,'시험지 출력'!$B34,t_user_room_list!$C:$C,'시험지 출력'!G$22)=0,"",COUNTIFS(t_user_room_list!$I:$I,'시험지 출력'!$B34,t_user_room_list!$C:$C,'시험지 출력'!G$22)),"") | H34: =IFERROR(IF(COUNTIFS(t_user_room_list!$I:$I,'시험지 출력'!$B34,t_user_room_list!$C:$C,'시험지 출력'!H$22)=0,"",COUNTIFS(t_user_room_list!$I:$I,'시험지 출력'!$B34,t_user_room_list!$C:$C,'시험지 출력'!H$22)),"") | I34: =IFERROR(IF(COUNTIFS(t_user_room_list!$I:$I,'시험지 출력'!$B34,t_user_room_list!$C:$C,'시험지 출력'!I$22)=0,"",COUNTIFS(t_user_room_list!$I:$I,'시험지 출력'!$B34,t_user_room_list!$C:$C,'시험지 출력'!I$22)),"") | N34: 10 | O34: 10
A35: 13 | B35: 304 | C35: =SUM(D35:I35) -> 19 | D35: =IFERROR(IF(COUNTIFS(t_user_room_list!$I:$I,'시험지 출력'!$B35,t_user_room_list!$C:$C,'시험지 출력'!D$22)=0,"",COUNTIFS(t_user_room_list!$I:$I,'시험지 출력'!$B35,t_user_room_list!$C:$C,'시험지 출력'!D$22)),"") | E35: =IFERROR(IF(COUNTIFS(t_user_room_list!$I:$I,'시험지 출력'!$B35,t_user_room_list!$C:$C,'시험지 출력'!E$22)=0,"",COUNTIFS(t_user_room_list!$I:$I,'시험지 출력'!$B35,t_user_room_list!$C:$C,'시험지 출력'!E$22)),"") | F35: =IFERROR(IF(COUNTIFS(t_user_room_list!$I:$I,'시험지 출력'!$B35,t_user_room_list!$C:$C,'시험지 출력'!F$22)=0,"",COUNTIFS(t_user_room_list!$I:$I,'시험지 출력'!$B35,t_user_room_list!$C:$C,'시험지 출력'!F$22)),"") -> 19 | G35: =IFERROR(IF(COUNTIFS(t_user_room_list!$I:$I,'시험지 출력'!$B35,t_user_room_list!$C:$C,'시험지 출력'!G$22)=0,"",COUNTIFS(t_user_room_list!$I:$I,'시험지 출력'!$B35,t_user_room_list!$C:$C,'시험지 출력'!G$22)),"") | H35: =IFERROR(IF(COUNTIFS(t_user_room_list!$I:$I,'시험지 출력'!$B35,t_user_room_list!$C:$C,'시험지 출력'!H$22)=0,"",COUNTIFS(t_user_room_list!$I:$I,'시험지 출력'!$B35,t_user_room_list!$C:$C,'시험지 출력'!H$22)),"") | I35: =IFERROR(IF(COUNTIFS(t_user_room_list!$I:$I,'시험지 출력'!$B35,t_user_room_list!$C:$C,'시험지 출력'!I$22)=0,"",COUNTIFS(t_user_room_list!$I:$I,'시험지 출력'!$B35,t_user_room_list!$C:$C,'시험지 출력'!I$22)),"") | N35: 11 | O35: 10
A36: 14 | B36: 305 | C36: =SUM(D36:I36) -> 18 | D36: =IFERROR(IF(COUNTIFS(t_user_room_list!$I:$I,'시험지 출력'!$B36,t_user_room_list!$C:$C,'시험지 출력'!D$22)=0,"",COUNTIFS(t_user_room_list!$I:$I,'시험지 출력'!$B36,t_user_room_list!$C:$C,'시험지 출력'!D$22)),"") | E36: =IFERROR(IF(COUNTIFS(t_user_room_list!$I:$I,'시험지 출력'!$B36,t_user_room_list!$C:$C,'시험지 출력'!E$22)=0,"",COUNTIFS(t_user_room_list!$I:$I,'시험지 출력'!$B36,t_user_room_list!$C:$C,'시험지 출력'!E$22)),"") | F36: =IFERROR(IF(COUNTIFS(t_user_room_list!$I:$I,'시험지 출력'!$B36,t_user_room_list!$C:$C,'시험지 출력'!F$22)=0,"",COUNTIFS(t_user_room_list!$I:$I,'시험지 출력'!$B36,t_user_room_list!$C:$C,'시험지 출력'!F$22)),"") -> 18 | G36: =IFERROR(IF(COUNTIFS(t_user_room_list!$I:$I,'시험지 출력'!$B36,t_user_room_list!$C:$C,'시험지 출력'!G$22)=0,"",COUNTIFS(t_user_room_list!$I:$I,'시험지 출력'!$B36,t_user_room_list!$C:$C,'시험지 출력'!G$22)),"") | H36: =IFERROR(IF(COUNTIFS(t_user_room_list!$I:$I,'시험지 출력'!$B36,t_user_room_list!$C:$C,'시험지 출력'!H$22)=0,"",COUNTIFS(t_user_room_list!$I:$I,'시험지 출력'!$B36,t_user_room_list!$C:$C,'시험지 출력'!H$22)),"") | I36: =IFERROR(IF(COUNTIFS(t_user_room_list!$I:$I,'시험지 출력'!$B36,t_user_room_list!$C:$C,'시험지 출력'!I$22)=0,"",COUNTIFS(t_user_room_list!$I:$I,'시험지 출력'!$B36,t_user_room_list!$C:$C,'시험지 출력'!I$22)),"") | N36: 10 | O36: 10
A37: 15 | B37: 306 | C37: =SUM(D37:I37) -> 20 | D37: =IFERROR(IF(COUNTIFS(t_user_room_list!$I:$I,'시험지 출력'!$B37,t_user_room_list!$C:$C,'시험지 출력'!D$22)=0,"",COUNTIFS(t_user_room_list!$I:$I,'시험지 출력'!$B37,t_user_room_list!$C:$C,'시험지 출력'!D$22)),"") | E37: =IFERROR(IF(COUNTIFS(t_user_room_list!$I:$I,'시험지 출력'!$B37,t_user_room_list!$C:$C,'시험지 출력'!E$22)=0,"",COUNTIFS(t_user_room_list!$I:$I,'시험지 출력'!$B37,t_user_room_list!$C:$C,'시험지 출력'!E$22)),"") | F37: =IFERROR(IF(COUNTIFS(t_user_room_list!$I:$I,'시험지 출력'!$B37,t_user_room_list!$C:$C,'시험지 출력'!F$22)=0,"",COUNTIFS(t_user_room_list!$I:$I,'시험지 출력'!$B37,t_user_room_list!$C:$C,'시험지 출력'!F$22)),"") -> 20 | G37: =IFERROR(IF(COUNTIFS(t_user_room_list!$I:$I,'시험지 출력'!$B37,t_user_room_list!$C:$C,'시험지 출력'!G$22)=0,"",COUNTIFS(t_user_room_list!$I:$I,'시험지 출력'!$B37,t_user_room_list!$C:$C,'시험지 출력'!G$22)),"") | H37: =IFERROR(IF(COUNTIFS(t_user_room_list!$I:$I,'시험지 출력'!$B37,t_user_room_list!$C:$C,'시험지 출력'!H$22)=0,"",COUNTIFS(t_user_room_list!$I:$I,'시험지 출력'!$B37,t_user_room_list!$C:$C,'시험지 출력'!H$22)),"") | I37: =IFERROR(IF(COUNTIFS(t_user_room_list!$I:$I,'시험지 출력'!$B37,t_user_room_list!$C:$C,'시험지 출력'!I$22)=0,"",COUNTIFS(t_user_room_list!$I:$I,'시험지 출력'!$B37,t_user_room_list!$C:$C,'시험지 출력'!I$22)),"") | N37: 11 | O37: 11
A38: 16 | B38: 307 | C38: =SUM(D38:I38) -> 20 | D38: =IFERROR(IF(COUNTIFS(t_user_room_list!$I:$I,'시험지 출력'!$B38,t_user_room_list!$C:$C,'시험지 출력'!D$22)=0,"",COUNTIFS(t_user_room_list!$I:$I,'시험지 출력'!$B38,t_user_room_list!$C:$C,'시험지 출력'!D$22)),"") | E38: =IFERROR(IF(COUNTIFS(t_user_room_list!$I:$I,'시험지 출력'!$B38,t_user_room_list!$C:$C,'시험지 출력'!E$22)=0,"",COUNTIFS(t_user_room_list!$I:$I,'시험지 출력'!$B38,t_user_room_list!$C:$C,'시험지 출력'!E$22)),"") | F38: =IFERROR(IF(COUNTIFS(t_user_room_list!$I:$I,'시험지 출력'!$B38,t_user_room_list!$C:$C,'시험지 출력'!F$22)=0,"",COUNTIFS(t_user_room_list!$I:$I,'시험지 출력'!$B38,t_user_room_list!$C:$C,'시험지 출력'!F$22)),"") -> 20 | G38: =IFERROR(IF(COUNTIFS(t_user_room_list!$I:$I,'시험지 출력'!$B38,t_user_room_list!$C:$C,'시험지 출력'!G$22)=0,"",COUNTIFS(t_user_room_list!$I:$I,'시험지 출력'!$B38,t_user_room_list!$C:$C,'시험지 출력'!G$22)),"") | H38: =IFERROR(IF(COUNTIFS(t_user_room_list!$I:$I,'시험지 출력'!$B38,t_user_room_list!$C:$C,'시험지 출력'!H$22)=0,"",COUNTIFS(t_user_room_list!$I:$I,'시험지 출력'!$B38,t_user_room_list!$C:$C,'시험지 출력'!H$22)),"") | I38: =IFERROR(IF(COUNTIFS(t_user_room_list!$I:$I,'시험지 출력'!$B38,t_user_room_list!$C:$C,'시험지 출력'!I$22)=0,"",COUNTIFS(t_user_room_list!$I:$I,'시험지 출력'!$B38,t_user_room_list!$C:$C,'시험지 출력'!I$22)),"") | N38: 11 | O38: 11
A39: 17 | B39: 309 | C39: =SUM(D39:I39) -> 12 | D39: =IFERROR(IF(COUNTIFS(t_user_room_list!$I:$I,'시험지 출력'!$B39,t_user_room_list!$C:$C,'시험지 출력'!D$22)=0,"",COUNTIFS(t_user_room_list!$I:$I,'시험지 출력'!$B39,t_user_room_list!$C:$C,'시험지 출력'!D$22)),"") | E39: =IFERROR(IF(COUNTIFS(t_user_room_list!$I:$I,'시험지 출력'!$B39,t_user_room_list!$C:$C,'시험지 출력'!E$22)=0,"",COUNTIFS(t_user_room_list!$I:$I,'시험지 출력'!$B39,t_user_room_list!$C:$C,'시험지 출력'!E$22)),"") | F39: =IFERROR(IF(COUNTIFS(t_user_room_list!$I:$I,'시험지 출력'!$B39,t_user_room_list!$C:$C,'시험지 출력'!F$22)=0,"",COUNTIFS(t_user_room_list!$I:$I,'시험지 출력'!$B39,t_user_room_list!$C:$C,'시험지 출력'!F$22)),"") | G39: =IFERROR(IF(COUNTIFS(t_user_room_list!$I:$I,'시험지 출력'!$B39,t_user_room_list!$C:$C,'시험지 출력'!G$22)=0,"",COUNTIFS(t_user_room_list!$I:$I,'시험지 출력'!$B39,t_user_room_list!$C:$C,'시험지 출력'!G$22)),"") | H39: =IFERROR(IF(COUNTIFS(t_user_room_list!$I:$I,'시험지 출력'!$B39,t_user_room_list!$C:$C,'시험지 출력'!H$22)=0,"",COUNTIFS(t_user_room_list!$I:$I,'시험지 출력'!$B39,t_user_room_list!$C:$C,'시험지 출력'!H$22)),"") -> 12 | I39: =IFERROR(IF(COUNTIFS(t_user_room_list!$I:$I,'시험지 출력'!$B39,t_user_room_list!$C:$C,'시험지 출력'!I$22)=0,"",COUNTIFS(t_user_room_list!$I:$I,'시험지 출력'!$B39,t_user_room_list!$C:$C,'시험지 출력'!I$22)),"") | R39: 7 | S39: 7
A40: 18 | B40: 402 | C40: =SUM(D40:I40) -> 20 | D40: =IFERROR(IF(COUNTIFS(t_user_room_list!$I:$I,'시험지 출력'!$B40,t_user_room_list!$C:$C,'시험지 출력'!D$22)=0,"",COUNTIFS(t_user_room_list!$I:$I,'시험지 출력'!$B40,t_user_room_list!$C:$C,'시험지 출력'!D$22)),"") | E40: =IFERROR(IF(COUNTIFS(t_user_room_list!$I:$I,'시험지 출력'!$B40,t_user_room_list!$C:$C,'시험지 출력'!E$22)=0,"",COUNTIFS(t_user_room_list!$I:$I,'시험지 출력'!$B40,t_user_room_list!$C:$C,'시험지 출력'!E$22)),"") | F40: =IFERROR(IF(COUNTIFS(t_user_room_list!$I:$I,'시험지 출력'!$B40,t_user_room_list!$C:$C,'시험지 출력'!F$22)=0,"",COUNTIFS(t_user_room_list!$I:$I,'시험지 출력'!$B40,t_user_room_list!$C:$C,'시험지 출력'!F$22)),"") | G40: =IFERROR(IF(COUNTIFS(t_user_room_list!$I:$I,'시험지 출력'!$B40,t_user_room_list!$C:$C,'시험지 출력'!G$22)=0,"",COUNTIFS(t_user_room_list!$I:$I,'시험지 출력'!$B40,t_user_room_list!$C:$C,'시험지 출력'!G$22)),"") -> 20 | H40: =IFERROR(IF(COUNTIFS(t_user_room_list!$I:$I,'시험지 출력'!$B40,t_user_room_list!$C:$C,'시험지 출력'!H$22)=0,"",COUNTIFS(t_user_room_list!$I:$I,'시험지 출력'!$B40,t_user_room_list!$C:$C,'시험지 출력'!H$22)),"") | I40: =IFERROR(IF(COUNTIFS(t_user_room_list!$I:$I,'시험지 출력'!$B40,t_user_room_list!$C:$C,'시험지 출력'!I$22)=0,"",COUNTIFS(t_user_room_list!$I:$I,'시험지 출력'!$B40,t_user_room_list!$C:$C,'시험지 출력'!I$22)),"") | P40: 11 | Q40: 11
A41: 19 | B41: 403 | C41: =SUM(D41:I41) -> 20 | D41: =IFERROR(IF(COUNTIFS(t_user_room_list!$I:$I,'시험지 출력'!$B41,t_user_room_list!$C:$C,'시험지 출력'!D$22)=0,"",COUNTIFS(t_user_room_list!$I:$I,'시험지 출력'!$B41,t_user_room_list!$C:$C,'시험지 출력'!D$22)),"") | E41: =IFERROR(IF(COUNTIFS(t_user_room_list!$I:$I,'시험지 출력'!$B41,t_user_room_list!$C:$C,'시험지 출력'!E$22)=0,"",COUNTIFS(t_user_room_list!$I:$I,'시험지 출력'!$B41,t_user_room_list!$C:$C,'시험지 출력'!E$22)),"") | F41: =IFERROR(IF(COUNTIFS(t_user_room_list!$I:$I,'시험지 출력'!$B41,t_user_room_list!$C:$C,'시험지 출력'!F$22)=0,"",COUNTIFS(t_user_room_list!$I:$I,'시험지 출력'!$B41,t_user_room_list!$C:$C,'시험지 출력'!F$22)),"") | G41: =IFERROR(IF(COUNTIFS(t_user_room_list!$I:$I,'시험지 출력'!$B41,t_user_room_list!$C:$C,'시험지 출력'!G$22)=0,"",COUNTIFS(t_user_room_list!$I:$I,'시험지 출력'!$B41,t_user_room_list!$C:$C,'시험지 출력'!G$22)),"") -> 20 | H41: =IFERROR(IF(COUNTIFS(t_user_room_list!$I:$I,'시험지 출력'!$B41,t_user_room_list!$C:$C,'시험지 출력'!H$22)=0,"",COUNTIFS(t_user_room_list!$I:$I,'시험지 출력'!$B41,t_user_room_list!$C:$C,'시험지 출력'!H$22)),"") | I41: =IFERROR(IF(COUNTIFS(t_user_room_list!$I:$I,'시험지 출력'!$B41,t_user_room_list!$C:$C,'시험지 출력'!I$22)=0,"",COUNTIFS(t_user_room_list!$I:$I,'시험지 출력'!$B41,t_user_room_list!$C:$C,'시험지 출력'!I$22)),"") | P41: 11 | Q41: 11
A42: 20 | B42: 404 | C42: =SUM(D42:I42) -> 20 | D42: =IFERROR(IF(COUNTIFS(t_user_room_list!$I:$I,'시험지 출력'!$B42,t_user_room_list!$C:$C,'시험지 출력'!D$22)=0,"",COUNTIFS(t_user_room_list!$I:$I,'시험지 출력'!$B42,t_user_room_list!$C:$C,'시험지 출력'!D$22)),"") | E42: =IFERROR(IF(COUNTIFS(t_user_room_list!$I:$I,'시험지 출력'!$B42,t_user_room_list!$C:$C,'시험지 출력'!E$22)=0,"",COUNTIFS(t_user_room_list!$I:$I,'시험지 출력'!$B42,t_user_room_list!$C:$C,'시험지 출력'!E$22)),"") | F42: =IFERROR(IF(COUNTIFS(t_user_room_list!$I:$I,'시험지 출력'!$B42,t_user_room_list!$C:$C,'시험지 출력'!F$22)=0,"",COUNTIFS(t_user_room_list!$I:$I,'시험지 출력'!$B42,t_user_room_list!$C:$C,'시험지 출력'!F$22)),"") | G42: =IFERROR(IF(COUNTIFS(t_user_room_list!$I:$I,'시험지 출력'!$B42,t_user_room_list!$C:$C,'시험지 출력'!G$22)=0,"",COUNTIFS(t_user_room_list!$I:$I,'시험지 출력'!$B42,t_user_room_list!$C:$C,'시험지 출력'!G$22)),"") -> 20 | H42: =IFERROR(IF(COUNTIFS(t_user_room_list!$I:$I,'시험지 출력'!$B42,t_user_room_list!$C:$C,'시험지 출력'!H$22)=0,"",COUNTIFS(t_user_room_list!$I:$I,'시험지 출력'!$B42,t_user_room_list!$C:$C,'시험지 출력'!H$22)),"") | I42: =IFERROR(IF(COUNTIFS(t_user_room_list!$I:$I,'시험지 출력'!$B42,t_user_room_list!$C:$C,'시험지 출력'!I$22)=0,"",COUNTIFS(t_user_room_list!$I:$I,'시험지 출력'!$B42,t_user_room_list!$C:$C,'시험지 출력'!I$22)),"") | P42: 11 | Q42: 11
A43: 21 | B43: 407 | C43: =SUM(D43:I43) -> 25 | D43: =IFERROR(IF(COUNTIFS(t_user_room_list!$I:$I,'시험지 출력'!$B43,t_user_room_list!$C:$C,'시험지 출력'!D$22)=0,"",COUNTIFS(t_user_room_list!$I:$I,'시험지 출력'!$B43,t_user_room_list!$C:$C,'시험지 출력'!D$22)),"") | E43: =IFERROR(IF(COUNTIFS(t_user_room_list!$I:$I,'시험지 출력'!$B43,t_user_room_list!$C:$C,'시험지 출력'!E$22)=0,"",COUNTIFS(t_user_room_list!$I:$I,'시험지 출력'!$B43,t_user_room_list!$C:$C,'시험지 출력'!E$22)),"") | F43: =IFERROR(IF(COUNTIFS(t_user_room_list!$I:$I,'시험지 출력'!$B43,t_user_room_list!$C:$C,'시험지 출력'!F$22)=0,"",COUNTIFS(t_user_room_list!$I:$I,'시험지 출력'!$B43,t_user_room_list!$C:$C,'시험지 출력'!F$22)),"") | G43: =IFERROR(IF(COUNTIFS(t_user_room_list!$I:$I,'시험지 출력'!$B43,t_user_room_list!$C:$C,'시험지 출력'!G$22)=0,"",COUNTIFS(t_user_room_list!$I:$I,'시험지 출력'!$B43,t_user_room_list!$C:$C,'시험지 출력'!G$22)),"") | H43: =IFERROR(IF(COUNTIFS(t_user_room_list!$I:$I,'시험지 출력'!$B43,t_user_room_list!$C:$C,'시험지 출력'!H$22)=0,"",COUNTIFS(t_user_room_list!$I:$I,'시험지 출력'!$B43,t_user_room_list!$C:$C,'시험지 출력'!H$22)),"") | I43: =IFERROR(IF(COUNTIFS(t_user_room_list!$I:$I,'시험지 출력'!$B43,t_user_room_list!$C:$C,'시험지 출력'!I$22)=0,"",COUNTIFS(t_user_room_list!$I:$I,'시험지 출력'!$B43,t_user_room_list!$C:$C,'시험지 출력'!I$22)),"") -> 25 | T43: 13 | U43: 14
A44: 22 | B44: 408 | C44: =SUM(D44:I44) -> 25 | D44: =IFERROR(IF(COUNTIFS(t_user_room_list!$I:$I,'시험지 출력'!$B44,t_user_room_list!$C:$C,'시험지 출력'!D$22)=0,"",COUNTIFS(t_user_room_list!$I:$I,'시험지 출력'!$B44,t_user_room_list!$C:$C,'시험지 출력'!D$22)),"") | E44: =IFERROR(IF(COUNTIFS(t_user_room_list!$I:$I,'시험지 출력'!$B44,t_user_room_list!$C:$C,'시험지 출력'!E$22)=0,"",COUNTIFS(t_user_room_list!$I:$I,'시험지 출력'!$B44,t_user_room_list!$C:$C,'시험지 출력'!E$22)),"") | F44: =IFERROR(IF(COUNTIFS(t_user_room_list!$I:$I,'시험지 출력'!$B44,t_user_room_list!$C:$C,'시험지 출력'!F$22)=0,"",COUNTIFS(t_user_room_list!$I:$I,'시험지 출력'!$B44,t_user_room_list!$C:$C,'시험지 출력'!F$22)),"") | G44: =IFERROR(IF(COUNTIFS(t_user_room_list!$I:$I,'시험지 출력'!$B44,t_user_room_list!$C:$C,'시험지 출력'!G$22)=0,"",COUNTIFS(t_user_room_list!$I:$I,'시험지 출력'!$B44,t_user_room_list!$C:$C,'시험지 출력'!G$22)),"") | H44: =IFERROR(IF(COUNTIFS(t_user_room_list!$I:$I,'시험지 출력'!$B44,t_user_room_list!$C:$C,'시험지 출력'!H$22)=0,"",COUNTIFS(t_user_room_list!$I:$I,'시험지 출력'!$B44,t_user_room_list!$C:$C,'시험지 출력'!H$22)),"") | I44: =IFERROR(IF(COUNTIFS(t_user_room_list!$I:$I,'시험지 출력'!$B44,t_user_room_list!$C:$C,'시험지 출력'!I$22)=0,"",COUNTIFS(t_user_room_list!$I:$I,'시험지 출력'!$B44,t_user_room_list!$C:$C,'시험지 출력'!I$22)),"") -> 25 | T44: 13 | U44: 13
...

Sheet TOTAL_MN
A1: Солонгос хэлний Улсын 13 дах Олимпиад
A2: № | B2: Сургууль | C2: Нийт | D2: Анхан шат | E2: Бага | F2: Дунд | G2: Ахлах | H2: Гадаад дунд | I2: Гадаад ахлах | J2: дутуу
A3: № | B3: Сургууль | C3: Нийт | D3: 초급부 | E3: 초등부 | F3: 중등부 | G3: 고등부 | H3: 유학 중등부 | I3: 유학 고등부 | J3: ----선택----
A4: 1 | B4: 18-р сургууль | C4: =SUM(D4:J4) -> 69 | D4: =COUNTIFS(t_user_room_list!$E:$E,TOTAL_MN!$B4,t_user_room_list!$C:$C,TOTAL_MN!D$3) -> 9 | E4: =COUNTIFS(t_user_room_list!$E:$E,TOTAL_MN!$B4,t_user_room_list!$C:$C,TOTAL_MN!E$3) -> 16 | F4: =COUNTIFS(t_user_room_list!$E:$E,TOTAL_MN!$B4,t_user_room_list!$C:$C,TOTAL_MN!F$3) -> 15 | G4: =COUNTIFS(t_user_room_list!$E:$E,TOTAL_MN!$B4,t_user_room_list!$C:$C,TOTAL_MN!G$3) -> 13 | H4: =COUNTIFS(t_user_room_list!$E:$E,TOTAL_MN!$B4,t_user_room_list!$C:$C,TOTAL_MN!H$3) -> 10 | I4: =COUNTIFS(t_user_room_list!$E:$E,TOTAL_MN!$B4,t_user_room_list!$C:$C,TOTAL_MN!I$3) -> 6 | J4: =COUNTIFS(t_user_room_list!$E:$E,TOTAL_MN!$B4,t_user_room_list!$C:$C,TOTAL_MN!J$3) -> 0
A5: 2 | B5: 1-р сургууль | C5: =SUM(D5:J5) -> 1 | D5: =COUNTIFS(t_user_room_list!$E:$E,TOTAL_MN!$B5,t_user_room_list!$C:$C,TOTAL_MN!D$3) -> 0 | E5: =COUNTIFS(t_user_room_list!$E:$E,TOTAL_MN!$B5,t_user_room_list!$C:$C,TOTAL_MN!E$3) -> 0 | F5: =COUNTIFS(t_user_room_list!$E:$E,TOTAL_MN!$B5,t_user_room_list!$C:$C,TOTAL_MN!F$3) -> 0 | G5: =COUNTIFS(t_user_room_list!$E:$E,TOTAL_MN!$B5,t_user_room_list!$C:$C,TOTAL_MN!G$3) -> 0 | H5: =COUNTIFS(t_user_room_list!$E:$E,TOTAL_MN!$B5,t_user_room_list!$C:$C,TOTAL_MN!H$3) -> 1 | I5: =COUNTIFS(t_user_room_list!$E:$E,TOTAL_MN!$B5,t_user_room_list!$C:$C,TOTAL_MN!I$3) -> 0 | J5: =COUNTIFS(t_user_room_list!$E:$E,TOTAL_MN!$B5,t_user_room_list!$C:$C,TOTAL_MN!J$3) -> 0
A6: 3 | B6: 23-р сургууль | C6: =SUM(D6:J6) -> 156 | D6: =COUNTIFS(t_user_room_list!$E:$E,TOTAL_MN!$B6,t_user_room_list!$C:$C,TOTAL_MN!D$3) -> 26 | E6: =COUNTIFS(t_user_room_list!$E:$E,TOTAL_MN!$B6,t_user_room_list!$C:$C,TOTAL_MN!E$3) -> 13 | F6: =COUNTIFS(t_user_room_list!$E:$E,TOTAL_MN!$B6,t_user_room_list!$C:$C,TOTAL_MN!F$3) -> 31 | G6: =COUNTIFS(t_user_room_list!$E:$E,TOTAL_MN!$B6,t_user_room_list!$C:$C,TOTAL_MN!G$3) -> 52 | H6: =COUNTIFS(t_user_room_list!$E:$E,TOTAL_MN!$B6,t_user_room_list!$C:$C,TOTAL_MN!H$3) -> 16 | I6: =COUNTIFS(t_user_room_list!$E:$E,TOTAL_MN!$B6,t_user_room_list!$C:$C,TOTAL_MN!I$3) -> 18 | J6: =COUNTIFS(t_user_room_list!$E:$E,TOTAL_MN!$B6,t_user_room_list!$C:$C,TOTAL_MN!J$3) -> 0
A7: 4 | B7: 34-сургууль | C7: =SUM(D7:J7) -> 1 | D7: =COUNTIFS(t_user_room_list!$E:$E,TOTAL_MN!$B7,t_user_room_list!$C:$C,TOTAL_MN!D$3) -> 0 | E7: =COUNTIFS(t_user_room_list!$E:$E,TOTAL_MN!$B7,t_user_room_list!$C:$C,TOTAL_MN!E$3) -> 0 | F7: =COUNTIFS(t_user_room_list!$E:$E,TOTAL_MN!$B7,t_user_room_list!$C:$C,TOTAL_MN!F$3) -> 0 | G7: =COUNTIFS(t_user_room_list!$E:$E,TOTAL_MN!$B7,t_user_room_list!$C:$C,TOTAL_MN!G$3) -> 1 | H7: =COUNTIFS(t_user_room_list!$E:$E,TOTAL_MN!$B7,t_user_room_list!$C:$C,TOTAL_MN!H$3) -> 0 | I7: =COUNTIFS(t_user_room_list!$E:$E,TOTAL_MN!$B7,t_user_room_list!$C:$C,TOTAL_MN!I$3) -> 0 | J7: =COUNTIFS(t_user_room_list!$E:$E,TOTAL_MN!$B7,t_user_room_list!$C:$C,TOTAL_MN!J$3) -> 0
A8: 5 | B8: 39-р сургууль | C8: =SUM(D8:J8) -> 4 | D8: =COUNTIFS(t_user_room_list!$E:$E,TOTAL_MN!$B8,t_user_room_list!$C:$C,TOTAL_MN!D$3) -> 4 | E8: =COUNTIFS(t_user_room_list!$E:$E,TOTAL_MN!$B8,t_user_room_list!$C:$C,TOTAL_MN!E$3) -> 0 | F8: =COUNTIFS(t_user_room_list!$E:$E,TOTAL_MN!$B8,t_user_room_list!$C:$C,TOTAL_MN!F$3) -> 0 | G8: =COUNTIFS(t_user_room_list!$E:$E,TOTAL_MN!$B8,t_user_room_list!$C:$C,TOTAL_MN!G$3) -> 0 | H8: =COUNTIFS(t_user_room_list!$E:$E,TOTAL_MN!$B8,t_user_room_list!$C:$C,TOTAL_MN!H$3) -> 0 | I8: =COUNTIFS(t_user_room_list!$E:$E,TOTAL_MN!$B8,t_user_room_list!$C:$C,TOTAL_MN!I$3) -> 0 | J8: =COUNTIFS(t_user_room_list!$E:$E,TOTAL_MN!$B8,t_user_room_list!$C:$C,TOTAL_MN!J$3) -> 0
A9: 6 | B9: 52-р сургууль | C9: =SUM(D9:J9) -> 8 | D9: =COUNTIFS(t_user_room_list!$E:$E,TOTAL_MN!$B9,t_user_room_list!$C:$C,TOTAL_MN!D$3) -> 7 | E9: =COUNTIFS(t_user_room_list!$E:$E,TOTAL_MN!$B9,t_user_room_list!$C:$C,TOTAL_MN!E$3) -> 0 | F9: =COUNTIFS(t_user_room_list!$E:$E,TOTAL_MN!$B9,t_user_room_list!$C:$C,TOTAL_MN!F$3) -> 0 | G9: =COUNTIFS(t_user_room_list!$E:$E,TOTAL_MN!$B9,t_user_room_list!$C:$C,TOTAL_MN!G$3) -> 0 | H9: =COUNTIFS(t_user_room_list!$E:$E,TOTAL_MN!$B9,t_user_room_list!$C:$C,TOTAL_MN!H$3) -> 1 | I9: =COUNTIFS(t_user_room_list!$E:$E,TOTAL_MN!$B9,t_user_room_list!$C:$C,TOTAL_MN!I$3) -> 0 | J9: =COUNTIFS(t_user_room_list!$E:$E,TOTAL_MN!$B9,t_user_room_list!$C:$C,TOTAL_MN!J$3) -> 0
A10: 7 | B10: 77-р сургууль | C10: =SUM(D10:J10) -> 1 | D10: =COUNTIFS(t_user_room_list!$E:$E,TOTAL_MN!$B10,t_user_room_list!$C:$C,TOTAL_MN!D$3) -> 0 | E10: =COUNTIFS(t_user_room_list!$E:$E,TOTAL_MN!$B10,t_user_room_list!$C:$C,TOTAL_MN!E$3) -> 0 | F10: =COUNTIFS(t_user_room_list!$E:$E,TOTAL_MN!$B10,t_user_room_list!$C:$C,TOTAL_MN!F$3) -> 0 | G10: =COUNTIFS(t_user_room_list!$E:$E,TOTAL_MN!$B10,t_user_room_list!$C:$C,TOTAL_MN!G$3) -> 0 | H10: =COUNTIFS(t_user_room_list!$E:$E,TOTAL_MN!$B10,t_user_room_list!$C:$C,TOTAL_MN!H$3) -> 0 | I10: =COUNTIFS(t_user_room_list!$E:$E,TOTAL_MN!$B10,t_user_room_list!$C:$C,TOTAL_MN!I$3) -> 1 | J10: =COUNTIFS(t_user_room_list!$E:$E,TOTAL_MN!$B10,t_user_room_list!$C:$C,TOTAL_MN!J$3) -> 0
A11: 8 | B11: буянт-ухаа цогцолбор сургууль | C11: =SUM(D11:J11) -> 29 | D11: =COUNTIFS(t_user_room_list!$E:$E,TOTAL_MN!$B11,t_user_room_list!$C:$C,TOTAL_MN!D$3) -> 6 | E11: =COUNTIFS(t_user_room_list!$E:$E,TOTAL_MN!$B11,t_user_room_list!$C:$C,TOTAL_MN!E$3) -> 0 | F11: =COUNTIFS(t_user_room_list!$E:$E,TOTAL_MN!$B11,t_user_room_list!$C:$C,TOTAL_MN!F$3) -> 16 | G11: =COUNTIFS(t_user_room_list!$E:$E,TOTAL_MN!$B11,t_user_room_list!$C:$C,TOTAL_MN!G$3) -> 7 | H11: =COUNTIFS(t_user_room_list!$E:$E,TOTAL_MN!$B11,t_user_room_list!$C:$C,TOTAL_MN!H$3) -> 0 | I11: =COUNTIFS(t_user_room_list!$E:$E,TOTAL_MN!$B11,t_user_room_list!$C:$C,TOTAL_MN!I$3) -> 0 | J11: =COUNTIFS(t_user_room_list!$E:$E,TOTAL_MN!$B11,t_user_room_list!$C:$C,TOTAL_MN!J$3) -> 0
A12: 9 | B12: Гэрэлт Ирээдүй бүрэн дунд сургууль | C12: =SUM(D12:J12) -> 30 | D12: =COUNTIFS(t_user_room_list!$E:$E,TOTAL_MN!$B12,t_user_room_list!$C:$C,TOTAL_MN!D$3) -> 1 | E12: =COUNTIFS(t_user_room_list!$E:$E,TOTAL_MN!$B12,t_user_room_list!$C:$C,TOTAL_MN!E$3) -> 7 | F12: =COUNTIFS(t_user_room_list!$E:$E,TOTAL_MN!$B12,t_user_room_list!$C:$C,TOTAL_MN!F$3) -> 8 | G12: =COUNTIFS(t_user_room_list!$E:$E,TOTAL_MN!$B12,t_user_room_list!$C:$C,TOTAL_MN!G$3) -> 10 | H12: =COUNTIFS(t_user_room_list!$E:$E,TOTAL_MN!$B12,t_user_room_list!$C:$C,TOTAL_MN!H$3) -> 3 | I12: =COUNTIFS(t_user_room_list!$E:$E,TOTAL_MN!$B12,t_user_room_list!$C:$C,TOTAL_MN!I$3) -> 1 | J12: =COUNTIFS(t_user_room_list!$E:$E,TOTAL_MN!$B12,t_user_room_list!$C:$C,TOTAL_MN!J$3) -> 0
A13: 10 | B13: Оюуны-Ирээдүй Цогцолбор сургууль(Дархан) | C13: =SUM(D13:J13) -> 0 | D13: =COUNTIFS(t_user_room_list!$E:$E,TOTAL_MN!$B13,t_user_room_list!$C:$C,TOTAL_MN!D$3) -> 0 | E13: =COUNTIFS(t_user_room_list!$E:$E,TOTAL_MN!$B13,t_user_room_list!$C:$C,TOTAL_MN!E$3) -> 0 | F13: =COUNTIFS(t_user_room_list!$E:$E,TOTAL_MN!$B13,t_user_room_list!$C:$C,TOTAL_MN!F$3) -> 0 | G13: =COUNTIFS(t_user_room_list!$E:$E,TOTAL_MN!$B13,t_user_room_list!$C:$C,TOTAL_MN!G$3) -> 0 | H13: =COUNTIFS(t_user_room_list!$E:$E,TOTAL_MN!$B13,t_user_room_list!$C:$C,TOTAL_MN!H$3) -> 0 | I13: =COUNTIFS(t_user_room_list!$E:$E,TOTAL_MN!$B13,t_user_room_list!$C:$C,TOTAL_MN!I$3) -> 0 | J13: =COUNTIFS(t_user_room_list!$E:$E,TOTAL_MN!$B13,t_user_room_list!$C:$C,TOTAL_MN!J$3) -> 0
A14: 11 | B14: Монгени Цогцолбор сургууль | C14: =SUM(D14:J14) -> 17 | D14: =COUNTIFS(t_user_room_list!$E:$E,TOTAL_MN!$B14,t_user_room_list!$C:$C,TOTAL_MN!D$3) -> 0 | E14: =COUNTIFS(t_user_room_list!$E:$E,TOTAL_MN!$B14,t_user_room_list!$C:$C,TOTAL_MN!E$3) -> 2 | F14: =COUNTIFS(t_user_room_list!$E:$E,TOTAL_MN!$B14,t_user_room_list!$C:$C,TOTAL_MN!F$3) -> 4 | G14: =COUNTIFS(t_user_room_list!$E:$E,TOTAL_MN!$B14,t_user_room_list!$C:$C,TOTAL_MN!G$3) -> 3 | H14: =COUNTIFS(t_user_room_list!$E:$E,TOTAL_MN!$B14,t_user_room_list!$C:$C,TOTAL_MN!H$3) -> 4 | I14: =COUNTIFS(t_user_room_list!$E:$E,TOTAL_MN!$B14,t_user_room_list!$C:$C,TOTAL_MN!I$3) -> 4 | J14: =COUNTIFS(t_user_room_list!$E:$E,TOTAL_MN!$B14,t_user_room_list!$C:$C,TOTAL_MN!J$3) -> 0
A15: 12 | B15: Монгол оюу сургууль | C15: =SUM(D15:J15) -> 8 | D15: =COUNTIFS(t_user_room_list!$E:$E,TOTAL_MN!$B15,t_user_room_list!$C:$C,TOTAL_MN!D$3) -> 8 | E15: =COUNTIFS(t_user_room_list!$E:$E,TOTAL_MN!$B15,t_user_room_list!$C:$C,TOTAL_MN!E$3) -> 0 | F15: =COUNTIFS(t_user_room_list!$E:$E,TOTAL_MN!$B15,t_user_room_list!$C:$C,TOTAL_MN!F$3) -> 0 | G15: =COUNTIFS(t_user_room_list!$E:$E,TOTAL_MN!$B15,t_user_room_list!$C:$C,TOTAL_MN!G$3) -> 0 | H15: =COUNTIFS(t_user_room_list!$E:$E,TOTAL_MN!$B15,t_user_room_list!$C:$C,TOTAL_MN!H$3) -> 0 | I15: =COUNTIFS(t_user_room_list!$E:$E,TOTAL_MN!$B15,t_user_room_list!$C:$C,TOTAL_MN!I$3) -> 0 | J15: =COUNTIFS(t_user_room_list!$E:$E,TOTAL_MN!$B15,t_user_room_list!$C:$C,TOTAL_MN!J$3) -> 0
... A19: 16 | B19: Хүрээ тулга | C19: =SUM(D19:J19) -> 33 | D19: =COUNTIFS(t_user_room_list!$E:$E,TOTAL_MN!$B19,t_user_room_list!$C:$C,TOTAL_MN!D$3) -> 9 | E19: =COUNTIFS(t_user_room_list!$E:$E,TOTAL_MN!$B19,t_user_room_list!$C:$C,TOTAL_MN!E$3) -> 0 | F19: =COUNTIFS(t_user_room_list!$E:$E,TOTAL_MN!$B19,t_user_room_list!$C:$C,TOTAL_MN!F$3) -> 5 | G19: =COUNTIFS(t_user_room_list!$E:$E,TOTAL_MN!$B19,t_user_room_list!$C:$C,TOTAL_MN!G$3) -> 8 | H19: =COUNTIFS(t_user_room_list!$E:$E,TOTAL_MN!$B19,t_user_room_list!$C:$C,TOTAL_MN!H$3) -> 5 | I19: =COUNTIFS(t_user_room_list!$E:$E,TOTAL_MN!$B19,t_user_room_list!$C:$C,TOTAL_MN!I$3) -> 6 | J19: =COUNTIFS(t_user_room_list!$E:$E,TOTAL_MN!$B19,t_user_room_list!$C:$C,TOTAL_MN!J$3) -> 0
A20: Нийт | C20: =SUM(C4:C19) -> 449 | D20: =SUM(D4:D19) -> 76 | E20: =SUM(E4:E19) -> 75 | F20: =SUM(F4:F19) -> 95 | G20: =SUM(G4:G19) -> 105 | H20: =SUM(H4:H19) -> 50 | I20: =SUM(I4:I19) -> 48 | J20: =SUM(J4:J19) -> 0
A21: Кабинет(20-25 сурагч) | C21: =SUM(D21:I21) -> 22 | D21: 3 | E21: 4 | F21: 5 | G21: 5 | H21: 3 | I21: 2
C27: Оюуны-Ирээдүй Цогцолбор сургууль(Дархан)

Sheet CLASS_LIST
A1: 107 | C1: Солонгос хэлний Улсын XIII олимпиад
A2: 303 | D2: 4 | E2: 7 | F2: 8 | G2: 5 | H2: 6 | I2: 17
C3: КАБИНЕТ : | F3: =VALUE(A1) -> 107 | G3: =IFERROR(VLOOKUP(A1,room!$B:$D,2,FALSE),"") -> Н.Анударь | I3: =IFERROR(VLOOKUP(A1,room!$B:$D,3,FALSE),"") -> 유학 중등부 | J3: 등위 | K3: 총점 | L3: 듣기 | M3: 어휘/문법 | N3: 읽기
C4: № | D4: КОД | E4: ОВОГ | F4: НЭР | G4: СУРГУУЛЬ | H4: АНГИ | I4: ТЭМДЭГ | K4: 100 | L4: 25 | M4: 50 | N4: 25
C5: 1 | D5: =IFERROR(VLOOKUP($A$1&"-"&$C5,t_user_room_list!$A:$I,CLASS_LIST!D$2,FALSE),"") -> KO1300484 | E5: =IFERROR(VLOOKUP($A$1&"-"&$C5,t_user_room_list!$A:$I,CLASS_LIST!E$2,FALSE),"") -> Нармандах | F5: =IFERROR(VLOOKUP($A$1&"-"&$C5,t_user_room_list!$A:$I,CLASS_LIST!F$2,FALSE),"") -> Мөнгөнжигүүр | G5: =IFERROR(VLOOKUP($A$1&"-"&$C5,t_user_room_list!$A:$I,CLASS_LIST!G$2,FALSE),"") -> Монгени Цогцолбор сургууль | H5: =IFERROR(VLOOKUP($A$1&"-"&$C5,t_user_room_list!$A:$I,CLASS_LIST!H$2,FALSE),"") -> 6 | I5: =IFERROR(VLOOKUP($A$1&"-"&$C5,t_user_room_list!$A:$I,CLASS_LIST!I$2,FALSE),"")
C6: 2 | D6: =IFERROR(VLOOKUP($A$1&"-"&$C6,t_user_room_list!$A:$I,CLASS_LIST!D$2,FALSE),"") -> KO1300341 | E6: =IFERROR(VLOOKUP($A$1&"-"&$C6,t_user_room_list!$A:$I,CLASS_LIST!E$2,FALSE),"") -> Отгонбаатар | F6: =IFERROR(VLOOKUP($A$1&"-"&$C6,t_user_room_list!$A:$I,CLASS_LIST!F$2,FALSE),"") -> Мөнгөншагай | G6: =IFERROR(VLOOKUP($A$1&"-"&$C6,t_user_room_list!$A:$I,CLASS_LIST!G$2,FALSE),"") -> 18-р сургууль | H6: =IFERROR(VLOOKUP($A$1&"-"&$C6,t_user_room_list!$A:$I,CLASS_LIST!H$2,FALSE),"") -> 6 | I6: =IFERROR(VLOOKUP($A$1&"-"&$C6,t_user_room_list!$A:$I,CLASS_LIST!I$2,FALSE),"")
C7: 3 | D7: =IFERROR(VLOOKUP($A$1&"-"&$C7,t_user_room_list!$A:$I,CLASS_LIST!D$2,FALSE),"") -> KO1300139 | E7: =IFERROR(VLOOKUP($A$1&"-"&$C7,t_user_room_list!$A:$I,CLASS_LIST!E$2,FALSE),"") -> ЦОЛМОНБАЯР | F7: =IFERROR(VLOOKUP($A$1&"-"&$C7,t_user_room_list!$A:$I,CLASS_LIST!F$2,FALSE),"") -> НАИДИН | G7: =IFERROR(VLOOKUP($A$1&"-"&$C7,t_user_room_list!$A:$I,CLASS_LIST!G$2,FALSE),"") -> НЕБ Улаанбаатар сургууль | H7: =IFERROR(VLOOKUP($A$1&"-"&$C7,t_user_room_list!$A:$I,CLASS_LIST!H$2,FALSE),"") -> 7 | I7: =IFERROR(VLOOKUP($A$1&"-"&$C7,t_user_room_list!$A:$I,CLASS_LIST!I$2,FALSE),"")
C8: 4 | D8: =IFERROR(VLOOKUP($A$1&"-"&$C8,t_user_room_list!$A:$I,CLASS_LIST!D$2,FALSE),"") -> KO1300113 | E8: =IFERROR(VLOOKUP($A$1&"-"&$C8,t_user_room_list!$A:$I,CLASS_LIST!E$2,FALSE),"") -> Отгонжаргал | F8: =IFERROR(VLOOKUP($A$1&"-"&$C8,t_user_room_list!$A:$I,CLASS_LIST!F$2,FALSE),"") -> Намуун | G8: =IFERROR(VLOOKUP($A$1&"-"&$C8,t_user_room_list!$A:$I,CLASS_LIST!G$2,FALSE),"") -> Хүрээ тулга | H8: =IFERROR(VLOOKUP($A$1&"-"&$C8,t_user_room_list!$A:$I,CLASS_LIST!H$2,FALSE),"") -> 7 | I8: =IFERROR(VLOOKUP($A$1&"-"&$C8,t_user_room_list!$A:$I,CLASS_LIST!I$2,FALSE),"")
C9: 5 | D9: =IFERROR(VLOOKUP($A$1&"-"&$C9,t_user_room_list!$A:$I,CLASS_LIST!D$2,FALSE),"") -> KO1300105 | E9: =IFERROR(VLOOKUP($A$1&"-"&$C9,t_user_room_list!$A:$I,CLASS_LIST!E$2,FALSE),"") -> Баярсайхан | F9: =IFERROR(VLOOKUP($A$1&"-"&$C9,t_user_room_list!$A:$I,CLASS_LIST!F$2,FALSE),"") -> Нандин-Эрдэнэ | G9: =IFERROR(VLOOKUP($A$1&"-"&$C9,t_user_room_list!$A:$I,CLASS_LIST!G$2,FALSE),"") -> 23-р сургууль | H9: =IFERROR(VLOOKUP($A$1&"-"&$C9,t_user_room_list!$A:$I,CLASS_LIST!H$2,FALSE),"") -> 7 | I9: =IFERROR(VLOOKUP($A$1&"-"&$C9,t_user_room_list!$A:$I,CLASS_LIST!I$2,FALSE),"")
C10: 6 | D10: =IFERROR(VLOOKUP($A$1&"-"&$C10,t_user_room_list!$A:$I,CLASS_LIST!D$2,FALSE),"") -> KO1300386 | E10: =IFERROR(VLOOKUP($A$1&"-"&$C10,t_user_room_list!$A:$I,CLASS_LIST!E$2,FALSE),"") -> Зоригтбаатар | F10: =IFERROR(VLOOKUP($A$1&"-"&$C10,t_user_room_list!$A:$I,CLASS_LIST!F$2,FALSE),"") -> НандинЭрдэнэ | G10: =IFERROR(VLOOKUP($A$1&"-"&$C10,t_user_room_list!$A:$I,CLASS_LIST!G$2,FALSE),"") -> Гэрэлт Ирээдүй бүрэн дунд сургууль | H10: =IFERROR(VLOOKUP($A$1&"-"&$C10,t_user_room_list!$A:$I,CLASS_LIST!H$2,FALSE),"") -> 5 | I10: =IFERROR(VLOOKUP($A$1&"-"&$C10,t_user_room_list!$A:$I,CLASS_LIST!I$2,FALSE),"")
C11: 7 | D11: =IFERROR(VLOOKUP($A$1&"-"&$C11,t_user_room_list!$A:$I,CLASS_LIST!D$2,FALSE),"") -> KO1300427 | E11: =IFERROR(VLOOKUP($A$1&"-"&$C11,t_user_room_list!$A:$I,CLASS_LIST!E$2,FALSE),"") -> Наранбаатар | F11: =IFERROR(VLOOKUP($A$1&"-"&$C11,t_user_room_list!$A:$I,CLASS_LIST!F$2,FALSE),"") -> Номингоо | G11: =IFERROR(VLOOKUP($A$1&"-"&$C11,t_user_room_list!$A:$I,CLASS_LIST!G$2,FALSE),"") -> 18-р сургууль | H11: =IFERROR(VLOOKUP($A$1&"-"&$C11,t_user_room_list!$A:$I,CLASS_LIST!H$2,FALSE),"") -> 7 | I11: =IFERROR(VLOOKUP($A$1&"-"&$C11,t_user_room_list!$A:$I,CLASS_LIST!I$2,FALSE),"")
C12: 8 | D12: =IFERROR(VLOOKUP($A$1&"-"&$C12,t_user_room_list!$A:$I,CLASS_LIST!D$2,FALSE),"") -> KO1300117 | E12: =IFERROR(VLOOKUP($A$1&"-"&$C12,t_user_room_list!$A:$I,CLASS_LIST!E$2,FALSE),"") -> Сүх-Очир | F12: =IFERROR(VLOOKUP($A$1&"-"&$C12,t_user_room_list!$A:$I,CLASS_LIST!F$2,FALSE),"") -> Сансар | G12: =IFERROR(VLOOKUP($A$1&"-"&$C12,t_user_room_list!$A:$I,CLASS_LIST!G$2,FALSE),"") -> 18-р сургууль | H12: =IFERROR(VLOOKUP($A$1&"-"&$C12,t_user_room_list!$A:$I,CLASS_LIST!H$2,FALSE),"") -> 5 | I12: =IFERROR(VLOOKUP($A$1&"-"&$C12,t_user_room_list!$A:$I,CLASS_LIST!I$2,FALSE),"")
C13: 9 | D13: =IFERROR(VLOOKUP($A$1&"-"&$C13,t_user_room_list!$A:$I,CLASS_LIST!D$2,FALSE),"") -> KO1300425 | E13: =IFERROR(VLOOKUP($A$1&"-"&$C13,t_user_room_list!$A:$I,CLASS_LIST!E$2,FALSE),"") -> Сүх-Очир | F13: =IFERROR(VLOOKUP($A$1&"-"&$C13,t_user_room_list!$A:$I,CLASS_LIST!F$2,FALSE),"") -> Санчир | G13: =IFERROR(VLOOKUP($A$1&"-"&$C13,t_user_room_list!$A:$I,CLASS_LIST!G$2,FALSE),"") -> 18-р сургууль | H13: =IFERROR(VLOOKUP($A$1&"-"&$C13,t_user_room_list!$A:$I,CLASS_LIST!H$2,FALSE),"") -> 7 | I13: =IFERROR(VLOOKUP($A$1&"-"&$C13,t_user_room_list!$A:$I,CLASS_LIST!I$2,FALSE),"")
C14: 10 | D14: =IFERROR(VLOOKUP($A$1&"-"&$C14,t_user_room_list!$A:$I,CLASS_LIST!D$2,FALSE),"") -> KO1300358 | E14: =IFERROR(VLOOKUP($A$1&"-"&$C14,t_user_room_list!$A:$I,CLASS_LIST!E$2,FALSE),"") -> Сонинбаатар | F14: =IFERROR(VLOOKUP($A$1&"-"&$C14,t_user_room_list!$A:$I,CLASS_LIST!F$2,FALSE),"") -> Санчирмаа | G14: =IFERROR(VLOOKUP($A$1&"-"&$C14,t_user_room_list!$A:$I,CLASS_LIST!G$2,FALSE),"") -> 18-р сургууль | H14: =IFERROR(VLOOKUP($A$1&"-"&$C14,t_user_room_list!$A:$I,CLASS_LIST!H$2,FALSE),"") -> 4 | I14: =IFERROR(VLOOKUP($A$1&"-"&$C14,t_user_room_list!$A:$I,CLASS_LIST!I$2,FALSE),"")
