Workbook

Sheet 11G анги
B2: Students: | D2: Total | E2: Percent | F2: Grade | G2: Asuult1 | H2: Asuult2 | I2: Asuult3 | J2: Asuult4 | K2: Asuult5 | L2: Asuult6 | M2: Asuult7 | N2: Asuult8 | O2: Asuult9 | P2: Asuult10 | Q2: Asuult11 | R2: Asuult12 | S2: Asuult13 | T2: Asuult14 | U2: Asuult15 | V2: Asuult16 | W2: Asuult17 | X2: Asuult18
B3: Answer Key | D3: 18 | G3: B | H3: C | I3: C | J3: A | K3: C | L3: A | M3: B | N3: A | O3: D | P3: D | Q3: D | R3: D | S3: A | T3: B | U3: D | V3: B | W3: B | X3: A
A4: =MID(B4,12,7) -> S001543 | B4: Газар зүй S001543 11-б Мөнхболд Булгансор Эм | C4: Булгансор | D4: 14 | E4: 77.777778 | F4: VI | G4: B | H4: C | I4: C | J4: C | K4: C | L4: B | M4: B | N4: A | O4: D | P4: D | Q4: D | R4: D | T4: D | U4: D | V4: B | W4: B | X4: A
A5: =MID(B5,12,7) -> S001549 | B5: Газар зүй S001549 11-б Хатанбаатар Одгэрэл Эм | C5: Одгэрэл | D5: 16 | E5: 88.888889 | F5: VII | G5: B | H5: C | I5: C | J5: C | K5: C | L5: B | M5: B | N5: A | O5: D | P5: D | Q5: D | R5: D | S5: A | T5: B | U5: D | V5: B | W5: B | X5: A
A6: =MID(B6,12,7) -> S006248 | B6: Газар зүй S006248 11-б Гэрэл Дөлгөөн Эр | C6: Дөлгөөн | D6: 14 | E6: 77.777778 | F6: VI | G6: B | H6: C | I6: B | J6: B | K6: C | L6: B | M6: B | N6: A | O6: D | P6: D | Q6: D | R6: D | S6: A | T6: B | U6: D | V6: C | W6: B | X6: A
A7: =MID(B7,12,7) -> S001581 | B7: Газар зүй S001581 11-б Бат-Эрдэнэ Болор-Эрдэнэ Эм | C7: Болор-Эрдэнэ | D7: 11 | E7: 61.111111 | F7: V | G7: D | H7: D | I7: B | J7: B | K7: C | L7: B | M7: B | N7: D | O7: D | P7: D | Q7: D | R7: D | S7: A | T7: B | U7: A | V7: B | W7: B | X7: A
A8: =MID(B8,12,7) -> S001588 | B8: Газар зүй S001588 11-б Мөнхбаяр Мишээл Эм | C8: Мишээл | D8: 8 | E8: 44.444444 | F8: III | G8: D | H8: D | I8: B | J8: B | K8: C | L8: B | M8: A | N8: D | O8: D | P8: D | Q8: D | R8: D | S8: A | T8: B | U8: A | V8: B | W8: A | X8: (B,D)
A9: =MID(B9,12,7) -> S001544 | B9: Газар зүй S001544 11-б Ариунбаатар Анужин Эм | C9: Анужин | D9: 15 | E9: 83.333333 | F9: VII | G9: B | H9: C | I9: C | J9: A | K9: C | L9: A | M9: A | O9: D | P9: D | Q9: D | R9: D | S9: B | T9: B | U9: D | V9: B | W9: B | X9: A
A10: =MID(B10,12,7) -> S001567 | B10: Газар зүй S001567 11-б Түвшинбаатар Энэрэл Эм | C10: Энэрэл | D10: 10 | E10: 55.555556 | F10: IV | G10: B | H10: C | I10: B | J10: A | K10: B | L10: A | M10: B | N10: A | O10: B | P10: B | Q10: D | R10: D | S10: C | T10: B | U10: C | V10: B | X10: B
A11: =MID(B11,12,7) -> S001552 | B11: Газар зүй S001552 11-б Болд Хулан Эм | C11: Хулан | D11: 8 | E11: 44.444444 | F11: III | G11: D | H11: D | I11: B | J11: B | K11: C | L11: A | M11: A | N11: C | O11: B | Q11: D | R11: D | S11: A | T11: B | V11: B | X11: A
A12: =MID(B12,12,7) -> S001578 | B12: Газар зүй S001578 11-б Зоригтбаатар Урангоо Эм | C12: Урангоо | D12: 12 | E12: 66.666667 | F12: V | G12: D | H12: C | I12: B | J12: A | K12: C | L12: A | M12: A | N12: A | O12: D | P12: D | Q12: D | R12: D | S12: C | T12: B | U12: D | V12: A | X12: A
A13: =MID(B13,12,7) -> S001538 | B13: Газар зүй S001538 11-б Одмандах Уянга Эм | C13: Уянга | D13: 8 | E13: 44.444444 | F13: III | G13: B | H13: C | I13: C | J13: B | K13: A | L13: A | M13: A | N13: A | O13: B | P13: D | Q13: C | R13: A | S13: B | T13: A | U13: D | V13: C | W13: B | X13: C
A14: =MID(B14,12,7) -> S003160 | B14: Газар зүй S003160 11-б Бямбадорж Оюун-Эрдэнэ Эм | C14: Оюун-Эрдэнэ | D14: 13 | E14: 72.222222 | F14: VI | G14: D | H14: C | I14: C | J14: A | K14: C | L14: A | M14: A | N14: B | O14: D | P14: D | Q14: D | R14: D | S14: D | T14: B | U14: D | V14: B | W14: B | X14: B
A15: =MID(B15,12,7) -> S001558 | B15: Газар зүй S001558 11-б Шарав Билгүүн Эр | C15: Билгүүн | D15: 9 | E15: 50 | F15: IV | G15: D | H15: C | I15: B | J15: A | K15: B | L15: A | M15: C | N15: B | O15: A | P15: D | Q15: D | R15: D | S15: D | T15: B | U15: A | V15: B | W15: C | X15: A
A16: =MID(B16,12,7) -> S001546 | B16: Газар зүй S001546 11-б Адъяа Түвдэндорж Эр | C16: Түвдэндорж | D16: 11 | E16: 61.111111 | F16: V | G16: B | H16: C | I16: A | J16: A | K16: C | L16: A | M16: A | N16: B | O16: D | P16: D | Q16: D | R16: B | S16: D | T16: B | U16: D | V16: C | W16: B | X16: D
A17: =MID(B17,12,7) -> S002884 | B17: Газар зүй S002884 11-б Өнөрцэцэг Буяндэлгэр Эм | C17: Буяндэлгэр | D17: 10 | E17: 55.555556 | F17: IV | G17: D | H17: C | I17: B | J17: A | K17: B | L17: A | M17: C | N17: B | O17: A | P17: D | Q17: D | R17: D | S17: D | T17: B | U17: A | V17: B | W17: B | X17: A
A18: =MID(B18,12,7) -> S001579 | B18: Газар зүй S001579 11-б Батбаатар Ганзориг Эр | C18: Ганзориг | D18: 14 | E18: 77.777778 | F18: VI | G18: B | H18: C | I18: B | J18: A | K18: C | L18: A | M18: B | N18: A | O18: D | P18: D | Q18: D | R18: D | S18: D | T18: B | U18: A | V18: C | W18: B | X18: A
A19: =MID(B19,12,7) -> S006331 | B19: Газар зүй S006331 11-б Батцэнгэл Энх-Эрдэнэ Эр | C19: Энх-Эрдэнэ | D19: 15 | E19: 83.333333 | F19: VII | G19: B | H19: C | I19: B | J19: A | K19: C | L19: A | M19: A | N19: A | O19: D | P19: D | Q19: D | R19: D | S19: C | T19: B | U19: D | V19: B | W19: B | X19: A
A20: =MID(B20,12,7) -> S001575 | B20: Газар зүй S001575 11-б Доржхүү Тамир Эм | C20: Тамир | D20: 12 | E20: 66.666667 | F20: V | G20: B | H20: C | I20: B | J20: B | K20: A | L20: A | M20: A | N20: A | O20: D | P20: D | Q20: D | R20: D | S20: D | T20: B | U20: A | V20: B | W20: B | X20: A
A21: =MID(B21,12,7) -> S001577 | B21: Газар зүй S001577 11-б Наранбаатар Нанзадсүрэн Эм | C21: Нанзадсүрэн | D21: 16 | E21: 88.888889 | F21: VII | G21: B | H21: C | I21: C | J21: A | K21: C | L21: A | M21: A | N21: A | O21: D | P21: D | Q21: D | R21: D | S21: C | T21: B | U21: D | V21: B | W21: B | X21: A
A22: =MID(B22,12,7) -> S005076 | B22: Газар зүй S005076 11-б Хөхийсүрэн Ариунзаяа Эм | C22: Ариунзаяа | D22: 10 | E22: 55.555556 | F22: IV | G22: B | H22: C | I22: D | J22: B | K22: B | L22: A | M22: A | N22: B | O22: C | P22: D | Q22: D | R22: D | S22: C | T22: B | U22: D | V22: B | W22: B | X22: B
A23: =MID(B23,12,7) -> S001684 | B23: Газар зүй S001684 11-г Мөнхтогоо Алтанбагана Эр | C23: Алтанбагана | D23: 17 | E23: 94.444444 | F23: VIII | G23: B | H23: C | I23: C | J23: A | K23: C | L23: A | M23: A | N23: A | O23: D | P23: D | Q23: D | R23: D | S23: A | T23: B | U23: D | V23: B | W23: B | X23: A
A24: =MID(B24,12,7) -> S001674 | B24: Газар зүй S001674 11-г Энх-Амгалан Солонго Эм | C24: Солонго | D24: 13 | E24: 72.222222 | F24: VI | G24: D | H24: C | I24: C | J24: A | K24: C | L24: B | M24: A | N24: A | O24: D | P24: D | Q24: D | R24: A | S24: B | T24: B | U24: D | V24: B | W24: B | X24: A
... A32: =MID(B32,12,7) -> S001683 | B32: Газар зүй S001683 11-г Батмөнх Жавхлан Эм | C32: Жавхлан | D32: 17 | E32: 94.444444 | F32: VIII | G32: B | H32: C | I32: C | J32: A | K32: B | L32: A | M32: B | N32: A | O32: D | P32: D | Q32: D | R32: D | S32: A | T32: B | U32: D | V32: B | W32: B | X32: A
A33: =MID(B33,12,7) -> S003853 | B33: Газар зүй S003853 11-г Ган-Эрдэнэ Эрмүүн Эр | D33: 17 | E33: 94.444444 | F33: VIII | G33: B | H33: C | I33: C | J33: A | K33: B | L33: A | M33: B | N33: A | O33: D | P33: D | Q33: D | R33: D | S33: A | T33: B | U33: D | V33: B | W33: B | X33: A
A34: =MID(B34,12,7) -> S005109 | B34: Газар зүй S005109 11-г Батболд Сувданчимэг Эм | D34: 17 | E34: 94.444444 | F34: VIII | G34: B | H34: C | I34: C | J34: A | K34: B | L34: A | M34: B | N34: A | O34: D | P34: D | Q34: D | R34: D | S34: A | T34: B | U34: D | V34: B | W34: B | X34: A
A35: =MID(B35,12,7) -> S004671 | B35: Газар зүй S004671 11-г Баасандорж Хүслэн Эм | D35: 16 | E35: 88.888889 | F35: VII | G35: B | H35: C | I35: C | J35: B | K35: C | L35: A | M35: B | N35: A | O35: D | P35: D | Q35: D | R35: D | S35: B | T35: B | U35: D | V35: B | W35: B | X35: A
A36: =MID(B36,12,7) -> S001665 | B36: Газар зүй S001665 11-г Мөнхбат Батбаян Эр | D36: 11 | E36: 61.111111 | F36: V | G36: B | H36: C | I36: B | J36: C | K36: A | L36: A | M36: C | N36: B | O36: D | P36: D | Q36: C | R36: C | S36: A | T36: B | U36: D | V36: B | W36: B | X36: A
A37: =MID(B37,12,7) -> S001666 | B37: Газар зүй S001666 11-г Равдандорж Анужин Эм | D37: 14 | E37: 77.777778 | F37: VI | G37: B | H37: C | I37: C | J37: A | K37: C | L37: A | M37: A | N37: A | O37: D | P37: D | Q37: D | R37: B | S37: A | T37: A | U37: D | V37: B | W37: B | X37: B
A38: =MID(B38,10,7) -> S002898 | B38: Биологи S002898 11-г Ганзул Мөнх-Оргил Эр | D38: 7 | E38: 38.888889 | F38: II | G38: D | H38: C | I38: C | J38: B | K38: B | L38: C | M38: A | N38: B | O38: D | P38: D | Q38: D | R38: C | S38: D | T38: C | U38: A | V38: B | W38: B | X38: D
A39: =MID(B39,12,7) -> S001670 | B39: Газар зүй S001670 11-г Мөнхбат Энхгэрэл Эм | D39: 15 | E39: 83.333333 | F39: VII | G39: B | H39: C | I39: C | J39: A | K39: B | L39: B | M39: A | N39: A | O39: D | P39: D | Q39: D | R39: D | S39: A | T39: B | U39: D | V39: B | W39: B | X39: A
A40: =MID(B40,12,7) -> S001661 | B40: Газар зүй S001661 11-г Пүрэвдорж Галбадрах Эр | D40: 6 | E40: 33.333333 | F40: II | G40: A | H40: B | I40: D | J40: C | K40: B | L40: D | M40: D | N40: A | O40: D | P40: D | Q40: D | R40: A | S40: C | T40: B | U40: C | V40: B | W40: C | X40: B
A41: =MID(B41,12,7) -> S003060 | B41: Газар зүй S003060 11-г Жинху Сонми Эм | D41: 16 | E41: 88.888889 | F41: VII | G41: B | H41: C | I41: C | J41: A | K41: B | L41: A | M41: A | N41: A | O41: D | P41: D | Q41: D | R41: D | S41: A | T41: B | U41: D | V41: B | W41: B | X41: A
A42: =MID(B42,12,7) -> S002901 | B42: Газар зүй S002901 11-г Төмөртулга Тэмүүжин Эр | D42: 15 | E42: 83.333333 | F42: VII | G42: B | H42: C | I42: C | J42: A | K42: B | L42: A | M42: A | N42: A | O42: D | P42: D | Q42: D | R42: D | S42: A | T42: B | U42: A | V42: B | W42: B | X42: A
A43: =MID(B43,12,7) -> S004672 | B43: Газар зүй S004672 11-г Энхтайван Санчир Эр | D43: 16 | E43: 88.888889 | F43: VII | G43: B | H43: C | I43: C | J43: A | K43: C | L43: A | M43: A | N43: A | O43: D | P43: D | Q43: D | R43: D | S43: A | T43: B | V43: B | W43: B | X43: A
A44: =MID(B44,12,7) -> S001680 | B44: Газар зүй S001680 11-г Баярбилэг Энхжин Эм | D44: 9 | E44: 50 | F44: IV | G44: B | H44: B | I44: C | J44: C | K44: B | L44: B | M44: A | N44: A | O44: D | P44: D | Q44: D | R44: B | S44: C | T44: B | U44: D | V44: B | W44: A | X44: D
A45: =MID(B45,12,7) -> S001526 | B45: Газар зүй S001526 11-а Шааравмөнх Цэдэнсодном Эм | D45: 0 | E45: 0 | F45: I
A46: =MID(B46,12,7) -> S001500 | B46: Газар зүй S001500 11-а Мягмарсүрэн Цэнгүнбилэг Эр | D46: 15 | E46: 83.333333 | F46: VII | G46: B | H46: C | I46: C | J46: A | K46: B | L46: A | M46: A | N46: B | O46: D | P46: D | Q46: D | R46: D | S46: A | T46: B | U46: D | V46: B | W46: B | X46: A
A47: =MID(B47,12,7) -> S005090 | B47: Газар зүй S005090 11-а Болдбаатар Анужин Эм | D47: 15 | E47: 83.333333 | F47: VII | G47: B | H47: C | I47: C | J47: A | K47: C | L47: A | M47: A | N47: B | O47: D | P47: D | Q47: D | R47: D | S47: A | T47: B | U47: A | V47: B | W47: B | X47: A
A48: =MID(B48,12,7) -> S001534 | B48: Газар зүй S001534 11-а Батчойж Очбилэг Эр | D48: 14 | E48: 77.777778 | F48: VI | G48: B | H48: C | I48: C | J48: A | K48: C | L48: B | M48: A | N48: B | O48: D | P48: D | Q48: D | R48: B | S48: A | T48: B | U48: D | V48: B | W48: B | X48: A
...

Sheet DATA
A1: НИЙСЛЭЛИЙН ЕРӨНХИЙ БОЛОВСРОЛЫН ЛАБОРАТОРИ 23 ДУГААР СУРГУУЛИЙН 11-Р АНГИЙН ГАЗАРЗҮЙН ХИЧЭЭЛИЙН ХАГАС ЖИЛИЙН МЭДЛЭГ ЧАДВАРЫН СОРИЛ
E2: 2019-2020 ОНЫ ХИЧЭЭЛИЙН ЖИЛ
E3: 4 | F3: 5 | G3: 6
A4: Код | B4: Анги, Бүлэг | C4: Сурагчийн нэр | D4: Хүйс | E4: Оноо | F4: Үнэлгээ | G4: Үнэлгээний түвшин
A5: S001492 | B5: 11-а | C5: Анударь[Тэнги/1492] | D5: Эм | E5: =IFERROR(VLOOKUP($A5,'11G анги'!$A:$F,E$3,FALSE),"") -> 16 | F5: =IFERROR(VLOOKUP($A5,'11G анги'!$A:$F,F$3,FALSE),"") -> 88.888889 | G5: =IFERROR(VLOOKUP($A5,'11G анги'!$A:$F,G$3,FALSE),"") -> VII
A6: S001483 | B6: 11-а | C6: Анужин[Түвши/1483] | D6: Эм | E6: =IFERROR(VLOOKUP($A6,'11G анги'!$A:$F,E$3,FALSE),"") -> 14 | F6: =IFERROR(VLOOKUP($A6,'11G анги'!$A:$F,F$3,FALSE),"") -> 77.777778 | G6: =IFERROR(VLOOKUP($A6,'11G анги'!$A:$F,G$3,FALSE),"") -> VI
A7: S005090 | B7: 11-а | C7: Анужин[Болдб/5090] | D7: Эм | E7: =IFERROR(VLOOKUP($A7,'11G анги'!$A:$F,E$3,FALSE),"") -> 15 | F7: =IFERROR(VLOOKUP($A7,'11G анги'!$A:$F,F$3,FALSE),"") -> 83.333333 | G7: =IFERROR(VLOOKUP($A7,'11G анги'!$A:$F,G$3,FALSE),"") -> VII
A8: S001499 | B8: 11-а | C8: Анужин[Ганба/1499] | D8: Эм | E8: =IFERROR(VLOOKUP($A8,'11G анги'!$A:$F,E$3,FALSE),"") -> 17 | F8: =IFERROR(VLOOKUP($A8,'11G анги'!$A:$F,F$3,FALSE),"") -> 94.444444 | G8: =IFERROR(VLOOKUP($A8,'11G анги'!$A:$F,G$3,FALSE),"") -> VIII
A9: S001491 | B9: 11-а | C9: Байгал[Борги/1491] | D9: Эр | E9: =IFERROR(VLOOKUP($A9,'11G анги'!$A:$F,E$3,FALSE),"") -> 15 | F9: =IFERROR(VLOOKUP($A9,'11G анги'!$A:$F,F$3,FALSE),"") -> 83.333333 | G9: =IFERROR(VLOOKUP($A9,'11G анги'!$A:$F,G$3,FALSE),"") -> VII
A10: S005091 | B10: 11-а | C10: Байгаль[Цэдэв/5091] | D10: Эм | E10: =IFERROR(VLOOKUP($A10,'11G анги'!$A:$F,E$3,FALSE),"") -> 14 | F10: =IFERROR(VLOOKUP($A10,'11G анги'!$A:$F,F$3,FALSE),"") -> 77.777778 | G10: =IFERROR(VLOOKUP($A10,'11G анги'!$A:$F,G$3,FALSE),"") -> VI
A11: S001510 | B11: 11-а | C11: Батболд[Торда/1510] | D11: Эр | E11: =IFERROR(VLOOKUP($A11,'11G анги'!$A:$F,E$3,FALSE),"") -> 16 | F11: =IFERROR(VLOOKUP($A11,'11G анги'!$A:$F,F$3,FALSE),"") -> 88.888889 | G11: =IFERROR(VLOOKUP($A11,'11G анги'!$A:$F,G$3,FALSE),"") -> VII
A12: S005089 | B12: 11-а | C12: Батмөнх[Бүдээ/5089] | D12: Эр | E12: =IFERROR(VLOOKUP($A12,'11G анги'!$A:$F,E$3,FALSE),"") -> 14 | F12: =IFERROR(VLOOKUP($A12,'11G анги'!$A:$F,F$3,FALSE),"") -> 77.777778 | G12: =IFERROR(VLOOKUP($A12,'11G анги'!$A:$F,G$3,FALSE),"") -> VI
A13: S001482 | B13: 11-а | C13: Бат-Оргил[Янтай/1482] | D13: Эр | E13: =IFERROR(VLOOKUP($A13,'11G анги'!$A:$F,E$3,FALSE),"") -> 14 | F13: =IFERROR(VLOOKUP($A13,'11G анги'!$A:$F,F$3,FALSE),"") -> 77.777778 | G13: =IFERROR(VLOOKUP($A13,'11G анги'!$A:$F,G$3,FALSE),"") -> VI
A14: S005088 | B14: 11-а | C14: Бодоръяа[Түвши/5088] | D14: Эм | E14: =IFERROR(VLOOKUP($A14,'11G анги'!$A:$F,E$3,FALSE),"") -> 14 | F14: =IFERROR(VLOOKUP($A14,'11G анги'!$A:$F,F$3,FALSE),"") -> 77.777778 | G14: =IFERROR(VLOOKUP($A14,'11G анги'!$A:$F,G$3,FALSE),"") -> VI
A15: S005223 | B15: 11-а | C15: Бүжин[Намха/5223] | D15: Эм | E15: =IFERROR(VLOOKUP($A15,'11G анги'!$A:$F,E$3,FALSE),"") -> 14 | F15: =IFERROR(VLOOKUP($A15,'11G анги'!$A:$F,F$3,FALSE),"") -> 77.777778 | G15: =IFERROR(VLOOKUP($A15,'11G анги'!$A:$F,G$3,FALSE),"") -> VI
A16: S001498 | B16: 11-а | C16: Гүнбилэг[Түмэн/1498] | D16: Эм | E16: =IFERROR(VLOOKUP($A16,'11G анги'!$A:$F,E$3,FALSE),"") -> 14 | F16: =IFERROR(VLOOKUP($A16,'11G анги'!$A:$F,F$3,FALSE),"") -> 77.777778 | G16: =IFERROR(VLOOKUP($A16,'11G анги'!$A:$F,G$3,FALSE),"") -> VI
... A163: S005109 | B163: 11-г | C163: Сувданчимэг[Батбо/5109] | D163: Эм | E163: =IFERROR(VLOOKUP($A163,'11G анги'!$A:$F,E$3,FALSE),"") -> 17 | F163: =IFERROR(VLOOKUP($A163,'11G анги'!$A:$F,F$3,FALSE),"") -> 94.444444 | G163: =IFERROR(VLOOKUP($A163,'11G анги'!$A:$F,G$3,FALSE),"") -> VIII
A164: s006725 | B164: 11-г | C164: Сүмбом[Юухио/6725] | E164: =IFERROR(VLOOKUP($A164,'11G анги'!$A:$F,E$3,FALSE),"") | F164: =IFERROR(VLOOKUP($A164,'11G анги'!$A:$F,F$3,FALSE),"") | G164: =IFERROR(VLOOKUP($A164,'11G анги'!$A:$F,G$3,FALSE),"")
A165: S006250 | B165: 11-г | C165: Тавилан[Батдо/6250] | D165: Эр | E165: =IFERROR(VLOOKUP($A165,'11G анги'!$A:$F,E$3,FALSE),"") -> 15 | F165: =IFERROR(VLOOKUP($A165,'11G анги'!$A:$F,F$3,FALSE),"") -> 83.333333 | G165: =IFERROR(VLOOKUP($A165,'11G анги'!$A:$F,G$3,FALSE),"") -> VII
A166: S001672 | B166: 11-г | C166: Төрболд[Хүрэл/1672] | D166: Эр | E166: =IFERROR(VLOOKUP($A166,'11G анги'!$A:$F,E$3,FALSE),"") | F166: =IFERROR(VLOOKUP($A166,'11G анги'!$A:$F,F$3,FALSE),"") | G166: =IFERROR(VLOOKUP($A166,'11G анги'!$A:$F,G$3,FALSE),"")
A167: S002901 | B167: 11-г | C167: Тэмүүжин[Төмөр/2901] | D167: Эр | E167: =IFERROR(VLOOKUP($A167,'11G анги'!$A:$F,E$3,FALSE),"") -> 15 | F167: =IFERROR(VLOOKUP($A167,'11G анги'!$A:$F,F$3,FALSE),"") -> 83.333333 | G167: =IFERROR(VLOOKUP($A167,'11G анги'!$A:$F,G$3,FALSE),"") -> VII
A168: S001673 | B168: 11-г | C168: Тэмүүжин[Чимэг/1673] | D168: Эр | E168: =IFERROR(VLOOKUP($A168,'11G анги'!$A:$F,E$3,FALSE),"") -> 16 | F168: =IFERROR(VLOOKUP($A168,'11G анги'!$A:$F,F$3,FALSE),"") -> 88.888889 | G168: =IFERROR(VLOOKUP($A168,'11G анги'!$A:$F,G$3,FALSE),"") -> VII
A169: S001647 | B169: 11-г | C169: Тэмүүжин[Ганту/1647] | D169: Эр | E169: =IFERROR(VLOOKUP($A169,'11G анги'!$A:$F,E$3,FALSE),"") -> 11 | F169: =IFERROR(VLOOKUP($A169,'11G анги'!$A:$F,F$3,FALSE),"") -> 61.111111 | G169: =IFERROR(VLOOKUP($A169,'11G анги'!$A:$F,G$3,FALSE),"") -> V
A170: S005762 | B170: 11-г | C170: Ууганбаяр[Бямба/5762] | D170: Эр | E170: =IFERROR(VLOOKUP($A170,'11G анги'!$A:$F,E$3,FALSE),"") -> 15 | F170: =IFERROR(VLOOKUP($A170,'11G анги'!$A:$F,F$3,FALSE),"") -> 83.333333 | G170: =IFERROR(VLOOKUP($A170,'11G анги'!$A:$F,G$3,FALSE),"") -> VII
A171: S005108 | B171: 11-г | C171: Үүрийнтуяа[Санса/5108] | D171: Эм | E171: =IFERROR(VLOOKUP($A171,'11G анги'!$A:$F,E$3,FALSE),"") -> 16 | F171: =IFERROR(VLOOKUP($A171,'11G анги'!$A:$F,F$3,FALSE),"") -> 88.888889 | G171: =IFERROR(VLOOKUP($A171,'11G анги'!$A:$F,G$3,FALSE),"") -> VII
A172: S002899 | B172: 11-г | C172: Учрал[Пүрэв/2899] | D172: Эм | E172: =IFERROR(VLOOKUP($A172,'11G анги'!$A:$F,E$3,FALSE),"") -> 16 | F172: =IFERROR(VLOOKUP($A172,'11G анги'!$A:$F,F$3,FALSE),"") -> 88.888889 | G172: =IFERROR(VLOOKUP($A172,'11G анги'!$A:$F,G$3,FALSE),"") -> VII
A173: S005768 | B173: 11-г | C173: Уянга[Ням/5768] | D173: Эм | E173: =IFERROR(VLOOKUP($A173,'11G анги'!$A:$F,E$3,FALSE),"") -> 14 | F173: =IFERROR(VLOOKUP($A173,'11G анги'!$A:$F,F$3,FALSE),"") -> 77.777778 | G173: =IFERROR(VLOOKUP($A173,'11G анги'!$A:$F,G$3,FALSE),"") -> VI
A174: S003619 | B174: 11-г | C174: Халиун[Басба/3619] | D174: Эм | E174: =IFERROR(VLOOKUP($A174,'11G анги'!$A:$F,E$3,FALSE),"") -> 16 | F174: =IFERROR(VLOOKUP($A174,'11G анги'!$A:$F,F$3,FALSE),"") -> 88.888889 | G174: =IFERROR(VLOOKUP($A174,'11G анги'!$A:$F,G$3,FALSE),"") -> VII
A175: S004671 | B175: 11-г | C175: Хүслэн[Бааса/4671] | D175: Эм | E175: =IFERROR(VLOOKUP($A175,'11G анги'!$A:$F,E$3,FALSE),"") -> 16 | F175: =IFERROR(VLOOKUP($A175,'11G анги'!$A:$F,F$3,FALSE),"") -> 88.888889 | G175: =IFERROR(VLOOKUP($A175,'11G анги'!$A:$F,G$3,FALSE),"") -> VII
A176: S001678 | B176: 11-г | C176: Хүслэн[Батбу/1678] | D176: Эм | E176: =IFERROR(VLOOKUP($A176,'11G анги'!$A:$F,E$3,FALSE),"") -> 15 | F176: =IFERROR(VLOOKUP($A176,'11G анги'!$A:$F,F$3,FALSE),"") -> 83.333333 | G176: =IFERROR(VLOOKUP($A176,'11G анги'!$A:$F,G$3,FALSE),"") -> VII
... A222: S001742 | B222: 11-д | C222: Энх-Хүслэн[Батто/1742] | D222: Эм | E222: =IFERROR(VLOOKUP($A222,'11G анги'!$A:$F,E$3,FALSE),"") | F222: =IFERROR(VLOOKUP($A222,'11G анги'!$A:$F,F$3,FALSE),"") | G222: =IFERROR(VLOOKUP($A222,'11G анги'!$A:$F,G$3,FALSE),"")
A224: VIII | B224: 11-а | C224: =COUNTIFS($G$5:$G$222,A224,$B$5:$B$222,B224) -> 2
A225: VII | B225: 11-а | C225: =COUNTIFS($G$5:$G$222,A225,$B$5:$B$222,B225) -> 19
A226: VI | B226: 11-а | C226: =COUNTIFS($G$5:$G$222,A226,$B$5:$B$222,B226) -> 17
A227: V | B227: 11-а | C227: =COUNTIFS($G$5:$G$222,A227,$B$5:$B$222,B227) -> 3
A228: IV | B228: 11-а | C228: =COUNTIFS($G$5:$G$222,A228,$B$5:$B$222,B228) -> 0
A229: III | B229: 11-а | C229: =COUNTIFS($G$5:$G$222,A229,$B$5:$B$222,B229) -> 0
A230: II | B230: 11-а | C230: =COUNTIFS($G$5:$G$222,A230,$B$5:$B$222,B230) -> 0
A231: I | B231: 11-а | C231: =COUNTIFS($G$5:$G$222,A231,$B$5:$B$222,B231) -> 1
A232: Амжилт | B232: 11-а | C232: =SUM(C224:C227)/SUM(C224:C231) -> 0.97619048
...

Sheet 11а
A1: НИЙСЛЭЛИЙН ЕРӨНХИЙ БОЛОВСРОЛЫН ЛАБОРАТОРИ 23 ДУГААР СУРГУУЛИЙН 11А АНГИЙН ГАЗАРЗҮЙН ХИЧЭЭЛИЙН ХАГАС ЖИЛИЙН МЭДЛЭГ ЧАДВАРЫН СОРИЛ
E2: 2019-2020 ОНЫ ХИЧЭЭЛИЙН ЖИЛ
A3: Код | B3: Анги, бүлэг | C3: Сурагчийн нэр | D3: Хүйс | E3: Авсан оноо | F3: Үнэлгээ | G3: Үнэлгээний түвшин
A4: S001492 | B4: 11-а | C4: Анударь[Тэнги/1492] | D4: Эм | E4: 16 | F4: 88.888889 | G4: VII
A5: S001483 | B5: 11-а | C5: Анужин[Түвши/1483] | D5: Эм | E5: 14 | F5: 77.777778 | G5: VI
A6: S005090 | B6: 11-а | C6: Анужин[Болдб/5090] | D6: Эм | E6: 15 | F6: 83.333333 | G6: VII
A7: S001499 | B7: 11-а | C7: Анужин[Ганба/1499] | D7: Эм | E7: 17 | F7: 94.444444 | G7: VIII
A8: S001491 | B8: 11-а | C8: Байгал[Борги/1491] | D8: Эр | E8: 15 | F8: 83.333333 | G8: VII
A9: S005091 | B9: 11-а | C9: Байгаль[Цэдэв/5091] | D9: Эм | E9: 14 | F9: 77.777778 | G9: VI
A10: S001510 | B10: 11-а | C10: Батболд[Торда/1510] | D10: Эр | E10: 16 | F10: 88.888889 | G10: VII
A11: S005089 | B11: 11-а | C11: Батмөнх[Бүдээ/5089] | D11: Эр | E11: 14 | F11: 77.777778 | G11: VI
A12: S001482 | B12: 11-а | C12: Бат-Оргил[Янтай/1482] | D12: Эр | E12: 14 | F12: 77.777778 | G12: VI
A13: S005088 | B13: 11-а | C13: Бодоръяа[Түвши/5088] | D13: Эм | E13: 14 | F13: 77.777778 | G13: VI
A14: S005223 | B14: 11-а | C14: Бүжин[Намха/5223] | D14: Эм | E14: 14 | F14: 77.777778 | G14: VI
A15: S001498 | B15: 11-а | C15: Гүнбилэг[Түмэн/1498] | D15: Эм | E15: 14 | F15: 77.777778 | G15: VI
... A28: S001488 | B28: 11-а | C28: Номин[Алтан/1488] | D28: Эм | E28: 16 | F28: 88.888889 | G28: VII
A29: S003026 | B29: 11-а | C29: Одбаяр[Энхба/3026] | D29: Эр
A30: S001519 | B30: 11-а | C30: Отгонзаяа[Мөнхб/1519] | D30: Эм | E30: 17 | F30: 94.444444 | G30: VIII
A31: S001534 | B31: 11-а | C31: Очбилэг[Батчо/1534] | D31: Эр | E31: 14 | F31: 77.777778 | G31: VI
A32: S001533 | B32: 11-а | C32: Очирбат[Төвши/1533] | D32: Эр | E32: 15 | F32: 83.333333 | G32: VII
A33: S001531 | B33: 11-а | C33: Санчир[Энхба/1531] | D33: Эр | E33: 14 | F33: 77.777778 | G33: VI
A34: S006346 | B34: 11-а | C34: Төгсбаясгалан[Отгон/6346] | D34: Эм | E34: 13 | F34: 72.222222 | G34: VI
A35: S006263 | B35: 11-а | C35: Тэмүүлэн[Даваа/6263] | D35: Эм
A36: S001480 | B36: 11-а | C36: Үүлэн[Түвши/1480] | D36: Эм | E36: 14 | F36: 77.777778 | G36: VI
A37: S001502 | B37: 11-а | C37: Халиун[Оюунб/1502] | D37: Эм | E37: 15 | F37: 83.333333 | G37: VII
A38: S001528 | B38: 11-а | C38: Халиун[Өлзий/1528] | D38: Эм | E38: 15 | F38: 83.333333 | G38: VII
A39: S005220 | B39: 11-а | C39: Халиунаа[Ганту/5220] | D39: Эм | E39: 13 | F39: 72.222222 | G39: VI
A40: S001487 | B40: 11-а | C40: Хүслэн[Бааса/1487] | D40: Эм | E40: 14 | F40: 77.777778 | G40: VI
A41: S001522 | B41: 11-а | C41: Хүслэн[Гансү/1522] | D41: Эр | E41: 15 | F41: 83.333333 | G41: VII
A42: S001526 | B42: 11-а | C42: Цэдэнсодном[Шаара/1526] | D42: Эм | E42: 0 | F42: 0 | G42: I
A43: S001500 | B43: 11-а | C43: Цэнгүнбилэг[Мягма/1500] | D43: Эр | E43: 15 | F43: 83.333333 | G43: VII
A44: S006245 | B44: 11-а | C44: Чанцалдулам[Идэрб/6245] | D44: Эм | E44: 15 | F44: 83.333333 | G44: VII
A45: S001525 | B45: 11-а | C45: Энхжин[Үйтүм/1525] | D45: Эм | E45: 15 | F45: 83.333333 | G45: VII
A46: S001486 | B46: 11-а | C46: Энхжин[Баянж/1486] | D46: Эм | E46: 11 | F46: 61.111111 | G46: V
A47: S001485 | B47: 11-а | C47: Энхзаяа[Бат-Э/1485] | D47: Эм | E47: 13 | F47: 72.222222 | G47: VI
A49: VIII | B49: 11-а | C49: 2
A50: VII | B50: 11-а | C50: 19
A51: VI | B51: 11-а | C51: 17
A52: V | B52: 11-а | C52: 3
A53: IV | B53: 11-а | C53: 0
...

Sheet 11б
A1: НИЙСЛЭЛИЙН ЕРӨНХИЙ БОЛОВСРОЛЫН ЛАБОРАТОРИ 23 ДУГААР СУРГУУЛИЙН 11Б АНГИЙН ГАЗАРЗҮЙН ХИЧЭЭЛИЙН ХАГАС ЖИЛИЙН МЭДЛЭГ ЧАДВАРЫН СОРИЛ
E2: 2019-2020 ОНЫ ХИЧЭЭЛИЙН ЖИЛ
A3: Код | B3: Анги, бүлэг | C3: Сурагчийн нэр | D3: Хүйс | E3: Авсан оноо | F3: Үнэлгээ | G3: Үнэлгээний түвшин
A4: S001560 | B4: 11-б | C4: Амарбилэг[Шархү/1560] | D4: Эр | E4: 12 | F4: 66.666667 | G4: V
A5: S001544 | B5: 11-б | C5: Анужин[Ариун/1544] | D5: Эм | E5: 15 | F5: 83.333333 | G5: VII
A6: S001541 | B6: 11-б | C6: Ариунболд[Одхүү/1541] | D6: Эр
A7: S005076 | B7: 11-б | C7: Ариунзаяа[Хөхий/5076] | D7: Эм | E7: 10 | F7: 55.555556 | G7: IV
A8: S001559 | B8: 11-б | C8: Баярсайхан[Цэрэн/1559] | D8: Эр | E8: 11 | F8: 61.111111 | G8: V
A9: S001558 | B9: 11-б | C9: Билгүүн[Шарав/1558] | D9: Эр | E9: 9 | F9: 50 | G9: IV
A10: S001581 | B10: 11-б | C10: Болор-Эрдэнэ[Бат-Э/1581] | D10: Эм | E10: 11 | F10: 61.111111 | G10: V
A11: S001543 | B11: 11-б | C11: Булгансор[Мөнхб/1543] | D11: Эм | E11: 14 | F11: 77.777778 | G11: VI
A12: S002884 | B12: 11-б | C12: Буяндэлгэр[Өнөрц/2884] | D12: Эм | E12: 10 | F12: 55.555556 | G12: IV
A13: S001579 | B13: 11-б | C13: Ганзориг[Батба/1579] | D13: Эр | E13: 14 | F13: 77.777778 | G13: VI
A14: S001563 | B14: 11-б | C14: Ган-Эрдэнэ[Ганба/1563] | D14: Эр | E14: 10 | F14: 55.555556 | G14: IV
A15: S001556 | B15: 11-б | C15: Дөлгөөн[Ариун/1556] | D15: Эр | E15: 16 | F15: 88.888889 | G15: VII
A16: S006248 | B16: 11-б | C16: Дөлгөөн[Гэрэл/6248] | D16: Эр | E16: 14 | F16: 77.777778 | G16: VI
A17: S001564 | B17: 11-б | C17: Дөлгөөн[Амарб/1564] | D17: Эм | E17: 13 | F17: 72.222222 | G17: VI
A18: S001555 | B18: 11-б | C18: Мишээл[Төмөр/1555] | D18: Эм | E18: 14 | F18: 77.777778 | G18: VI
... A28: S004629 | B28: 11-б | C28: Тамираа[Доржп/4629] | D28: Эм | E28: 12 | F28: 66.666667 | G28: V
A29: S001554 | B29: 11-б | C29: Тамираа[Мөнхб/1554] | D29: Эм
A30: S006347 | B30: 11-б | C30: Танан[Баярс/6347] | D30: Эм | E30: 15 | F30: 83.333333 | G30: VII
A31: S001546 | B31: 11-б | C31: Түвдэндорж[Адъяа/1546] | D31: Эр | E31: 11 | F31: 61.111111 | G31: V
A32: S001578 | B32: 11-б | C32: Урангоо[Зориг/1578] | D32: Эм | E32: 12 | F32: 66.666667 | G32: V
A33: S001538 | B33: 11-б | C33: Уянга[Одман/1538] | D33: Эм | E33: 8 | F33: 44.444444 | G33: III
A34: S001571 | B34: 11-б | C34: Хишигдэлгэр[Төмөр/1571] | D34: Эм | E34: 12 | F34: 66.666667 | G34: V
A35: S001570 | B35: 11-б | C35: Хонгорзул[Цолмо/1570] | D35: Эм | E35: 11 | F35: 61.111111 | G35: V
A36: S001552 | B36: 11-б | C36: Хулан[Болд/1552] | D36: Эм | E36: 8 | F36: 44.444444 | G36: III
A37: S003223 | B37: 11-б | C37: Хулан[Мөнхц/3223] | D37: Эм | E37: 11 | F37: 61.111111 | G37: V
A38: S001583 | B38: 11-б | C38: Хүслэн[Эрдэн/1583] | D38: Эм | E38: 14 | F38: 77.777778 | G38: VI
A39: S001576 | B39: 11-б | C39: Хүслэн[Сайнб/1576] | D39: Эр | E39: 13 | F39: 72.222222 | G39: VI
A40: S001561 | B40: 11-б | C40: Цэрэнминжин[Ганба/1561] | D40: Эм | E40: 9 | F40: 50 | G40: IV
A41: S004232 | B41: 11-б | C41: Цэцэнбилиг[Бэгзэ/4232] | D41: Эм
A42: S001550 | B42: 11-б | C42: Чингүн[Хатан/1550] | D42: Эр | E42: 16 | F42: 88.888889 | G42: VII
A43: S001568 | B43: 11-б | C43: Энх-Оюу[Ихбая/1568] | D43: Эм | E43: 13 | F43: 72.222222 | G43: VI
A44: S006331 | B44: 11-б | C44: Энх-Эрдэнэ[Батцэ/6331] | D44: Эр | E44: 15 | F44: 83.333333 | G44: VII
A45: S001567 | B45: 11-б | C45: Энэрэл[Түвши/1567] | D45: Эм | E45: 10 | F45: 55.555556 | G45: IV
A46: S001545 | B46: 11-б | C46: Эрхэм[Борги/1545] | D46: Эр | E46: 15 | F46: 83.333333 | G46: VII
A49: VIII | B49: 11-б | C49: 0
A50: VII | B50: 11-б | C50: 8
A51: VI | B51: 11-б | C51: 9
...

Sheet 11в
A1: НИЙСЛЭЛИЙН ЕРӨНХИЙ БОЛОВСРОЛЫН ЛАБОРАТОРИ 23 ДУГААР СУРГУУЛИЙН 11-Р АНГИЙН ГАЗАРЗҮЙН ХИЧЭЭЛИЙН ХАГАС ЖИЛИЙН МЭДЛЭГ ЧАДВАРЫН СОРИЛ
E2: 2019-2020 ОНЫ ХИЧЭЭЛИЙН ЖИЛ
A3: Код | B3: Анги, бүлэг | C3: Сурагчийн нэр | D3: Хүйс | E3: Авсан оноо | F3: Үнэлгээ | G3: Үнэлгээний түвшин
A4: S005670 | B4: 11-в | C4: Алтантулга[Чинба/5670] | D4: Эр | E4: 15 | F4: 83.333333 | G4: VII
A5: S003040 | B5: 11-в | C5: Анар[Ананд/3040] | D5: Эр | E5: 16 | F5: 88.888889 | G5: VII
A6: S001610 | B6: 11-в | C6: Арвинзаяа[Алтан/1610] | D6: Эм | E6: 16 | F6: 88.888889 | G6: VII
A7: S001611 | B7: 11-в | C7: Аригун[Мөнхб/1611] | D7: Эр | E7: 17 | F7: 94.444444 | G7: VIII
A8: S001608 | B8: 11-в | C8: Баатархаан[Буддо/1608] | D8: Эр
A9: S001600 | B9: 11-в | C9: Багабанди[Оргил/1600] | D9: Эр | E9: 17 | F9: 94.444444 | G9: VIII
A10: S001599 | B10: 11-в | C10: Бадам-Аюуш[Бааса/1599] | D10: Эр | E10: 18 | F10: 100 | G10: VIII
A11: S001607 | B11: 11-в | C11: Баттуяа[Батто/1607] | D11: Эм | E11: 12 | F11: 66.666667 | G11: V
A12: S001591 | B12: 11-в | C12: Биндэръяа[Бат-Ө/1591] | D12: Эм | E12: 10 | F12: 55.555556 | G12: IV
A13: S001601 | B13: 11-в | C13: Буяндэлгэр[Мөнгө/1601] | D13: Эр | E13: 16 | F13: 88.888889 | G13: VII
A14: S001592 | B14: 11-в | C14: Өгөөмөр[Батса/1592] | D14: Эр | E14: 16 | F14: 88.888889 | G14: VII
A15: S001595 | B15: 11-в | C15: Даваалхам[Энхба/1595] | D15: Эм | E15: 13 | F15: 72.222222 | G15: VI
A16: S005080 | B16: 11-в | C16: Марал[Мөнхб/5080] | D16: Эм | E16: 16 | F16: 88.888889 | G16: VII
A17: S001603 | B17: 11-в | C17: Марал-Эрдэнэ[Мэндб/1603] | D17: Эм | E17: 15 | F17: 83.333333 | G17: VII
A18: S001631 | B18: 11-в | C18: Маргад[Тэгшт/1631] | D18: Эм | E18: 13 | F18: 72.222222 | G18: VI
A19: S004694 | B19: 11-в | C19: Мөнхбаяр[Бямба/4694] | D19: Эр | E19: 15 | F19: 83.333333 | G19: VII
A20: S002924 | B20: 11-в | C20: Мөнхболд[Сорон/2924] | D20: Эр | E20: 17 | F20: 94.444444 | G20: VIII
... A41: S002951 | B41: 11-в | C41: Энхжав[Энхба/2951] | D41: Эр | E41: 16 | F41: 88.888889 | G41: VII
A42: S001622 | B42: 11-в | C42: Энхжин[Золжа/1622] | D42: Эм
A43: S001621 | B43: 11-в | C43: Энхмаа[Сэнгэ/1621] | D43: Эм | E43: 16 | F43: 88.888889 | G43: VII
A44: S001633 | B44: 11-в | C44: Энхцэлмэг[Бямба/1633] | D44: Эм | E44: 17 | F44: 94.444444 | G44: VIII
A45: S002923 | B45: 11-в | C45: Эрдэнэчимэг[Хашхү/2923] | D45: Эм
A49: VIII | B49: 11-в | C49: 12
A50: VII | B50: 11-в | C50: 19
A51: VI | B51: 11-в | C51: 5
A52: V | B52: 11-в | C52: 2
A53: IV | B53: 11-в | C53: 1
A54: III | B54: 11-в | C54: 0
A55: II | B55: 11-в | C55: 0
A56: I | B56: 11-в | C56: 0
A57: Амжилт | B57: 11-в | C57: 0.97435897
A58: Чанар | B58: 11-в | C58: 0.79487179

Sheet 11г
A1: НИЙСЛЭЛИЙН ЕРӨНХИЙ БОЛОВСРОЛЫН ЛАБОРАТОРИ 23 ДУГААР СУРГУУЛИЙН 11-Р АНГИЙН ГАЗАРЗҮЙН ХИЧЭЭЛИЙН ХАГАС ЖИЛИЙН МЭДЛЭГ ЧАДВАРЫН СОРИЛ
E2: 2019-2020 ОНЫ ХИЧЭЭЛИЙН ЖИЛ
A3: Код | B3: Анги, бүлэг | C3: Сурагчийн нэр | D3: Хүйс | E3: Авсан оноо | F3: Үнэлгээ | G3: Үнэлгээний түвшин
A4: S001684 | B4: 11-г | C4: Алтанбагана[Мөнхт/1684] | D4: Эр | E4: 17 | F4: 94.444444 | G4: VIII
A5: S001666 | B5: 11-г | C5: Анужин[Равда/1666] | D5: Эм | E5: 14 | F5: 77.777778 | G5: VI
A6: S001663 | B6: 11-г | C6: Бадамхатан[Мягма/1663] | D6: Эм | E6: 16 | F6: 88.888889 | G6: VII
A7: S001665 | B7: 11-г | C7: Батбаян[Мөнхб/1665] | D7: Эр | E7: 11 | F7: 61.111111 | G7: V
A8: S001661 | B8: 11-г | C8: Галбадрах[Пүрэв/1661] | D8: Эр | E8: 6 | F8: 33.333333 | G8: II
A9: S003033 | B9: 11-г | C9: Ганцэцэг[Хүрэл/3033] | D9: Эм | E9: 16 | F9: 88.888889 | G9: VII
A10: S003618 | B10: 11-г | C10: Дөлгөөн[Чулуу/3618] | D10: Эр
A11: S001686 | B11: 11-г | C11: Дуламсүрэн[Тэрби/1686] | D11: Эм | E11: 12 | F11: 66.666667 | G11: V
A12: S001683 | B12: 11-г | C12: Жавхлан[Батмө/1683] | D12: Эм | E12: 17 | F12: 94.444444 | G12: VIII
A13: S005106 | B13: 11-г | C13: Индра[Баянц/5106] | D13: Эм | E13: 14 | F13: 77.777778 | G13: VI
A14: S001681 | B14: 11-г | C14: Мишээл[Оргил/1681] | D14: Эм | E14: 15 | F14: 83.333333 | G14: VII
A15: S001645 | B15: 11-г | C15: Мишээл[Төрмө/1645] | D15: Эм | E15: 15 | F15: 83.333333 | G15: VII
A16: S001682 | B16: 11-г | C16: Мөнхжин[Баярб/1682] | D16: Эм | E16: 12 | F16: 66.666667 | G16: V
A17: S002898 | B17: 11-г | C17: Мөнх-Оргил[Ганзу/2898] | D17: Эр | E17: 7 | F17: 38.888889 | G17: II
A18: S003058 | B18: 11-г | C18: Мөнхцэцэг[Ганба/3058] | D18: Эм | E18: 16 | F18: 88.888889 | G18: VII
A19: S006341 | B19: 11-г | C19: Номин[Бярза/6341] | D19: Эм | E19: 16 | F19: 88.888889 | G19: VII
A20: S001667 | B20: 11-г | C20: Номин[Ганбо/1667] | D20: Эм | E20: 15 | F20: 83.333333 | G20: VII
A21: S003034 | B21: 11-г | C21: Номин[Галба/3034] | D21: Эм | E21: 18 | F21: 100 | G21: VIII
A22: S003059 | B22: 11-г | C22: Номинтөгс[Батза/3059] | D22: Эм | E22: 13 | F22: 72.222222 | G22: VI
... A33: S005109 | B33: 11-г | C33: Сувданчимэг[Батбо/5109] | D33: Эм | E33: 17 | F33: 94.444444 | G33: VIII
A34: s006725 | B34: 11-г | C34: Сүмбом[Юухио/6725]
A35: S006250 | B35: 11-г | C35: Тавилан[Батдо/6250] | D35: Эр | E35: 15 | F35: 83.333333 | G35: VII
A36: S001672 | B36: 11-г | C36: Төрболд[Хүрэл/1672] | D36: Эр
A37: S002901 | B37: 11-г | C37: Тэмүүжин[Төмөр/2901] | D37: Эр | E37: 15 | F37: 83.333333 | G37: VII
A38: S001673 | B38: 11-г | C38: Тэмүүжин[Чимэг/1673] | D38: Эр | E38: 16 | F38: 88.888889 | G38: VII
A39: S001647 | B39: 11-г | C39: Тэмүүжин[Ганту/1647] | D39: Эр | E39: 11 | F39: 61.111111 | G39: V
A40: S005762 | B40: 11-г | C40: Ууганбаяр[Бямба/5762] | D40: Эр | E40: 15 | F40: 83.333333 | G40: VII
A41: S005108 | B41: 11-г | C41: Үүрийнтуяа[Санса/5108] | D41: Эм | E41: 16 | F41: 88.888889 | G41: VII
A42: S002899 | B42: 11-г | C42: Учрал[Пүрэв/2899] | D42: Эм | E42: 16 | F42: 88.888889 | G42: VII
A43: S005768 | B43: 11-г | C43: Уянга[Ням/5768] | D43: Эм | E43: 14 | F43: 77.777778 | G43: VI
A44: S003619 | B44: 11-г | C44: Халиун[Басба/3619] | D44: Эм | E44: 16 | F44: 88.888889 | G44: VII
A45: S004671 | B45: 11-г | C45: Хүслэн[Бааса/4671] | D45: Эм | E45: 16 | F45: 88.888889 | G45: VII
A46: S001678 | B46: 11-г | C46: Хүслэн[Батбу/1678] | D46: Эм | E46: 15 | F46: 83.333333 | G46: VII
A47: S002896 | B47: 11-г | C47: Цалгиун[Бат-Ө/2896] | D47: Эр | E47: 13 | F47: 72.222222 | G47: VI
A48: S001670 | B48: 11-г | C48: Энхгэрэл[Мөнхб/1670] | D48: Эм | E48: 15 | F48: 83.333333 | G48: VII
... A51: S001688 | B51: 11-г | C51: Эрхэс[Гэрэл/1688] | D51: Эр | E51: 11 | F51: 61.111111 | G51: V
A56: VIII | B56: 11-г | C56: 7
...

Sheet 11Д
A1: НИЙСЛЭЛИЙН ЕРӨНХИЙ БОЛОВСРОЛЫН ЛАБОРАТОРИ 23 ДУГААР СУРГУУЛИЙН 11-Р АНГИЙН ГАЗАРЗҮЙН ХИЧЭЭЛИЙН ХАГАС ЖИЛИЙН МЭДЛЭГ ЧАДВАРЫН СОРИЛ
E2: 2019-2020 ОНЫ ХИЧЭЭЛИЙН ЖИЛ
A3: Код | B3: Анги, бүлэг | C3: Сурагчийн нэр | D3: Хүйс | E3: Авсан оноо | F3: Үнэлгээ | G3: Үнэлгээний түвшин
A4: S001702 | B4: 11-д | C4: Анар[Дагва/1702] | D4: Эр | E4: 15 | F4: 83.333333 | G4: VII
A5: S001715 | B5: 11-д | C5: Ангараг[Алтан/1715] | D5: Эр | E5: 16 | F5: 88.888889 | G5: VII
A6: S002955 | B6: 11-д | C6: Анужин[Алтан/2955] | D6: Эм | E6: 15 | F6: 83.333333 | G6: VII
A7: S001714 | B7: 11-д | C7: Анужин[Ганзо/1714] | D7: Эм | E7: 16 | F7: 88.888889 | G7: VII
A8: S001713 | B8: 11-д | C8: Ану-Үжин[Уламб/1713] | D8: Эм | E8: 16 | F8: 88.888889 | G8: VII
A9: S001712 | B9: 11-д | C9: Аясмаа[Отгон/1712] | D9: Эм | E9: 16 | F9: 88.888889 | G9: VII
A10: S001709 | B10: 11-д | C10: Баяргүн[Баяр/1709] | D10: Эр
A11: S001707 | B11: 11-д | C11: Билгүүн[Дорж/1707] | D11: Эр | E11: 16 | F11: 88.888889 | G11: VII
A12: S002954 | B12: 11-д | C12: Буддагий[Цэрэн/2954] | D12: Эм | E12: 16 | F12: 88.888889 | G12: VII
A13: S004675 | B13: 11-д | C13: Буяндэлгэр[Мөнгө/4675] | D13: Эр
A14: S001705 | B14: 11-д | C14: Буянжаргал[Ганту/1705] | D14: Эм | E14: 16 | F14: 88.888889 | G14: VII
A15: S001691 | B15: 11-д | C15: Гантуяа[Галцо/1691] | D15: Эм | E15: 16 | F15: 88.888889 | G15: VII
A16: S001703 | B16: 11-д | C16: Дамдиндорж[Ганзо/1703] | D16: Эр
A17: S001716 | B17: 11-д | C17: Дөлгөөн[Энхтү/1716] | D17: Эр | E17: 15 | F17: 83.333333 | G17: VII
A18: S001700 | B18: 11-д | C18: Ихжаргал[Энх-А/1700] | D18: Эр | E18: 14 | F18: 77.777778 | G18: VI
A19: S001699 | B19: 11-д | C19: Лхагвадорж[Очирх/1699] | D19: Эр | E19: 14 | F19: 77.777778 | G19: VI
A20: S001697 | B20: 11-д | C20: Маралмаа[Бэхба/1697] | D20: Эм | E20: 17 | F20: 94.444444 | G20: VIII
A21: S001698 | B21: 11-д | C21: Мишээл[Ганхү/1698] | D21: Эм | E21: 16 | F21: 88.888889 | G21: VII
A22: S001695 | B22: 11-д | C22: Мөнхзаяа[Мөнхг/1695] | D22: Эм
A23: S001694 | B23: 11-д | C23: Мөнхсувд[Тамир/1694] | D23: Эм | E23: 17 | F23: 94.444444 | G23: VIII
A24: S001693 | B24: 11-д | C24: Мөнх-Эрдэнэ[Гүрсэ/1693] | D24: Эр | E24: 14 | F24: 77.777778 | G24: VI
A25: S001692 | B25: 11-д | C25: Номинчимэг[Сайнб/1692] | D25: Эм | E25: 16 | F25: 88.888889 | G25: VII
A26: S004137 | B26: 11-д | C26: Оргил[Чимэд/4137] | D26: Эр | E26: 16 | F26: 88.888889 | G26: VII
A27: S001729 | B27: 11-д | C27: Очгэрэл[Батма/1729] | D27: Эм
A28: S001704 | B28: 11-д | C28: Саруул[Сүх-Э/1704] | D28: Эм
A29: S001740 | B29: 11-д | C29: Соёмбо-Эрдэнэ[Гантө/1740] | D29: Эр | E29: 16 | F29: 88.888889 | G29: VII
A30: S001739 | B30: 11-д | C30: Сүжээта[Бааса/1739] | D30: Эм | E30: 16 | F30: 88.888889 | G30: VII
A31: S001737 | B31: 11-д | C31: Сэдбаяр[Энхба/1737] | D31: Эр
A32: S001736 | B32: 11-д | C32: Тамирсүрэн[Хатан/1736] | D32: Эм | E32: 17 | F32: 94.444444 | G32: VIII
A33: S001734 | B33: 11-д | C33: Тэмүүгэ[Жамъя/1734] | D33: Эр | E33: 15 | F33: 83.333333 | G33: VII
A34: S001717 | B34: 11-д | C34: Тэргэл[Гэрэл/1717] | D34: Эр | E34: 15 | F34: 83.333333 | G34: VII
A35: S001730 | B35: 11-д | C35: Урангоо[Монхо/1730] | D35: Эм | E35: 17 | F35: 94.444444 | G35: VIII
A36: S004673 | B36: 11-д | C36: Халиун[Пүрэв/4673] | D36: Эм | E36: 17 | F36: 94.444444 | G36: VIII
A37: S001726 | B37: 11-д | C37: Халиун[Лувса/1726] | D37: Эм
A38: S001727 | B38: 11-д | C38: Халиунаа[Болор/1727] | D38: Эм | E38: 18 | F38: 100 | G38: VIII
A39: S001725 | B39: 11-д | C39: Хонгорзул[Эрдэн/1725] | D39: Эм | E39: 17 | F39: 94.444444 | G39: VIII
A40: S004135 | B40: 11-д | C40: Хулан[Молом/4135] | D40: Эм | E40: 16 | F40: 88.888889 | G40: VII
...

Sheet Graph
B1: НИЙСЛЭЛИЙН ЕРӨНХИЙ БОЛОВСРОЛЫН ЛАБОРАТОРИ 23 ДУГААР СУРГУУЛИЙН 11-Р АНГИЙН ГАЗАРЗҮЙН ХИЧЭЭЛИЙН ХАГАС ЖИЛИЙН МЭДЛЭГ ЧАДВАРЫН СОРИЛ
J3: 2019-2020 ОНЫ ХИЧЭЭЛИЙН ЖИЛ
B4: Анги | C4: нийт | D4: VIII | E4: VII | F4: VI | G4: V | H4: IV | I4: III | J4: II | K4: I | L4: Амжилт | M4: Чанар
B5: 11-а | C5: =SUM(D5:K5) -> 42 | D5: =COUNTIFS(DATA!$G:$G,Graph!D$4,DATA!$B:$B,Graph!$B5) -> 2 | E5: =COUNTIFS(DATA!$G:$G,Graph!E$4,DATA!$B:$B,Graph!$B5) -> 19 | F5: =COUNTIFS(DATA!$G:$G,Graph!F$4,DATA!$B:$B,Graph!$B5) -> 17 | G5: =COUNTIFS(DATA!$G:$G,Graph!G$4,DATA!$B:$B,Graph!$B5) -> 3 | H5: =COUNTIFS(DATA!$G:$G,Graph!H$4,DATA!$B:$B,Graph!$B5) -> 0 | I5: =COUNTIFS(DATA!$G:$G,Graph!I$4,DATA!$B:$B,Graph!$B5) -> 0 | J5: =COUNTIFS(DATA!$G:$G,Graph!J$4,DATA!$B:$B,Graph!$B5) -> 0 | K5: =COUNTIFS(DATA!$G:$G,Graph!K$4,DATA!$B:$B,Graph!$B5) -> 1 | L5: =SUM(D5:G5)/SUM(D5:K5) -> 0.97619048 | M5: =SUM(D5:E5)/SUM(D5:K5) -> 0.5
B6: 11-б | C6: =SUM(D6:K6) -> 40 | D6: =COUNTIFS(DATA!$G:$G,Graph!D$4,DATA!$B:$B,Graph!$B6) -> 0 | E6: =COUNTIFS(DATA!$G:$G,Graph!E$4,DATA!$B:$B,Graph!$B6) -> 8 | F6: =COUNTIFS(DATA!$G:$G,Graph!F$4,DATA!$B:$B,Graph!$B6) -> 9 | G6: =COUNTIFS(DATA!$G:$G,Graph!G$4,DATA!$B:$B,Graph!$B6) -> 12 | H6: =COUNTIFS(DATA!$G:$G,Graph!H$4,DATA!$B:$B,Graph!$B6) -> 7 | I6: =COUNTIFS(DATA!$G:$G,Graph!I$4,DATA!$B:$B,Graph!$B6) -> 3 | J6: =COUNTIFS(DATA!$G:$G,Graph!J$4,DATA!$B:$B,Graph!$B6) -> 1 | K6: =COUNTIFS(DATA!$G:$G,Graph!K$4,DATA!$B:$B,Graph!$B6) -> 0 | L6: =SUM(D6:G6)/SUM(D6:K6) -> 0.725 | M6: =SUM(D6:E6)/SUM(D6:K6) -> 0.2
B7: 11-в | C7: =SUM(D7:K7) -> 39 | D7: =COUNTIFS(DATA!$G:$G,Graph!D$4,DATA!$B:$B,Graph!$B7) -> 12 | E7: =COUNTIFS(DATA!$G:$G,Graph!E$4,DATA!$B:$B,Graph!$B7) -> 19 | F7: =COUNTIFS(DATA!$G:$G,Graph!F$4,DATA!$B:$B,Graph!$B7) -> 5 | G7: =COUNTIFS(DATA!$G:$G,Graph!G$4,DATA!$B:$B,Graph!$B7) -> 2 | H7: =COUNTIFS(DATA!$G:$G,Graph!H$4,DATA!$B:$B,Graph!$B7) -> 1 | I7: =COUNTIFS(DATA!$G:$G,Graph!I$4,DATA!$B:$B,Graph!$B7) -> 0 | J7: =COUNTIFS(DATA!$G:$G,Graph!J$4,DATA!$B:$B,Graph!$B7) -> 0 | K7: =COUNTIFS(DATA!$G:$G,Graph!K$4,DATA!$B:$B,Graph!$B7) -> 0 | L7: =SUM(D7:G7)/SUM(D7:K7) -> 0.97435897 | M7: =SUM(D7:E7)/SUM(D7:K7) -> 0.79487179
B8: 11-г | C8: =SUM(D8:K8) -> 45 | D8: =COUNTIFS(DATA!$G:$G,Graph!D$4,DATA!$B:$B,Graph!$B8) -> 7 | E8: =COUNTIFS(DATA!$G:$G,Graph!E$4,DATA!$B:$B,Graph!$B8) -> 20 | F8: =COUNTIFS(DATA!$G:$G,Graph!F$4,DATA!$B:$B,Graph!$B8) -> 6 | G8: =COUNTIFS(DATA!$G:$G,Graph!G$4,DATA!$B:$B,Graph!$B8) -> 9 | H8: =COUNTIFS(DATA!$G:$G,Graph!H$4,DATA!$B:$B,Graph!$B8) -> 1 | I8: =COUNTIFS(DATA!$G:$G,Graph!I$4,DATA!$B:$B,Graph!$B8) -> 0 | J8: =COUNTIFS(DATA!$G:$G,Graph!J$4,DATA!$B:$B,Graph!$B8) -> 2 | K8: =COUNTIFS(DATA!$G:$G,Graph!K$4,DATA!$B:$B,Graph!$B8) -> 0 | L8: =SUM(D8:G8)/SUM(D8:K8) -> 0.93333333 | M8: =SUM(D8:E8)/SUM(D8:K8) -> 0.6
B9: 11-д | C9: =SUM(D9:K9) -> 31 | D9: =COUNTIFS(DATA!$G:$G,Graph!D$4,DATA!$B:$B,Graph!$B9) -> 8 | E9: =COUNTIFS(DATA!$G:$G,Graph!E$4,DATA!$B:$B,Graph!$B9) -> 20 | F9: =COUNTIFS(DATA!$G:$G,Graph!F$4,DATA!$B:$B,Graph!$B9) -> 3 | G9: =COUNTIFS(DATA!$G:$G,Graph!G$4,DATA!$B:$B,Graph!$B9) -> 0 | H9: =COUNTIFS(DATA!$G:$G,Graph!H$4,DATA!$B:$B,Graph!$B9) -> 0 | I9: =COUNTIFS(DATA!$G:$G,Graph!I$4,DATA!$B:$B,Graph!$B9) -> 0 | J9: =COUNTIFS(DATA!$G:$G,Graph!J$4,DATA!$B:$B,Graph!$B9) -> 0 | K9: =COUNTIFS(DATA!$G:$G,Graph!K$4,DATA!$B:$B,Graph!$B9) -> 0 | L9: =SUM(D9:G9)/SUM(D9:K9) -> 1 | M9: =SUM(D9:E9)/SUM(D9:K9) -> 0.90322581
B10: нийт | C10: =SUM(C5:C9) -> 197 | D10: =SUM(D5:D9) -> 29 | E10: =SUM(E5:E9) -> 86 | F10: =SUM(F5:F9) -> 40 | G10: =SUM(G5:G9) -> 26 | H10: =SUM(H5:H9) -> 9 | I10: =SUM(I5:I9) -> 3 | J10: =SUM(J5:J9) -> 3 | K10: =SUM(K5:K9) -> 1 | L10: =SUM(D10:G10)/SUM(D10:K10) -> 0.91878173 | M10: =SUM(D10:E10)/SUM(D10:K10) -> 0.58375635
